Workbook

Sheet Müşteriler
A1: Müşteri | B1: Telefon | C1: Limit | D1: Toplam veresiye | E1: Toplam ödeme | F1: Bakiye | G1: Son ödeme | H1: Durum
A2: Hasan Bey (3. kat) | B2: 0555 000 00 01 | C2: 3000 | D2: =IF(A2="","",SUMIFS(Hareketler!$E$2:$E$301,Hareketler!$B$2:$B$301,A2,Hareketler!$C$2:$C$301,"Veresiye")) | E2: =IF(A2="","",SUMIFS(Hareketler!$E$2:$E$301,Hareketler!$B$2:$B$301,A2,Hareketler!$C$2:$C$301,"Ödeme")) | F2: =IF(A2="","",D2-E2) | G2: =IF(A2="","",IF(SUMPRODUCT(MAX((Hareketler!$B$2:$B$301=A2)*(Hareketler!$C$2:$C$301="Ödeme")*Hareketler!$A$2:$A$301))=0,"",SUMPRODUCT(MAX((Hareketler!$B$2:$B$301=A2)*(Hareketler!$C$2:$C$301="Ödeme")*Hareketler!$A$2:$A$301)))) | H2: =IF(A2="","",IF(F2<=0,"Borcu yok",IF(AND(N(C2)>0,F2>C2),"Limit aşıldı","Açık hesap"))) | K2: Toplam alacak | L2: =SUMIF(F2:F61,">0")
A3: Fatma Hanım | B3: 0555 000 00 02 | C3: 2000 | D3: =IF(A3="","",SUMIFS(Hareketler!$E$2:$E$301,Hareketler!$B$2:$B$301,A3,Hareketler!$C$2:$C$301,"Veresiye")) | E3: =IF(A3="","",SUMIFS(Hareketler!$E$2:$E$301,Hareketler!$B$2:$B$301,A3,Hareketler!$C$2:$C$301,"Ödeme")) | F3: =IF(A3="","",D3-E3) | G3: =IF(A3="","",IF(SUMPRODUCT(MAX((Hareketler!$B$2:$B$301=A3)*(Hareketler!$C$2:$C$301="Ödeme")*Hareketler!$A$2:$A$301))=0,"",SUMPRODUCT(MAX((Hareketler!$B$2:$B$301=A3)*(Hareketler!$C$2:$C$301="Ödeme")*Hareketler!$A$2:$A$301)))) | H3: =IF(A3="","",IF(F3<=0,"Borcu yok",IF(AND(N(C3)>0,F3>C3),"Limit aşıldı","Açık hesap"))) | K3: Borçlu müşteri | L3: =COUNTIF(F2:F61,">0")
A4: Oto tamirci Kemal | B4: 0555 000 00 03 | C4: 5000 | D4: =IF(A4="","",SUMIFS(Hareketler!$E$2:$E$301,Hareketler!$B$2:$B$301,A4,Hareketler!$C$2:$C$301,"Veresiye")) | E4: =IF(A4="","",SUMIFS(Hareketler!$E$2:$E$301,Hareketler!$B$2:$B$301,A4,Hareketler!$C$2:$C$301,"Ödeme")) | F4: =IF(A4="","",D4-E4) | G4: =IF(A4="","",IF(SUMPRODUCT(MAX((Hareketler!$B$2:$B$301=A4)*(Hareketler!$C$2:$C$301="Ödeme")*Hareketler!$A$2:$A$301))=0,"",SUMPRODUCT(MAX((Hareketler!$B$2:$B$301=A4)*(Hareketler!$C$2:$C$301="Ödeme")*Hareketler!$A$2:$A$301)))) | H4: =IF(A4="","",IF(F4<=0,"Borcu yok",IF(AND(N(C4)>0,F4>C4),"Limit aşıldı","Açık hesap"))) | K4: Limiti aşan | L4: =COUNTIF(H2:H61,"Limit aşıldı")
A5: Selin Öğretmen | B5: 0555 000 00 04 | C5: 1500 | D5: =IF(A5="","",SUMIFS(Hareketler!$E$2:$E$301,Hareketler!$B$2:$B$301,A5,Hareketler!$C$2:$C$301,"Veresiye")) | E5: =IF(A5="","",SUMIFS(Hareketler!$E$2:$E$301,Hareketler!$B$2:$B$301,A5,Hareketler!$C$2:$C$301,"Ödeme")) | F5: =IF(A5="","",D5-E5) | G5: =IF(A5="","",IF(SUMPRODUCT(MAX((Hareketler!$B$2:$B$301=A5)*(Hareketler!$C$2:$C$301="Ödeme")*Hareketler!$A$2:$A$301))=0,"",SUMPRODUCT(MAX((Hareketler!$B$2:$B$301=A5)*(Hareketler!$C$2:$C$301="Ödeme")*Hareketler!$A$2:$A$301)))) | H5: =IF(A5="","",IF(F5<=0,"Borcu yok",IF(AND(N(C5)>0,F5>C5),"Limit aşıldı","Açık hesap"))) | K5: Müşteri başı ortalama borç | L5: =IF(L3=0,"",L2/L3)
A6: Kuaför Derya | B6: 0555 000 00 05 | C6: 1000 | D6: =IF(A6="","",SUMIFS(Hareketler!$E$2:$E$301,Hareketler!$B$2:$B$301,A6,Hareketler!$C$2:$C$301,"Veresiye")) | E6: =IF(A6="","",SUMIFS(Hareketler!$E$2:$E$301,Hareketler!$B$2:$B$301,A6,Hareketler!$C$2:$C$301,"Ödeme")) | F6: =IF(A6="","",D6-E6) | G6: =IF(A6="","",IF(SUMPRODUCT(MAX((Hareketler!$B$2:$B$301=A6)*(Hareketler!$C$2:$C$301="Ödeme")*Hareketler!$A$2:$A$301))=0,"",SUMPRODUCT(MAX((Hareketler!$B$2:$B$301=A6)*(Hareketler!$C$2:$C$301="Ödeme")*Hareketler!$A$2:$A$301)))) | H6: =IF(A6="","",IF(F6<=0,"Borcu yok",IF(AND(N(C6)>0,F6>C6),"Limit aşıldı","Açık hesap")))
D7: =IF(A7="","",SUMIFS(Hareketler!$E$2:$E$301,Hareketler!$B$2:$B$301,A7,Hareketler!$C$2:$C$301,"Veresiye")) | E7: =IF(A7="","",SUMIFS(Hareketler!$E$2:$E$301,Hareketler!$B$2:$B$301,A7,Hareketler!$C$2:$C$301,"Ödeme")) | F7: =IF(A7="","",D7-E7) | G7: =IF(A7="","",IF(SUMPRODUCT(MAX((Hareketler!$B$2:$B$301=A7)*(Hareketler!$C$2:$C$301="Ödeme")*Hareketler!$A$2:$A$301))=0,"",SUMPRODUCT(MAX((Hareketler!$B$2:$B$301=A7)*(Hareketler!$C$2:$C$301="Ödeme")*Hareketler!$A$2:$A$301)))) | H7: =IF(A7="","",IF(F7<=0,"Borcu yok",IF(AND(N(C7)>0,F7>C7),"Limit aşıldı","Açık hesap")))
D8: =IF(A8="","",SUMIFS(Hareketler!$E$2:$E$301,Hareketler!$B$2:$B$301,A8,Hareketler!$C$2:$C$301,"Veresiye")) | E8: =IF(A8="","",SUMIFS(Hareketler!$E$2:$E$301,Hareketler!$B$2:$B$301,A8,Hareketler!$C$2:$C$301,"Ödeme")) | F8: =IF(A8="","",D8-E8) | G8: =IF(A8="","",IF(SUMPRODUCT(MAX((Hareketler!$B$2:$B$301=A8)*(Hareketler!$C$2:$C$301="Ödeme")*Hareketler!$A$2:$A$301))=0,"",SUMPRODUCT(MAX((Hareketler!$B$2:$B$301=A8)*(Hareketler!$C$2:$C$301="Ödeme")*Hareketler!$A$2:$A$301)))) | H8: =IF(A8="","",IF(F8<=0,"Borcu yok",IF(AND(N(C8)>0,F8>C8),"Limit aşıldı","Açık hesap")))
D9: =IF(A9="","",SUMIFS(Hareketler!$E$2:$E$301,Hareketler!$B$2:$B$301,A9,Hareketler!$C$2:$C$301,"Veresiye")) | E9: =IF(A9="","",SUMIFS(Hareketler!$E$2:$E$301,Hareketler!$B$2:$B$301,A9,Hareketler!$C$2:$C$301,"Ödeme")) | F9: =IF(A9="","",D9-E9) | G9: =IF(A9="","",IF(SUMPRODUCT(MAX((Hareketler!$B$2:$B$301=A9)*(Hareketler!$C$2:$C$301="Ödeme")*Hareketler!$A$2:$A$301))=0,"",SUMPRODUCT(MAX((Hareketler!$B$2:$B$301=A9)*(Hareketler!$C$2:$C$301="Ödeme")*Hareketler!$A$2:$A$301)))) | H9: =IF(A9="","",IF(F9<=0,"Borcu yok",IF(AND(N(C9)>0,F9>C9),"Limit aşıldı","Açık hesap")))
D10: =IF(A10="","",SUMIFS(Hareketler!$E$2:$E$301,Hareketler!$B$2:$B$301,A10,Hareketler!$C$2:$C$301,"Veresiye")) | E10: =IF(A10="","",SUMIFS(Hareketler!$E$2:$E$301,Hareketler!$B$2:$B$301,A10,Hareketler!$C$2:$C$301,"Ödeme")) | F10: =IF(A10="","",D10-E10) | G10: =IF(A10="","",IF(SUMPRODUCT(MAX((Hareketler!$B$2:$B$301=A10)*(Hareketler!$C$2:$C$301="Ödeme")*Hareketler!$A$2:$A$301))=0,"",SUMPRODUCT(MAX((Hareketler!$B$2:$B$301=A10)*(Hareketler!$C$2:$C$301="Ödeme")*Hareketler!$A$2:$A$301)))) | H10: =IF(A10="","",IF(F10<=0,"Borcu yok",IF(AND(N(C10)>0,F10>C10),"Limit aşıldı","Açık hesap")))
D11: =IF(A11="","",SUMIFS(Hareketler!$E$2:$E$301,Hareketler!$B$2:$B$301,A11,Hareketler!$C$2:$C$301,"Veresiye")) | E11: =IF(A11="","",SUMIFS(Hareketler!$E$2:$E$301,Hareketler!$B$2:$B$301,A11,Hareketler!$C$2:$C$301,"Ödeme")) | F11: =IF(A11="","",D11-E11) | G11: =IF(A11="","",IF(SUMPRODUCT(MAX((Hareketler!$B$2:$B$301=A11)*(Hareketler!$C$2:$C$301="Ödeme")*Hareketler!$A$2:$A$301))=0,"",SUMPRODUCT(MAX((Hareketler!$B$2:$B$301=A11)*(Hareketler!$C$2:$C$301="Ödeme")*Hareketler!$A$2:$A$301)))) | H11: =IF(A11="","",IF(F11<=0,"Borcu yok",IF(AND(N(C11)>0,F11>C11),"Limit aşıldı","Açık hesap")))
D12: =IF(A12="","",SUMIFS(Hareketler!$E$2:$E$301,Hareketler!$B$2:$B$301,A12,Hareketler!$C$2:$C$301,"Veresiye")) | E12: =IF(A12="","",SUMIFS(Hareketler!$E$2:$E$301,Hareketler!$B$2:$B$301,A12,Hareketler!$C$2:$C$301,"Ödeme")) | F12: =IF(A12="","",D12-E12) | G12: =IF(A12="","",IF(SUMPRODUCT(MAX((Hareketler!$B$2:$B$301=A12)*(Hareketler!$C$2:$C$301="Ödeme")*Hareketler!$A$2:$A$301))=0,"",SUMPRODUCT(MAX((Hareketler!$B$2:$B$301=A12)*(Hareketler!$C$2:$C$301="Ödeme")*Hareketler!$A$2:$A$301)))) | H12: =IF(A12="","",IF(F12<=0,"Borcu yok",IF(AND(N(C12)>0,F12>C12),"Limit aşıldı","Açık hesap")))
D13: =IF(A13="","",SUMIFS(Hareketler!$E$2:$E$301,Hareketler!$B$2:$B$301,A13,Hareketler!$C$2:$C$301,"Veresiye")) | E13: =IF(A13="","",SUMIFS(Hareketler!$E$2:$E$301,Hareketler!$B$2:$B$301,A13,Hareketler!$C$2:$C$301,"Ödeme")) | F13: =IF(A13="","",D13-E13) | G13: =IF(A13="","",IF(SUMPRODUCT(MAX((Hareketler!$B$2:$B$301=A13)*(Hareketler!$C$2:$C$301="Ödeme")*Hareketler!$A$2:$A$301))=0,"",SUMPRODUCT(MAX((Hareketler!$B$2:$B$301=A13)*(Hareketler!$C$2:$C$301="Ödeme")*Hareketler!$A$2:$A$301)))) | H13: =IF(A13="","",IF(F13<=0,"Borcu yok",IF(AND(N(C13)>0,F13>C13),"Limit aşıldı","Açık hesap")))
D14: =IF(A14="","",SUMIFS(Hareketler!$E$2:$E$301,Hareketler!$B$2:$B$301,A14,Hareketler!$C$2:$C$301,"Veresiye")) | E14: =IF(A14="","",SUMIFS(Hareketler!$E$2:$E$301,Hareketler!$B$2:$B$301,A14,Hareketler!$C$2:$C$301,"Ödeme")) | F14: =IF(A14="","",D14-E14) | G14: =IF(A14="","",IF(SUMPRODUCT(MAX((Hareketler!$B$2:$B$301=A14)*(Hareketler!$C$2:$C$301="Ödeme")*Hareketler!$A$2:$A$301))=0,"",SUMPRODUCT(MAX((Hareketler!$B$2:$B$301=A14)*(Hareketler!$C$2:$C$301="Ödeme")*Hareketler!$A$2:$A$301)))) | H14: =IF(A14="","",IF(F14<=0,"Borcu yok",IF(AND(N(C14)>0,F14>C14),"Limit aşıldı","Açık hesap")))
D15: =IF(A15="","",SUMIFS(Hareketler!$E$2:$E$301,Hareketler!$B$2:$B$301,A15,Hareketler!$C$2:$C$301,"Veresiye")) | E15: =IF(A15="","",SUMIFS(Hareketler!$E$2:$E$301,Hareketler!$B$2:$B$301,A15,Hareketler!$C$2:$C$301,"Ödeme")) | F15: =IF(A15="","",D15-E15) | G15: =IF(A15="","",IF(SUMPRODUCT(MAX((Hareketler!$B$2:$B$301=A15)*(Hareketler!$C$2:$C$301="Ödeme")*Hareketler!$A$2:$A$301))=0,"",SUMPRODUCT(MAX((Hareketler!$B$2:$B$301=A15)*(Hareketler!$C$2:$C$301="Ödeme")*Hareketler!$A$2:$A$301)))) | H15: =IF(A15="","",IF(F15<=0,"Borcu yok",IF(AND(N(C15)>0,F15>C15),"Limit aşıldı","Açık hesap")))
D16: =IF(A16="","",SUMIFS(Hareketler!$E$2:$E$301,Hareketler!$B$2:$B$301,A16,Hareketler!$C$2:$C$301,"Veresiye")) | E16: =IF(A16="","",SUMIFS(Hareketler!$E$2:$E$301,Hareketler!$B$2:$B$301,A16,Hareketler!$C$2:$C$301,"Ödeme")) | F16: =IF(A16="","",D16-E16) | G16: =IF(A16="","",IF(SUMPRODUCT(MAX((Hareketler!$B$2:$B$301=A16)*(Hareketler!$C$2:$C$301="Ödeme")*Hareketler!$A$2:$A$301))=0,"",SUMPRODUCT(MAX((Hareketler!$B$2:$B$301=A16)*(Hareketler!$C$2:$C$301="Ödeme")*Hareketler!$A$2:$A$301)))) | H16: =IF(A16="","",IF(F16<=0,"Borcu yok",IF(AND(N(C16)>0,F16>C16),"Limit aşıldı","Açık hesap")))
D17: =IF(A17="","",SUMIFS(Hareketler!$E$2:$E$301,Hareketler!$B$2:$B$301,A17,Hareketler!$C$2:$C$301,"Veresiye")) | E17: =IF(A17="","",SUMIFS(Hareketler!$E$2:$E$301,Hareketler!$B$2:$B$301,A17,Hareketler!$C$2:$C$301,"Ödeme")) | F17: =IF(A17="","",D17-E17) | G17: =IF(A17="","",IF(SUMPRODUCT(MAX((Hareketler!$B$2:$B$301=A17)*(Hareketler!$C$2:$C$301="Ödeme")*Hareketler!$A$2:$A$301))=0,"",SUMPRODUCT(MAX((Hareketler!$B$2:$B$301=A17)*(Hareketler!$C$2:$C$301="Ödeme")*Hareketler!$A$2:$A$301)))) | H17: =IF(A17="","",IF(F17<=0,"Borcu yok",IF(AND(N(C17)>0,F17>C17),"Limit aşıldı","Açık hesap")))
D18: =IF(A18="","",SUMIFS(Hareketler!$E$2:$E$301,Hareketler!$B$2:$B$301,A18,Hareketler!$C$2:$C$301,"Veresiye")) | E18: =IF(A18="","",SUMIFS(Hareketler!$E$2:$E$301,Hareketler!$B$2:$B$301,A18,Hareketler!$C$2:$C$301,"Ödeme")) | F18: =IF(A18="","",D18-E18) | G18: =IF(A18="","",IF(SUMPRODUCT(MAX((Hareketler!$B$2:$B$301=A18)*(Hareketler!$C$2:$C$301="Ödeme")*Hareketler!$A$2:$A$301))=0,"",SUMPRODUCT(MAX((Hareketler!$B$2:$B$301=A18)*(Hareketler!$C$2:$C$301="Ödeme")*Hareketler!$A$2:$A$301)))) | H18: =IF(A18="","",IF(F18<=0,"Borcu yok",IF(AND(N(C18)>0,F18>C18),"Limit aşıldı","Açık hesap")))
... D61: =IF(A61="","",SUMIFS(Hareketler!$E$2:$E$301,Hareketler!$B$2:$B$301,A61,Hareketler!$C$2:$C$301,"Veresiye")) | E61: =IF(A61="","",SUMIFS(Hareketler!$E$2:$E$301,Hareketler!$B$2:$B$301,A61,Hareketler!$C$2:$C$301,"Ödeme")) | F61: =IF(A61="","",D61-E61) | G61: =IF(A61="","",IF(SUMPRODUCT(MAX((Hareketler!$B$2:$B$301=A61)*(Hareketler!$C$2:$C$301="Ödeme")*Hareketler!$A$2:$A$301))=0,"",SUMPRODUCT(MAX((Hareketler!$B$2:$B$301=A61)*(Hareketler!$C$2:$C$301="Ödeme")*Hareketler!$A$2:$A$301)))) | H61: =IF(A61="","",IF(F61<=0,"Borcu yok",IF(AND(N(C61)>0,F61>C61),"Limit aşıldı","Açık hesap")))

Sheet Hareketler
A1: Tarih | B1: Müşteri | C1: İşlem | D1: Açıklama | E1: Tutar | F1: Müşteri bakiyesi
A2: 46267 | B2: Hasan Bey (3. kat) | C2: Veresiye | D2: Ekmek, süt, yumurta | E2: 420 | F2: =IF(B2="","",SUMIFS($E$2:E2,$B$2:B2,B2,$C$2:C2,"Veresiye")-SUMIFS($E$2:E2,$B$2:B2,B2,$C$2:C2,"Ödeme"))
A3: 46268 | B3: Oto tamirci Kemal | C3: Veresiye | D3: Çay, şeker, deterjan | E3: 1350 | F3: =IF(B3="","",SUMIFS($E$2:E3,$B$2:B3,B3,$C$2:C3,"Veresiye")-SUMIFS($E$2:E3,$B$2:B3,B3,$C$2:C3,"Ödeme"))
A4: 46271 | B4: Fatma Hanım | C4: Veresiye | D4: Haftalık alışveriş | E4: 860 | F4: =IF(B4="","",SUMIFS($E$2:E4,$B$2:B4,B4,$C$2:C4,"Veresiye")-SUMIFS($E$2:E4,$B$2:B4,B4,$C$2:C4,"Ödeme"))
A5: 46274 | B5: Hasan Bey (3. kat) | C5: Veresiye | D5: Peynir, zeytin | E5: 690 | F5: =IF(B5="","",SUMIFS($E$2:E5,$B$2:B5,B5,$C$2:C5,"Veresiye")-SUMIFS($E$2:E5,$B$2:B5,B5,$C$2:C5,"Ödeme"))
A6: 46277 | B6: Selin Öğretmen | C6: Veresiye | D6: Su, meyve | E6: 310 | F6: =IF(B6="","",SUMIFS($E$2:E6,$B$2:B6,B6,$C$2:C6,"Veresiye")-SUMIFS($E$2:E6,$B$2:B6,B6,$C$2:C6,"Ödeme"))
A7: 46280 | B7: Hasan Bey (3. kat) | C7: Ödeme | D7: Nakit | E7: 1000 | F7: =IF(B7="","",SUMIFS($E$2:E7,$B$2:B7,B7,$C$2:C7,"Veresiye")-SUMIFS($E$2:E7,$B$2:B7,B7,$C$2:C7,"Ödeme"))
A8: 46281 | B8: Oto tamirci Kemal | C8: Veresiye | D8: Atölye için temizlik malzemesi | E8: 2280 | F8: =IF(B8="","",SUMIFS($E$2:E8,$B$2:B8,B8,$C$2:C8,"Veresiye")-SUMIFS($E$2:E8,$B$2:B8,B8,$C$2:C8,"Ödeme"))
A9: 46285 | B9: Kuaför Derya | C9: Veresiye | D9: Kahve, kurabiye | E9: 540 | F9: =IF(B9="","",SUMIFS($E$2:E9,$B$2:B9,B9,$C$2:C9,"Veresiye")-SUMIFS($E$2:E9,$B$2:B9,B9,$C$2:C9,"Ödeme"))
A10: 46290 | B10: Fatma Hanım | C10: Ödeme | D10: Havale | E10: 860 | F10: =IF(B10="","",SUMIFS($E$2:E10,$B$2:B10,B10,$C$2:C10,"Veresiye")-SUMIFS($E$2:E10,$B$2:B10,B10,$C$2:C10,"Ödeme"))
A11: 46293 | B11: Oto tamirci Kemal | C11: Veresiye | D11: Çay, su | E11: 1640 | F11: =IF(B11="","",SUMIFS($E$2:E11,$B$2:B11,B11,$C$2:C11,"Veresiye")-SUMIFS($E$2:E11,$B$2:B11,B11,$C$2:C11,"Ödeme"))
A12: 46296 | B12: Hasan Bey (3. kat) | C12: Veresiye | D12: Haftalık alışveriş | E12: 1240 | F12: =IF(B12="","",SUMIFS($E$2:E12,$B$2:B12,B12,$C$2:C12,"Veresiye")-SUMIFS($E$2:E12,$B$2:B12,B12,$C$2:C12,"Ödeme"))
A13: 46297 | B13: Selin Öğretmen | C13: Ödeme | D13: Nakit | E13: 310 | F13: =IF(B13="","",SUMIFS($E$2:E13,$B$2:B13,B13,$C$2:C13,"Veresiye")-SUMIFS($E$2:E13,$B$2:B13,B13,$C$2:C13,"Ödeme"))
... A17: 46309 | B17: Hasan Bey (3. kat) | C17: Veresiye | D17: Yağ, un, makarna | E17: 1150 | F17: =IF(B17="","",SUMIFS($E$2:E17,$B$2:B17,B17,$C$2:C17,"Veresiye")-SUMIFS($E$2:E17,$B$2:B17,B17,$C$2:C17,"Ödeme"))
F18: =IF(B18="","",SUMIFS($E$2:E18,$B$2:B18,B18,$C$2:C18,"Veresiye")-SUMIFS($E$2:E18,$B$2:B18,B18,$C$2:C18,"Ödeme"))
F19: =IF(B19="","",SUMIFS($E$2:E19,$B$2:B19,B19,$C$2:C19,"Veresiye")-SUMIFS($E$2:E19,$B$2:B19,B19,$C$2:C19,"Ödeme"))
F20: =IF(B20="","",SUMIFS($E$2:E20,$B$2:B20,B20,$C$2:C20,"Veresiye")-SUMIFS($E$2:E20,$B$2:B20,B20,$C$2:C20,"Ödeme"))
F21: =IF(B21="","",SUMIFS($E$2:E21,$B$2:B21,B21,$C$2:C21,"Veresiye")-SUMIFS($E$2:E21,$B$2:B21,B21,$C$2:C21,"Ödeme"))
F22: =IF(B22="","",SUMIFS($E$2:E22,$B$2:B22,B22,$C$2:C22,"Veresiye")-SUMIFS($E$2:E22,$B$2:B22,B22,$C$2:C22,"Ödeme"))
F23: =IF(B23="","",SUMIFS($E$2:E23,$B$2:B23,B23,$C$2:C23,"Veresiye")-SUMIFS($E$2:E23,$B$2:B23,B23,$C$2:C23,"Ödeme"))
F24: =IF(B24="","",SUMIFS($E$2:E24,$B$2:B24,B24,$C$2:C24,"Veresiye")-SUMIFS($E$2:E24,$B$2:B24,B24,$C$2:C24,"Ödeme"))
F25: =IF(B25="","",SUMIFS($E$2:E25,$B$2:B25,B25,$C$2:C25,"Veresiye")-SUMIFS($E$2:E25,$B$2:B25,B25,$C$2:C25,"Ödeme"))
F26: =IF(B26="","",SUMIFS($E$2:E26,$B$2:B26,B26,$C$2:C26,"Veresiye")-SUMIFS($E$2:E26,$B$2:B26,B26,$C$2:C26,"Ödeme"))
F27: =IF(B27="","",SUMIFS($E$2:E27,$B$2:B27,B27,$C$2:C27,"Veresiye")-SUMIFS($E$2:E27,$B$2:B27,B27,$C$2:C27,"Ödeme"))
F28: =IF(B28="","",SUMIFS($E$2:E28,$B$2:B28,B28,$C$2:C28,"Veresiye")-SUMIFS($E$2:E28,$B$2:B28,B28,$C$2:C28,"Ödeme"))
F29: =IF(B29="","",SUMIFS($E$2:E29,$B$2:B29,B29,$C$2:C29,"Veresiye")-SUMIFS($E$2:E29,$B$2:B29,B29,$C$2:C29,"Ödeme"))
... F301: =IF(B301="","",SUMIFS($E$2:E301,$B$2:B301,B301,$C$2:C301,"Veresiye")-SUMIFS($E$2:E301,$B$2:B301,B301,$C$2:C301,"Ödeme"))
