Workbook

Sheet Çizelge
A1: Personel | B1: Görev | C1: Pazartesi | D1: Salı | E1: Çarşamba | F1: Perşembe | G1: Cuma | H1: Cumartesi | I1: Pazar | J1: Toplam saat | K1: Çalışılan gün | L1: Gece vardiyası | M1: Hedef saat | N1: Fark
A2: Ayhan Kurt | B2: Vardiya sorumlusu | C2: Ara | D2: Ara | E2: Ara | F2: Ara | G2: Ara | H2: İzin | I2: İzin | J2: =IF(A2="","",SUMPRODUCT(COUNTIF(C2:I2,Vardiyalar!$A$2:$A$11),Vardiyalar!$E$2:$E$11)) | K2: =IF(A2="","",COUNTA(C2:I2)-COUNTIF(C2:I2,"İzin")-COUNTIF(C2:I2,"Rapor")) | L2: =IF(A2="","",COUNTIF(C2:I2,"Gece")) | M2: 37.5 | N2: =IF(OR(A2="",M2=""),"",J2-M2) | P2: Hafta başlangıcı (pazartesi) | Q2: 46328
A3: Berk Aslan | B3: Kasa | C3: Sabah | D3: Sabah | E3: Sabah | F3: Sabah | G3: Sabah | H3: İzin | I3: İzin | J3: =IF(A3="","",SUMPRODUCT(COUNTIF(C3:I3,Vardiyalar!$A$2:$A$11),Vardiyalar!$E$2:$E$11)) | K3: =IF(A3="","",COUNTA(C3:I3)-COUNTIF(C3:I3,"İzin")-COUNTIF(C3:I3,"Rapor")) | L3: =IF(A3="","",COUNTIF(C3:I3,"Gece")) | M3: 37.5 | N3: =IF(OR(A3="",M3=""),"",J3-M3) | P3: Hafta sonu | Q3: =Q2+6
A4: Ceren Tuna | B4: Kasa | C4: İzin | D4: İzin | E4: Sabah | F4: Sabah | G4: Sabah | H4: Sabah | I4: Sabah | J4: =IF(A4="","",SUMPRODUCT(COUNTIF(C4:I4,Vardiyalar!$A$2:$A$11),Vardiyalar!$E$2:$E$11)) | K4: =IF(A4="","",COUNTA(C4:I4)-COUNTIF(C4:I4,"İzin")-COUNTIF(C4:I4,"Rapor")) | L4: =IF(A4="","",COUNTIF(C4:I4,"Gece")) | M4: 37.5 | N4: =IF(OR(A4="",M4=""),"",J4-M4) | P4: Toplam planlanan saat | Q4: =SUM(J2:J31)
A5: Dilek Aksoy | B5: Reyon | C5: Akşam | D5: Akşam | E5: Akşam | F5: Akşam | G5: Akşam | H5: İzin | I5: İzin | J5: =IF(A5="","",SUMPRODUCT(COUNTIF(C5:I5,Vardiyalar!$A$2:$A$11),Vardiyalar!$E$2:$E$11)) | K5: =IF(A5="","",COUNTA(C5:I5)-COUNTIF(C5:I5,"İzin")-COUNTIF(C5:I5,"Rapor")) | L5: =IF(A5="","",COUNTIF(C5:I5,"Gece")) | M5: 37.5 | N5: =IF(OR(A5="",M5=""),"",J5-M5) | P5: Hedefin altında kalan | Q5: =COUNTIF(N2:N31,"<0")
A6: Eren Kılıç | B6: Reyon | C6: İzin | D6: İzin | E6: Akşam | F6: Akşam | G6: Akşam | H6: Akşam | I6: Akşam | J6: =IF(A6="","",SUMPRODUCT(COUNTIF(C6:I6,Vardiyalar!$A$2:$A$11),Vardiyalar!$E$2:$E$11)) | K6: =IF(A6="","",COUNTA(C6:I6)-COUNTIF(C6:I6,"İzin")-COUNTIF(C6:I6,"Rapor")) | L6: =IF(A6="","",COUNTIF(C6:I6,"Gece")) | M6: 37.5 | N6: =IF(OR(A6="",M6=""),"",J6-M6) | P6: Eksik kalan vardiya | Q6: =SUM(Kapsama!J2:J5)
A7: Fikret Ay | B7: Güvenlik | C7: Gece | D7: Gece | E7: Gece | F7: Gece | G7: Gece | H7: İzin | I7: İzin | J7: =IF(A7="","",SUMPRODUCT(COUNTIF(C7:I7,Vardiyalar!$A$2:$A$11),Vardiyalar!$E$2:$E$11)) | K7: =IF(A7="","",COUNTA(C7:I7)-COUNTIF(C7:I7,"İzin")-COUNTIF(C7:I7,"Rapor")) | L7: =IF(A7="","",COUNTIF(C7:I7,"Gece")) | M7: 37.5 | N7: =IF(OR(A7="",M7=""),"",J7-M7)
A8: Gamze Er | B8: Kasa | C8: İzin | D8: İzin | E8: Gece | F8: Gece | G8: Gece | H8: Gece | I8: Gece | J8: =IF(A8="","",SUMPRODUCT(COUNTIF(C8:I8,Vardiyalar!$A$2:$A$11),Vardiyalar!$E$2:$E$11)) | K8: =IF(A8="","",COUNTA(C8:I8)-COUNTIF(C8:I8,"İzin")-COUNTIF(C8:I8,"Rapor")) | L8: =IF(A8="","",COUNTIF(C8:I8,"Gece")) | M8: 37.5 | N8: =IF(OR(A8="",M8=""),"",J8-M8)
A9: Hande Işık | B9: Reyon | C9: Sabah | D9: Akşam | E9: İzin | F9: İzin | G9: Sabah | H9: Akşam | I9: Sabah | J9: =IF(A9="","",SUMPRODUCT(COUNTIF(C9:I9,Vardiyalar!$A$2:$A$11),Vardiyalar!$E$2:$E$11)) | K9: =IF(A9="","",COUNTA(C9:I9)-COUNTIF(C9:I9,"İzin")-COUNTIF(C9:I9,"Rapor")) | L9: =IF(A9="","",COUNTIF(C9:I9,"Gece")) | M9: 37.5 | N9: =IF(OR(A9="",M9=""),"",J9-M9)
J10: =IF(A10="","",SUMPRODUCT(COUNTIF(C10:I10,Vardiyalar!$A$2:$A$11),Vardiyalar!$E$2:$E$11)) | K10: =IF(A10="","",COUNTA(C10:I10)-COUNTIF(C10:I10,"İzin")-COUNTIF(C10:I10,"Rapor")) | L10: =IF(A10="","",COUNTIF(C10:I10,"Gece")) | N10: =IF(OR(A10="",M10=""),"",J10-M10)
J11: =IF(A11="","",SUMPRODUCT(COUNTIF(C11:I11,Vardiyalar!$A$2:$A$11),Vardiyalar!$E$2:$E$11)) | K11: =IF(A11="","",COUNTA(C11:I11)-COUNTIF(C11:I11,"İzin")-COUNTIF(C11:I11,"Rapor")) | L11: =IF(A11="","",COUNTIF(C11:I11,"Gece")) | N11: =IF(OR(A11="",M11=""),"",J11-M11)
J12: =IF(A12="","",SUMPRODUCT(COUNTIF(C12:I12,Vardiyalar!$A$2:$A$11),Vardiyalar!$E$2:$E$11)) | K12: =IF(A12="","",COUNTA(C12:I12)-COUNTIF(C12:I12,"İzin")-COUNTIF(C12:I12,"Rapor")) | L12: =IF(A12="","",COUNTIF(C12:I12,"Gece")) | N12: =IF(OR(A12="",M12=""),"",J12-M12)
J13: =IF(A13="","",SUMPRODUCT(COUNTIF(C13:I13,Vardiyalar!$A$2:$A$11),Vardiyalar!$E$2:$E$11)) | K13: =IF(A13="","",COUNTA(C13:I13)-COUNTIF(C13:I13,"İzin")-COUNTIF(C13:I13,"Rapor")) | L13: =IF(A13="","",COUNTIF(C13:I13,"Gece")) | N13: =IF(OR(A13="",M13=""),"",J13-M13)
J14: =IF(A14="","",SUMPRODUCT(COUNTIF(C14:I14,Vardiyalar!$A$2:$A$11),Vardiyalar!$E$2:$E$11)) | K14: =IF(A14="","",COUNTA(C14:I14)-COUNTIF(C14:I14,"İzin")-COUNTIF(C14:I14,"Rapor")) | L14: =IF(A14="","",COUNTIF(C14:I14,"Gece")) | N14: =IF(OR(A14="",M14=""),"",J14-M14)
J15: =IF(A15="","",SUMPRODUCT(COUNTIF(C15:I15,Vardiyalar!$A$2:$A$11),Vardiyalar!$E$2:$E$11)) | K15: =IF(A15="","",COUNTA(C15:I15)-COUNTIF(C15:I15,"İzin")-COUNTIF(C15:I15,"Rapor")) | L15: =IF(A15="","",COUNTIF(C15:I15,"Gece")) | N15: =IF(OR(A15="",M15=""),"",J15-M15)
J16: =IF(A16="","",SUMPRODUCT(COUNTIF(C16:I16,Vardiyalar!$A$2:$A$11),Vardiyalar!$E$2:$E$11)) | K16: =IF(A16="","",COUNTA(C16:I16)-COUNTIF(C16:I16,"İzin")-COUNTIF(C16:I16,"Rapor")) | L16: =IF(A16="","",COUNTIF(C16:I16,"Gece")) | N16: =IF(OR(A16="",M16=""),"",J16-M16)
J17: =IF(A17="","",SUMPRODUCT(COUNTIF(C17:I17,Vardiyalar!$A$2:$A$11),Vardiyalar!$E$2:$E$11)) | K17: =IF(A17="","",COUNTA(C17:I17)-COUNTIF(C17:I17,"İzin")-COUNTIF(C17:I17,"Rapor")) | L17: =IF(A17="","",COUNTIF(C17:I17,"Gece")) | N17: =IF(OR(A17="",M17=""),"",J17-M17)
J18: =IF(A18="","",SUMPRODUCT(COUNTIF(C18:I18,Vardiyalar!$A$2:$A$11),Vardiyalar!$E$2:$E$11)) | K18: =IF(A18="","",COUNTA(C18:I18)-COUNTIF(C18:I18,"İzin")-COUNTIF(C18:I18,"Rapor")) | L18: =IF(A18="","",COUNTIF(C18:I18,"Gece")) | N18: =IF(OR(A18="",M18=""),"",J18-M18)
J19: =IF(A19="","",SUMPRODUCT(COUNTIF(C19:I19,Vardiyalar!$A$2:$A$11),Vardiyalar!$E$2:$E$11)) | K19: =IF(A19="","",COUNTA(C19:I19)-COUNTIF(C19:I19,"İzin")-COUNTIF(C19:I19,"Rapor")) | L19: =IF(A19="","",COUNTIF(C19:I19,"Gece")) | N19: =IF(OR(A19="",M19=""),"",J19-M19)
J20: =IF(A20="","",SUMPRODUCT(COUNTIF(C20:I20,Vardiyalar!$A$2:$A$11),Vardiyalar!$E$2:$E$11)) | K20: =IF(A20="","",COUNTA(C20:I20)-COUNTIF(C20:I20,"İzin")-COUNTIF(C20:I20,"Rapor")) | L20: =IF(A20="","",COUNTIF(C20:I20,"Gece")) | N20: =IF(OR(A20="",M20=""),"",J20-M20)
J21: =IF(A21="","",SUMPRODUCT(COUNTIF(C21:I21,Vardiyalar!$A$2:$A$11),Vardiyalar!$E$2:$E$11)) | K21: =IF(A21="","",COUNTA(C21:I21)-COUNTIF(C21:I21,"İzin")-COUNTIF(C21:I21,"Rapor")) | L21: =IF(A21="","",COUNTIF(C21:I21,"Gece")) | N21: =IF(OR(A21="",M21=""),"",J21-M21)
... J31: =IF(A31="","",SUMPRODUCT(COUNTIF(C31:I31,Vardiyalar!$A$2:$A$11),Vardiyalar!$E$2:$E$11)) | K31: =IF(A31="","",COUNTA(C31:I31)-COUNTIF(C31:I31,"İzin")-COUNTIF(C31:I31,"Rapor")) | L31: =IF(A31="","",COUNTIF(C31:I31,"Gece")) | N31: =IF(OR(A31="",M31=""),"",J31-M31)

Sheet Vardiyalar
A1: Vardiya | B1: Başlangıç saati | C1: Bitiş saati | D1: Mola (saat) | E1: Net süre (saat)
A2: Sabah | B2: 7 | C2: 15 | D2: 0.5 | E2: =IF(A2="","",MOD(N(C2)-N(B2),24)-N(D2))
A3: Akşam | B3: 15 | C3: 23 | D3: 0.5 | E3: =IF(A3="","",MOD(N(C3)-N(B3),24)-N(D3))
A4: Gece | B4: 23 | C4: 7 | D4: 0.5 | E4: =IF(A4="","",MOD(N(C4)-N(B4),24)-N(D4))
A5: Ara | B5: 10 | C5: 18 | D5: 1 | E5: =IF(A5="","",MOD(N(C5)-N(B5),24)-N(D5))
A6: İzin | B6: 0 | C6: 0 | D6: 0 | E6: =IF(A6="","",MOD(N(C6)-N(B6),24)-N(D6))
A7: Rapor | B7: 0 | C7: 0 | D7: 0 | E7: =IF(A7="","",MOD(N(C7)-N(B7),24)-N(D7))
E8: =IF(A8="","",MOD(N(C8)-N(B8),24)-N(D8))
E9: =IF(A9="","",MOD(N(C9)-N(B9),24)-N(D9))
E10: =IF(A10="","",MOD(N(C10)-N(B10),24)-N(D10))
E11: =IF(A11="","",MOD(N(C11)-N(B11),24)-N(D11))

Sheet Kapsama
A1: Vardiya | B1: Gerekli kişi | C1: Pazartesi | D1: Salı | E1: Çarşamba | F1: Perşembe | G1: Cuma | H1: Cumartesi | I1: Pazar | J1: Eksik gün
A2: Sabah | B2: 2 | C2: =COUNTIF(Çizelge!C$2:C$31,$A2) | D2: =COUNTIF(Çizelge!D$2:D$31,$A2) | E2: =COUNTIF(Çizelge!E$2:E$31,$A2) | F2: =COUNTIF(Çizelge!F$2:F$31,$A2) | G2: =COUNTIF(Çizelge!G$2:G$31,$A2) | H2: =COUNTIF(Çizelge!H$2:H$31,$A2) | I2: =COUNTIF(Çizelge!I$2:I$31,$A2) | J2: =SUMPRODUCT(--(C2:I2<B2))
A3: Akşam | B3: 2 | C3: =COUNTIF(Çizelge!C$2:C$31,$A3) | D3: =COUNTIF(Çizelge!D$2:D$31,$A3) | E3: =COUNTIF(Çizelge!E$2:E$31,$A3) | F3: =COUNTIF(Çizelge!F$2:F$31,$A3) | G3: =COUNTIF(Çizelge!G$2:G$31,$A3) | H3: =COUNTIF(Çizelge!H$2:H$31,$A3) | I3: =COUNTIF(Çizelge!I$2:I$31,$A3) | J3: =SUMPRODUCT(--(C3:I3<B3))
A4: Gece | B4: 1 | C4: =COUNTIF(Çizelge!C$2:C$31,$A4) | D4: =COUNTIF(Çizelge!D$2:D$31,$A4) | E4: =COUNTIF(Çizelge!E$2:E$31,$A4) | F4: =COUNTIF(Çizelge!F$2:F$31,$A4) | G4: =COUNTIF(Çizelge!G$2:G$31,$A4) | H4: =COUNTIF(Çizelge!H$2:H$31,$A4) | I4: =COUNTIF(Çizelge!I$2:I$31,$A4) | J4: =SUMPRODUCT(--(C4:I4<B4))
A5: Ara | B5: 1 | C5: =COUNTIF(Çizelge!C$2:C$31,$A5) | D5: =COUNTIF(Çizelge!D$2:D$31,$A5) | E5: =COUNTIF(Çizelge!E$2:E$31,$A5) | F5: =COUNTIF(Çizelge!F$2:F$31,$A5) | G5: =COUNTIF(Çizelge!G$2:G$31,$A5) | H5: =COUNTIF(Çizelge!H$2:H$31,$A5) | I5: =COUNTIF(Çizelge!I$2:I$31,$A5) | J5: =SUMPRODUCT(--(C5:I5<B5))
