Workbook

Sheet Siparişler
A1: Sipariş no | B1: Tarih | C1: Müşteri | D1: Kanal | E1: Ürün | F1: Adet | G1: Birim fiyat | H1: Tutar | I1: Kargo firması | J1: Takip no | K1: Durum | L1: Kargoya veriliş | M1: Teslim tarihi | N1: Hazırlık (iş günü) | O1: Uyarı
A2: S-1001 | B2: 46296 | C2: Merve K. | D2: Web sitesi | E2: Lavanta mum seti | F2: 2 | G2: 450 | H2: =IF(OR(F2="",G2=""),"",F2*G2) | I2: Kargo A | J2: TK100001 | K2: Teslim edildi | L2: 46297 | M2: 46300 | N2: =IF(OR(B2="",L2=""),"",NETWORKDAYS(B2,L2)-1) | O2: =IF(OR(A2="",B2=""),"",IF(AND(L2="",OR(K2="Yeni",K2="Hazırlanıyor"),NETWORKDAYS(B2,TODAY())-1>Özet!$J$2),"Gecikti",IF(AND(K2="Kargoda",L2<>"",TODAY()-L2>Özet!$J$3),"Teslimatı kontrol et","")))
A3: S-1002 | B3: 46296 | C3: Onur T. | D3: Pazaryeri | E3: Zeytinyağlı sabun (6'lı) | F3: 1 | G3: 320 | H3: =IF(OR(F3="",G3=""),"",F3*G3) | I3: Kargo B | J3: TK100002 | K3: Teslim edildi | L3: 46298 | M3: 46301 | N3: =IF(OR(B3="",L3=""),"",NETWORKDAYS(B3,L3)-1) | O3: =IF(OR(A3="",B3=""),"",IF(AND(L3="",OR(K3="Yeni",K3="Hazırlanıyor"),NETWORKDAYS(B3,TODAY())-1>Özet!$J$2),"Gecikti",IF(AND(K3="Kargoda",L3<>"",TODAY()-L3>Özet!$J$3),"Teslimatı kontrol et","")))
A4: S-1003 | B4: 46298 | C4: Seda A. | D4: Instagram | E4: Kişiye özel mum | F4: 3 | G4: 380 | H4: =IF(OR(F4="",G4=""),"",F4*G4) | I4: Kargo A | J4: TK100003 | K4: Teslim edildi | L4: 46301 | M4: 46303 | N4: =IF(OR(B4="",L4=""),"",NETWORKDAYS(B4,L4)-1) | O4: =IF(OR(A4="",B4=""),"",IF(AND(L4="",OR(K4="Yeni",K4="Hazırlanıyor"),NETWORKDAYS(B4,TODAY())-1>Özet!$J$2),"Gecikti",IF(AND(K4="Kargoda",L4<>"",TODAY()-L4>Özet!$J$3),"Teslimatı kontrol et","")))
A5: S-1004 | B5: 46300 | C5: Kaan Y. | D5: Pazaryeri | E5: Lavanta mum seti | F5: 1 | G5: 450 | H5: =IF(OR(F5="",G5=""),"",F5*G5) | I5: Kargo B | J5: TK100004 | K5: İade | L5: 46301 | M5: 46304 | N5: =IF(OR(B5="",L5=""),"",NETWORKDAYS(B5,L5)-1) | O5: =IF(OR(A5="",B5=""),"",IF(AND(L5="",OR(K5="Yeni",K5="Hazırlanıyor"),NETWORKDAYS(B5,TODAY())-1>Özet!$J$2),"Gecikti",IF(AND(K5="Kargoda",L5<>"",TODAY()-L5>Özet!$J$3),"Teslimatı kontrol et","")))
A6: S-1005 | B6: 46302 | C6: Ece D. | D6: Web sitesi | E6: Hediye kutusu | F6: 1 | G6: 780 | H6: =IF(OR(F6="",G6=""),"",F6*G6) | I6: Kargo A | J6: TK100005 | K6: Teslim edildi | L6: 46303 | M6: 46305 | N6: =IF(OR(B6="",L6=""),"",NETWORKDAYS(B6,L6)-1) | O6: =IF(OR(A6="",B6=""),"",IF(AND(L6="",OR(K6="Yeni",K6="Hazırlanıyor"),NETWORKDAYS(B6,TODAY())-1>Özet!$J$2),"Gecikti",IF(AND(K6="Kargoda",L6<>"",TODAY()-L6>Özet!$J$3),"Teslimatı kontrol et","")))
A7: S-1006 | B7: 46303 | C7: Burcu S. | D7: WhatsApp/Telefon | E7: Zeytinyağlı sabun (6'lı) | F7: 4 | G7: 300 | H7: =IF(OR(F7="",G7=""),"",F7*G7) | I7: Kargo A | J7: TK100006 | K7: Teslim edildi | L7: 46307 | M7: 46309 | N7: =IF(OR(B7="",L7=""),"",NETWORKDAYS(B7,L7)-1) | O7: =IF(OR(A7="",B7=""),"",IF(AND(L7="",OR(K7="Yeni",K7="Hazırlanıyor"),NETWORKDAYS(B7,TODAY())-1>Özet!$J$2),"Gecikti",IF(AND(K7="Kargoda",L7<>"",TODAY()-L7>Özet!$J$3),"Teslimatı kontrol et","")))
A8: S-1007 | B8: 46305 | C8: Tolga E. | D8: Pazaryeri | E8: Oda kokusu | F8: 2 | G8: 260 | H8: =IF(OR(F8="",G8=""),"",F8*G8) | K8: İptal | N8: =IF(OR(B8="",L8=""),"",NETWORKDAYS(B8,L8)-1) | O8: =IF(OR(A8="",B8=""),"",IF(AND(L8="",OR(K8="Yeni",K8="Hazırlanıyor"),NETWORKDAYS(B8,TODAY())-1>Özet!$J$2),"Gecikti",IF(AND(K8="Kargoda",L8<>"",TODAY()-L8>Özet!$J$3),"Teslimatı kontrol et","")))
A9: S-1008 | B9: 46308 | C9: Aslı Ö. | D9: Instagram | E9: Hediye kutusu | F9: 2 | G9: 780 | H9: =IF(OR(F9="",G9=""),"",F9*G9) | I9: Kargo B | J9: TK100008 | K9: Teslim edildi | L9: 46311 | M9: 46314 | N9: =IF(OR(B9="",L9=""),"",NETWORKDAYS(B9,L9)-1) | O9: =IF(OR(A9="",B9=""),"",IF(AND(L9="",OR(K9="Yeni",K9="Hazırlanıyor"),NETWORKDAYS(B9,TODAY())-1>Özet!$J$2),"Gecikti",IF(AND(K9="Kargoda",L9<>"",TODAY()-L9>Özet!$J$3),"Teslimatı kontrol et","")))
A10: S-1009 | B10: 46310 | C10: Deniz G. | D10: Web sitesi | E10: Kişiye özel mum | F10: 1 | G10: 380 | H10: =IF(OR(F10="",G10=""),"",F10*G10) | I10: Kargo A | J10: TK100009 | K10: Kargoda | L10: 46311 | N10: =IF(OR(B10="",L10=""),"",NETWORKDAYS(B10,L10)-1) | O10: =IF(OR(A10="",B10=""),"",IF(AND(L10="",OR(K10="Yeni",K10="Hazırlanıyor"),NETWORKDAYS(B10,TODAY())-1>Özet!$J$2),"Gecikti",IF(AND(K10="Kargoda",L10<>"",TODAY()-L10>Özet!$J$3),"Teslimatı kontrol et","")))
A11: S-1010 | B11: 46311 | C11: Cansu B. | D11: Mağaza | E11: Lavanta mum seti | F11: 1 | G11: 450 | H11: =IF(OR(F11="",G11=""),"",F11*G11) | K11: Teslim edildi | M11: 46311 | N11: =IF(OR(B11="",L11=""),"",NETWORKDAYS(B11,L11)-1) | O11: =IF(OR(A11="",B11=""),"",IF(AND(L11="",OR(K11="Yeni",K11="Hazırlanıyor"),NETWORKDAYS(B11,TODAY())-1>Özet!$J$2),"Gecikti",IF(AND(K11="Kargoda",L11<>"",TODAY()-L11>Özet!$J$3),"Teslimatı kontrol et","")))
A12: S-1011 | B12: 46314 | C12: Emre P. | D12: Pazaryeri | E12: Oda kokusu | F12: 3 | G12: 260 | H12: =IF(OR(F12="",G12=""),"",F12*G12) | I12: Kargo B | J12: TK100011 | K12: Kargoda | L12: 46315 | N12: =IF(OR(B12="",L12=""),"",NETWORKDAYS(B12,L12)-1) | O12: =IF(OR(A12="",B12=""),"",IF(AND(L12="",OR(K12="Yeni",K12="Hazırlanıyor"),NETWORKDAYS(B12,TODAY())-1>Özet!$J$2),"Gecikti",IF(AND(K12="Kargoda",L12<>"",TODAY()-L12>Özet!$J$3),"Teslimatı kontrol et","")))
A13: S-1012 | B13: 46315 | C13: Gizem H. | D13: Web sitesi | E13: Zeytinyağlı sabun (6'lı) | F13: 2 | G13: 320 | H13: =IF(OR(F13="",G13=""),"",F13*G13) | K13: Hazırlanıyor | N13: =IF(OR(B13="",L13=""),"",NETWORKDAYS(B13,L13)-1) | O13: =IF(OR(A13="",B13=""),"",IF(AND(L13="",OR(K13="Yeni",K13="Hazırlanıyor"),NETWORKDAYS(B13,TODAY())-1>Özet!$J$2),"Gecikti",IF(AND(K13="Kargoda",L13<>"",TODAY()-L13>Özet!$J$3),"Teslimatı kontrol et","")))
A14: S-1013 | B14: 46316 | C14: Hakan M. | D14: Instagram | E14: Kişiye özel mum | F14: 5 | G14: 360 | H14: =IF(OR(F14="",G14=""),"",F14*G14) | K14: Hazırlanıyor | N14: =IF(OR(B14="",L14=""),"",NETWORKDAYS(B14,L14)-1) | O14: =IF(OR(A14="",B14=""),"",IF(AND(L14="",OR(K14="Yeni",K14="Hazırlanıyor"),NETWORKDAYS(B14,TODAY())-1>Özet!$J$2),"Gecikti",IF(AND(K14="Kargoda",L14<>"",TODAY()-L14>Özet!$J$3),"Teslimatı kontrol et","")))
A15: S-1014 | B15: 46317 | C15: İrem N. | D15: Pazaryeri | E15: Hediye kutusu | F15: 1 | G15: 780 | H15: =IF(OR(F15="",G15=""),"",F15*G15) | K15: Yeni | N15: =IF(OR(B15="",L15=""),"",NETWORKDAYS(B15,L15)-1) | O15: =IF(OR(A15="",B15=""),"",IF(AND(L15="",OR(K15="Yeni",K15="Hazırlanıyor"),NETWORKDAYS(B15,TODAY())-1>Özet!$J$2),"Gecikti",IF(AND(K15="Kargoda",L15<>"",TODAY()-L15>Özet!$J$3),"Teslimatı kontrol et","")))
A16: S-1015 | B16: 46318 | C16: Kübra L. | D16: Web sitesi | E16: Lavanta mum seti | F16: 2 | G16: 450 | H16: =IF(OR(F16="",G16=""),"",F16*G16) | K16: Yeni | N16: =IF(OR(B16="",L16=""),"",NETWORKDAYS(B16,L16)-1) | O16: =IF(OR(A16="",B16=""),"",IF(AND(L16="",OR(K16="Yeni",K16="Hazırlanıyor"),NETWORKDAYS(B16,TODAY())-1>Özet!$J$2),"Gecikti",IF(AND(K16="Kargoda",L16<>"",TODAY()-L16>Özet!$J$3),"Teslimatı kontrol et","")))
H17: =IF(OR(F17="",G17=""),"",F17*G17) | N17: =IF(OR(B17="",L17=""),"",NETWORKDAYS(B17,L17)-1) | O17: =IF(OR(A17="",B17=""),"",IF(AND(L17="",OR(K17="Yeni",K17="Hazırlanıyor"),NETWORKDAYS(B17,TODAY())-1>Özet!$J$2),"Gecikti",IF(AND(K17="Kargoda",L17<>"",TODAY()-L17>Özet!$J$3),"Teslimatı kontrol et","")))
H18: =IF(OR(F18="",G18=""),"",F18*G18) | N18: =IF(OR(B18="",L18=""),"",NETWORKDAYS(B18,L18)-1) | O18: =IF(OR(A18="",B18=""),"",IF(AND(L18="",OR(K18="Yeni",K18="Hazırlanıyor"),NETWORKDAYS(B18,TODAY())-1>Özet!$J$2),"Gecikti",IF(AND(K18="Kargoda",L18<>"",TODAY()-L18>Özet!$J$3),"Teslimatı kontrol et","")))
H19: =IF(OR(F19="",G19=""),"",F19*G19) | N19: =IF(OR(B19="",L19=""),"",NETWORKDAYS(B19,L19)-1) | O19: =IF(OR(A19="",B19=""),"",IF(AND(L19="",OR(K19="Yeni",K19="Hazırlanıyor"),NETWORKDAYS(B19,TODAY())-1>Özet!$J$2),"Gecikti",IF(AND(K19="Kargoda",L19<>"",TODAY()-L19>Özet!$J$3),"Teslimatı kontrol et","")))
H20: =IF(OR(F20="",G20=""),"",F20*G20) | N20: =IF(OR(B20="",L20=""),"",NETWORKDAYS(B20,L20)-1) | O20: =IF(OR(A20="",B20=""),"",IF(AND(L20="",OR(K20="Yeni",K20="Hazırlanıyor"),NETWORKDAYS(B20,TODAY())-1>Özet!$J$2),"Gecikti",IF(AND(K20="Kargoda",L20<>"",TODAY()-L20>Özet!$J$3),"Teslimatı kontrol et","")))
H21: =IF(OR(F21="",G21=""),"",F21*G21) | N21: =IF(OR(B21="",L21=""),"",NETWORKDAYS(B21,L21)-1) | O21: =IF(OR(A21="",B21=""),"",IF(AND(L21="",OR(K21="Yeni",K21="Hazırlanıyor"),NETWORKDAYS(B21,TODAY())-1>Özet!$J$2),"Gecikti",IF(AND(K21="Kargoda",L21<>"",TODAY()-L21>Özet!$J$3),"Teslimatı kontrol et","")))
H22: =IF(OR(F22="",G22=""),"",F22*G22) | N22: =IF(OR(B22="",L22=""),"",NETWORKDAYS(B22,L22)-1) | O22: =IF(OR(A22="",B22=""),"",IF(AND(L22="",OR(K22="Yeni",K22="Hazırlanıyor"),NETWORKDAYS(B22,TODAY())-1>Özet!$J$2),"Gecikti",IF(AND(K22="Kargoda",L22<>"",TODAY()-L22>Özet!$J$3),"Teslimatı kontrol et","")))
H23: =IF(OR(F23="",G23=""),"",F23*G23) | N23: =IF(OR(B23="",L23=""),"",NETWORKDAYS(B23,L23)-1) | O23: =IF(OR(A23="",B23=""),"",IF(AND(L23="",OR(K23="Yeni",K23="Hazırlanıyor"),NETWORKDAYS(B23,TODAY())-1>Özet!$J$2),"Gecikti",IF(AND(K23="Kargoda",L23<>"",TODAY()-L23>Özet!$J$3),"Teslimatı kontrol et","")))
H24: =IF(OR(F24="",G24=""),"",F24*G24) | N24: =IF(OR(B24="",L24=""),"",NETWORKDAYS(B24,L24)-1) | O24: =IF(OR(A24="",B24=""),"",IF(AND(L24="",OR(K24="Yeni",K24="Hazırlanıyor"),NETWORKDAYS(B24,TODAY())-1>Özet!$J$2),"Gecikti",IF(AND(K24="Kargoda",L24<>"",TODAY()-L24>Özet!$J$3),"Teslimatı kontrol et","")))
H25: =IF(OR(F25="",G25=""),"",F25*G25) | N25: =IF(OR(B25="",L25=""),"",NETWORKDAYS(B25,L25)-1) | O25: =IF(OR(A25="",B25=""),"",IF(AND(L25="",OR(K25="Yeni",K25="Hazırlanıyor"),NETWORKDAYS(B25,TODAY())-1>Özet!$J$2),"Gecikti",IF(AND(K25="Kargoda",L25<>"",TODAY()-L25>Özet!$J$3),"Teslimatı kontrol et","")))
H26: =IF(OR(F26="",G26=""),"",F26*G26) | N26: =IF(OR(B26="",L26=""),"",NETWORKDAYS(B26,L26)-1) | O26: =IF(OR(A26="",B26=""),"",IF(AND(L26="",OR(K26="Yeni",K26="Hazırlanıyor"),NETWORKDAYS(B26,TODAY())-1>Özet!$J$2),"Gecikti",IF(AND(K26="Kargoda",L26<>"",TODAY()-L26>Özet!$J$3),"Teslimatı kontrol et","")))
H27: =IF(OR(F27="",G27=""),"",F27*G27) | N27: =IF(OR(B27="",L27=""),"",NETWORKDAYS(B27,L27)-1) | O27: =IF(OR(A27="",B27=""),"",IF(AND(L27="",OR(K27="Yeni",K27="Hazırlanıyor"),NETWORKDAYS(B27,TODAY())-1>Özet!$J$2),"Gecikti",IF(AND(K27="Kargoda",L27<>"",TODAY()-L27>Özet!$J$3),"Teslimatı kontrol et","")))
H28: =IF(OR(F28="",G28=""),"",F28*G28) | N28: =IF(OR(B28="",L28=""),"",NETWORKDAYS(B28,L28)-1) | O28: =IF(OR(A28="",B28=""),"",IF(AND(L28="",OR(K28="Yeni",K28="Hazırlanıyor"),NETWORKDAYS(B28,TODAY())-1>Özet!$J$2),"Gecikti",IF(AND(K28="Kargoda",L28<>"",TODAY()-L28>Özet!$J$3),"Teslimatı kontrol et","")))
... H301: =IF(OR(F301="",G301=""),"",F301*G301) | N301: =IF(OR(B301="",L301=""),"",NETWORKDAYS(B301,L301)-1) | O301: =IF(OR(A301="",B301=""),"",IF(AND(L301="",OR(K301="Yeni",K301="Hazırlanıyor"),NETWORKDAYS(B301,TODAY())-1>Özet!$J$2),"Gecikti",IF(AND(K301="Kargoda",L301<>"",TODAY()-L301>Özet!$J$3),"Teslimatı kontrol et","")))

Sheet Özet
A1: Kanal | B1: Sipariş | C1: Ciro (iptal ve iade hariç) | D1: Ortalama sepet | E1: İade
A2: Web sitesi | B2: =COUNTIF(Siparişler!$D$2:$D$301,A2) | C2: =SUMIFS(Siparişler!$H$2:$H$301,Siparişler!$D$2:$D$301,A2,Siparişler!$K$2:$K$301,"<>İptal",Siparişler!$K$2:$K$301,"<>İade") | D2: =IF(COUNTIFS(Siparişler!$D$2:$D$301,A2,Siparişler!$K$2:$K$301,"<>İptal",Siparişler!$K$2:$K$301,"<>İade")=0,"",C2/COUNTIFS(Siparişler!$D$2:$D$301,A2,Siparişler!$K$2:$K$301,"<>İptal",Siparişler!$K$2:$K$301,"<>İade")) | E2: =COUNTIFS(Siparişler!$D$2:$D$301,A2,Siparişler!$K$2:$K$301,"İade") | I2: Hedef hazırlık süresi (iş günü) | J2: 2
A3: Pazaryeri | B3: =COUNTIF(Siparişler!$D$2:$D$301,A3) | C3: =SUMIFS(Siparişler!$H$2:$H$301,Siparişler!$D$2:$D$301,A3,Siparişler!$K$2:$K$301,"<>İptal",Siparişler!$K$2:$K$301,"<>İade") | D3: =IF(COUNTIFS(Siparişler!$D$2:$D$301,A3,Siparişler!$K$2:$K$301,"<>İptal",Siparişler!$K$2:$K$301,"<>İade")=0,"",C3/COUNTIFS(Siparişler!$D$2:$D$301,A3,Siparişler!$K$2:$K$301,"<>İptal",Siparişler!$K$2:$K$301,"<>İade")) | E3: =COUNTIFS(Siparişler!$D$2:$D$301,A3,Siparişler!$K$2:$K$301,"İade") | I3: Kargoda bekleme sınırı (gün) | J3: 5
A4: Instagram | B4: =COUNTIF(Siparişler!$D$2:$D$301,A4) | C4: =SUMIFS(Siparişler!$H$2:$H$301,Siparişler!$D$2:$D$301,A4,Siparişler!$K$2:$K$301,"<>İptal",Siparişler!$K$2:$K$301,"<>İade") | D4: =IF(COUNTIFS(Siparişler!$D$2:$D$301,A4,Siparişler!$K$2:$K$301,"<>İptal",Siparişler!$K$2:$K$301,"<>İade")=0,"",C4/COUNTIFS(Siparişler!$D$2:$D$301,A4,Siparişler!$K$2:$K$301,"<>İptal",Siparişler!$K$2:$K$301,"<>İade")) | E4: =COUNTIFS(Siparişler!$D$2:$D$301,A4,Siparişler!$K$2:$K$301,"İade")
A5: WhatsApp/Telefon | B5: =COUNTIF(Siparişler!$D$2:$D$301,A5) | C5: =SUMIFS(Siparişler!$H$2:$H$301,Siparişler!$D$2:$D$301,A5,Siparişler!$K$2:$K$301,"<>İptal",Siparişler!$K$2:$K$301,"<>İade") | D5: =IF(COUNTIFS(Siparişler!$D$2:$D$301,A5,Siparişler!$K$2:$K$301,"<>İptal",Siparişler!$K$2:$K$301,"<>İade")=0,"",C5/COUNTIFS(Siparişler!$D$2:$D$301,A5,Siparişler!$K$2:$K$301,"<>İptal",Siparişler!$K$2:$K$301,"<>İade")) | E5: =COUNTIFS(Siparişler!$D$2:$D$301,A5,Siparişler!$K$2:$K$301,"İade") | I5: Geciken sipariş | J5: =COUNTIF(Siparişler!$O$2:$O$301,"Gecikti")
A6: Mağaza | B6: =COUNTIF(Siparişler!$D$2:$D$301,A6) | C6: =SUMIFS(Siparişler!$H$2:$H$301,Siparişler!$D$2:$D$301,A6,Siparişler!$K$2:$K$301,"<>İptal",Siparişler!$K$2:$K$301,"<>İade") | D6: =IF(COUNTIFS(Siparişler!$D$2:$D$301,A6,Siparişler!$K$2:$K$301,"<>İptal",Siparişler!$K$2:$K$301,"<>İade")=0,"",C6/COUNTIFS(Siparişler!$D$2:$D$301,A6,Siparişler!$K$2:$K$301,"<>İptal",Siparişler!$K$2:$K$301,"<>İade")) | E6: =COUNTIFS(Siparişler!$D$2:$D$301,A6,Siparişler!$K$2:$K$301,"İade") | I6: Teslimatı kontrol edilecek | J6: =COUNTIF(Siparişler!$O$2:$O$301,"Teslimatı kontrol et")
A7: Toplam | B7: =SUM(B2:B6) | C7: =SUM(C2:C6) | D7: =IF(B7-SUM(E2:E6)-COUNTIF(Siparişler!$K$2:$K$301,"İptal")=0,"",C7/(B7-SUM(E2:E6)-COUNTIF(Siparişler!$K$2:$K$301,"İptal"))) | E7: =SUM(E2:E6) | I7: İade oranı | J7: =IF(B7=0,"",E7/B7)
I8: Ortalama hazırlık (iş günü) | J8: =IF(COUNT(Siparişler!$N$2:$N$301)=0,"",AVERAGE(Siparişler!$N$2:$N$301))
I10: Yeni | J10: =COUNTIF(Siparişler!$K$2:$K$301,"Yeni")
I11: Hazırlanıyor | J11: =COUNTIF(Siparişler!$K$2:$K$301,"Hazırlanıyor")
I12: Kargoda | J12: =COUNTIF(Siparişler!$K$2:$K$301,"Kargoda")
I13: Teslim edildi | J13: =COUNTIF(Siparişler!$K$2:$K$301,"Teslim edildi")
I14: İade | J14: =COUNTIF(Siparişler!$K$2:$K$301,"İade")
I15: İptal | J15: =COUNTIF(Siparişler!$K$2:$K$301,"İptal")
