Workbook

Sheet Satışlar
A1: Tarih | B1: Sipariş no | C1: Bölge | D1: Temsilci | E1: Ürün grubu | F1: Adet | G1: Birim fiyat | H1: İskonto | I1: Tutar
A2: 46205 | B2: S-1001 | C2: Marmara | D2: Ayşe K. | E2: Ofis mobilyası | F2: 4 | G2: 6500 | H2: 0 | I2: =IF(A2="","",F2*G2*(1-H2))
A3: 46208 | B3: S-1002 | C3: Ege | D3: Mert D. | E3: Aydınlatma | F3: 12 | G3: 850 | H3: 0.05 | I3: =IF(A3="","",F3*G3*(1-H3))
A4: 46212 | B4: S-1003 | C4: İç Anadolu | D4: Selin A. | E4: Kırtasiye | F4: 150 | G4: 42 | H4: 0 | I4: =IF(A4="","",F4*G4*(1-H4))
A5: 46215 | B5: S-1004 | C5: Marmara | D5: Burak T. | E5: Elektronik | F5: 6 | G5: 7200 | H5: 0.1 | I5: =IF(A5="","",F5*G5*(1-H5))
A6: 46221 | B6: S-1005 | C6: Akdeniz | D6: Mert D. | E6: Ofis mobilyası | F6: 3 | G6: 6500 | H6: 0 | I6: =IF(A6="","",F6*G6*(1-H6))
A7: 46226 | B7: S-1006 | C7: Karadeniz | D7: Selin A. | E7: Aydınlatma | F7: 20 | G7: 850 | H7: 0.1 | I7: =IF(A7="","",F7*G7*(1-H7))
A8: 46231 | B8: S-1007 | C8: Marmara | D8: Ayşe K. | E8: Kırtasiye | F8: 300 | G8: 42 | H8: 0.05 | I8: =IF(A8="","",F8*G8*(1-H8))
A9: 46237 | B9: S-1008 | C9: Ege | D9: Burak T. | E9: Elektronik | F9: 4 | G9: 7200 | H9: 0 | I9: =IF(A9="","",F9*G9*(1-H9))
A10: 46240 | B10: S-1009 | C10: Marmara | D10: Ayşe K. | E10: Ofis mobilyası | F10: 8 | G10: 6500 | H10: 0.1 | I10: =IF(A10="","",F10*G10*(1-H10))
A11: 46245 | B11: S-1010 | C11: İç Anadolu | D11: Selin A. | E11: Aydınlatma | F11: 15 | G11: 850 | H11: 0 | I11: =IF(A11="","",F11*G11*(1-H11))
A12: 46248 | B12: S-1011 | C12: Akdeniz | D12: Mert D. | E12: Kırtasiye | F12: 200 | G12: 42 | H12: 0 | I12: =IF(A12="","",F12*G12*(1-H12))
A13: 46253 | B13: S-1012 | C13: Karadeniz | D13: Burak T. | E13: Ofis mobilyası | F13: 2 | G13: 6500 | H13: 0 | I13: =IF(A13="","",F13*G13*(1-H13))
... A23: 46295 | B23: S-1022 | C23: Marmara | D23: Mert D. | E23: Aydınlatma | F23: 18 | G23: 850 | H23: 0 | I23: =IF(A23="","",F23*G23*(1-H23))
I24: =IF(A24="","",F24*G24*(1-H24))
I25: =IF(A25="","",F25*G25*(1-H25))
I26: =IF(A26="","",F26*G26*(1-H26))
I27: =IF(A27="","",F27*G27*(1-H27))
I28: =IF(A28="","",F28*G28*(1-H28))
I29: =IF(A29="","",F29*G29*(1-H29))
I30: =IF(A30="","",F30*G30*(1-H30))
I31: =IF(A31="","",F31*G31*(1-H31))
I32: =IF(A32="","",F32*G32*(1-H32))
I33: =IF(A33="","",F33*G33*(1-H33))
I34: =IF(A34="","",F34*G34*(1-H34))
I35: =IF(A35="","",F35*G35*(1-H35))
... I201: =IF(A201="","",F201*G201*(1-H201))

Sheet Özet
A1: Ay | B1: Ay başı | C1: Satış tutarı | D1: Sipariş | E1: Ortalama sipariş | G1: Temsilci | H1: Satış tutarı
A2: Temmuz 2026 | B2: 46204 | C2: =SUMIFS(Satışlar!$I:$I,Satışlar!$A:$A,">="&B2,Satışlar!$A:$A,"<"&EDATE(B2,1)) | D2: =COUNTIFS(Satışlar!$A:$A,">="&B2,Satışlar!$A:$A,"<"&EDATE(B2,1)) | E2: =IF(D2=0,0,C2/D2) | G2: Ayşe K. | H2: =SUMIFS(Satışlar!$I:$I,Satışlar!$D:$D,G2)
A3: Ağustos 2026 | B3: 46235 | C3: =SUMIFS(Satışlar!$I:$I,Satışlar!$A:$A,">="&B3,Satışlar!$A:$A,"<"&EDATE(B3,1)) | D3: =COUNTIFS(Satışlar!$A:$A,">="&B3,Satışlar!$A:$A,"<"&EDATE(B3,1)) | E3: =IF(D3=0,0,C3/D3) | G3: Mert D. | H3: =SUMIFS(Satışlar!$I:$I,Satışlar!$D:$D,G3)
A4: Eylül 2026 | B4: 46266 | C4: =SUMIFS(Satışlar!$I:$I,Satışlar!$A:$A,">="&B4,Satışlar!$A:$A,"<"&EDATE(B4,1)) | D4: =COUNTIFS(Satışlar!$A:$A,">="&B4,Satışlar!$A:$A,"<"&EDATE(B4,1)) | E4: =IF(D4=0,0,C4/D4) | G4: Selin A. | H4: =SUMIFS(Satışlar!$I:$I,Satışlar!$D:$D,G4)
A5: Ekim 2026 | B5: 46296 | C5: =SUMIFS(Satışlar!$I:$I,Satışlar!$A:$A,">="&B5,Satışlar!$A:$A,"<"&EDATE(B5,1)) | D5: =COUNTIFS(Satışlar!$A:$A,">="&B5,Satışlar!$A:$A,"<"&EDATE(B5,1)) | E5: =IF(D5=0,0,C5/D5) | G5: Burak T. | H5: =SUMIFS(Satışlar!$I:$I,Satışlar!$D:$D,G5)
A6: Kasım 2026 | B6: 46327 | C6: =SUMIFS(Satışlar!$I:$I,Satışlar!$A:$A,">="&B6,Satışlar!$A:$A,"<"&EDATE(B6,1)) | D6: =COUNTIFS(Satışlar!$A:$A,">="&B6,Satışlar!$A:$A,"<"&EDATE(B6,1)) | E6: =IF(D6=0,0,C6/D6)
A7: Aralık 2026 | B7: 46357 | C7: =SUMIFS(Satışlar!$I:$I,Satışlar!$A:$A,">="&B7,Satışlar!$A:$A,"<"&EDATE(B7,1)) | D7: =COUNTIFS(Satışlar!$A:$A,">="&B7,Satışlar!$A:$A,"<"&EDATE(B7,1)) | E7: =IF(D7=0,0,C7/D7)
A8: Toplam | C8: =SUM(C2:C7) | D8: =SUM(D2:D7) | E8: =IF(D8=0,0,C8/D8) | G8: En büyük sipariş | H8: =MAX(Satışlar!$I:$I)
G9: Toplam satılan adet | H9: =SUM(Satışlar!$F:$F)
G10: Ofis mobilyası satışı | H10: =SUMIFS(Satışlar!$I:$I,Satışlar!$E:$E,"Ofis mobilyası")

Sheet Bölgeler
A1: Bölge | B1: Hedef | C1: Gerçekleşen | D1: Gerçekleşme | E1: Sipariş sayısı
A2: Marmara | B2: 240000 | C2: =SUMIFS(Satışlar!$I:$I,Satışlar!$C:$C,A2) | D2: =IF(B2=0,0,C2/B2) | E2: =COUNTIF(Satışlar!$C:$C,A2)
A3: Ege | B3: 90000 | C3: =SUMIFS(Satışlar!$I:$I,Satışlar!$C:$C,A3) | D3: =IF(B3=0,0,C3/B3) | E3: =COUNTIF(Satışlar!$C:$C,A3)
A4: İç Anadolu | B4: 60000 | C4: =SUMIFS(Satışlar!$I:$I,Satışlar!$C:$C,A4) | D4: =IF(B4=0,0,C4/B4) | E4: =COUNTIF(Satışlar!$C:$C,A4)
A5: Akdeniz | B5: 75000 | C5: =SUMIFS(Satışlar!$I:$I,Satışlar!$C:$C,A5) | D5: =IF(B5=0,0,C5/B5) | E5: =COUNTIF(Satışlar!$C:$C,A5)
A6: Karadeniz | B6: 45000 | C6: =SUMIFS(Satışlar!$I:$I,Satışlar!$C:$C,A6) | D6: =IF(B6=0,0,C6/B6) | E6: =COUNTIF(Satışlar!$C:$C,A6)
A7: Toplam | B7: =SUM(B2:B6) | C7: =SUM(C2:C6) | D7: =IF(B7=0,0,C7/B7) | E7: =SUM(E2:E6)
