Workbook

Sheet Puantaj
A1: Personel | B1: Birim | C1: 1 | D1: 2 | E1: 3 | F1: 4 | G1: 5 | H1: 6 | I1: 7 | J1: 8 | K1: 9 | L1: 10 | M1: 11 | N1: 12 | O1: 13 | P1: 14 | Q1: 15 | R1: 16 | S1: 17 | T1: 18 | U1: 19 | V1: 20 | W1: 21 | X1: 22 | Y1: 23 | Z1: 24 | AA1: 25 | AB1: 26 | AC1: 27 | AD1: 28 | AE1: 29 | AF1: 30 | AG1: 31 | AH1: Çalışılan gün | AI1: Hafta tatili ve tatil | AJ1: İzinli | AK1: Raporlu | AL1: Devamsız | AM1: Fazla mesai (saat) | AN1: Boş gün
A2: Ayşe Yılmaz | B2: Muhasebe | C2: Ç | D2: Ç | E2: H | F2: H | G2: Ç | H2: Ç | I2: Ç | J2: Ç | K2: Ç | L2: H | M2: H | N2: Ç | O2: Ç | P2: Ç | Q2: Ç | R2: Ç | S2: H | T2: H | U2: Ç | V2: Ç | W2: Ç | X2: Ç | Y2: Ç | Z2: H | AA2: H | AB2: Ç | AC2: Ç | AD2: Ç | AE2: T | AF2: Ç | AG2: H | AH2: =IF(A2="","",COUNTIF(C2:AG2,"Ç")) | AI2: =IF(A2="","",COUNTIF(C2:AG2,"H")+COUNTIF(C2:AG2,"T")) | AJ2: =IF(A2="","",COUNTIF(C2:AG2,"İ")) | AK2: =IF(A2="","",COUNTIF(C2:AG2,"R")) | AL2: =IF(A2="","",COUNTIF(C2:AG2,"Y")) | AM2: 0 | AN2: =IF(A2="","",$AS$3-COUNTA(C2:AG2)) | AR2: Dönem (ayın 1'i) | AS2: 46296
A3: Burak Şen | B3: Depo | C3: Ç | D3: Ç | E3: H | F3: H | G3: Ç | H3: Ç | I3: Ç | J3: Ç | K3: Ç | L3: H | M3: H | N3: İ | O3: İ | P3: İ | Q3: Ç | R3: Ç | S3: H | T3: H | U3: Ç | V3: Ç | W3: Ç | X3: Ç | Y3: Ç | Z3: H | AA3: H | AB3: Ç | AC3: Ç | AD3: Ç | AE3: T | AF3: Ç | AG3: H | AH3: =IF(A3="","",COUNTIF(C3:AG3,"Ç")) | AI3: =IF(A3="","",COUNTIF(C3:AG3,"H")+COUNTIF(C3:AG3,"T")) | AJ3: =IF(A3="","",COUNTIF(C3:AG3,"İ")) | AK3: =IF(A3="","",COUNTIF(C3:AG3,"R")) | AL3: =IF(A3="","",COUNTIF(C3:AG3,"Y")) | AM3: 6 | AN3: =IF(A3="","",$AS$3-COUNTA(C3:AG3)) | AR3: Aydaki gün | AS3: =DAY(EOMONTH(AS2,0))
A4: Cem Aydın | B4: Depo | C4: Ç | D4: Ç | E4: H | F4: H | G4: Ç | H4: Ç | I4: Ç | J4: Ç | K4: Ç | L4: H | M4: H | N4: Ç | O4: Ç | P4: Ç | Q4: Ç | R4: Ç | S4: H | T4: H | U4: Ç | V4: R | W4: R | X4: Ç | Y4: Ç | Z4: H | AA4: H | AB4: Ç | AC4: Ç | AD4: Ç | AE4: T | AF4: Ç | AG4: H | AH4: =IF(A4="","",COUNTIF(C4:AG4,"Ç")) | AI4: =IF(A4="","",COUNTIF(C4:AG4,"H")+COUNTIF(C4:AG4,"T")) | AJ4: =IF(A4="","",COUNTIF(C4:AG4,"İ")) | AK4: =IF(A4="","",COUNTIF(C4:AG4,"R")) | AL4: =IF(A4="","",COUNTIF(C4:AG4,"Y")) | AM4: 4 | AN4: =IF(A4="","",$AS$3-COUNTA(C4:AG4)) | AR4: Toplam fazla mesai | AS4: =SUM(AM2:AM41)
A5: Derya Koç | B5: Satış | C5: Ç | D5: Ç | E5: H | F5: H | G5: Ç | H5: Ç | I5: Y | J5: Ç | K5: Ç | L5: H | M5: H | N5: Ç | O5: Ç | P5: Ç | Q5: Ç | R5: Ç | S5: H | T5: H | U5: Ç | V5: Ç | W5: Ç | X5: Ç | Y5: Ç | Z5: H | AA5: H | AB5: Ç | AC5: Ç | AD5: Ç | AE5: T | AF5: Ç | AG5: H | AH5: =IF(A5="","",COUNTIF(C5:AG5,"Ç")) | AI5: =IF(A5="","",COUNTIF(C5:AG5,"H")+COUNTIF(C5:AG5,"T")) | AJ5: =IF(A5="","",COUNTIF(C5:AG5,"İ")) | AK5: =IF(A5="","",COUNTIF(C5:AG5,"R")) | AL5: =IF(A5="","",COUNTIF(C5:AG5,"Y")) | AM5: 0 | AN5: =IF(A5="","",$AS$3-COUNTA(C5:AG5)) | AR5: Eksik girişli personel | AS5: =COUNTIF(AN2:AN41,">0")
A6: Emre Tan | B6: Satış | C6: Ç | D6: Ç | E6: H | F6: H | G6: Ç | H6: Ç | I6: Ç | J6: Ç | K6: Ç | L6: H | M6: H | N6: Ç | O6: Ç | P6: Ç | Q6: Ç | R6: Ç | S6: H | T6: H | U6: Ç | V6: Ç | W6: Ç | X6: Ç | Y6: Ç | Z6: H | AA6: H | AB6: İ | AC6: İ | AD6: İ | AE6: T | AF6: İ | AG6: H | AH6: =IF(A6="","",COUNTIF(C6:AG6,"Ç")) | AI6: =IF(A6="","",COUNTIF(C6:AG6,"H")+COUNTIF(C6:AG6,"T")) | AJ6: =IF(A6="","",COUNTIF(C6:AG6,"İ")) | AK6: =IF(A6="","",COUNTIF(C6:AG6,"R")) | AL6: =IF(A6="","",COUNTIF(C6:AG6,"Y")) | AM6: 2.5 | AN6: =IF(A6="","",$AS$3-COUNTA(C6:AG6))
AH7: =IF(A7="","",COUNTIF(C7:AG7,"Ç")) | AI7: =IF(A7="","",COUNTIF(C7:AG7,"H")+COUNTIF(C7:AG7,"T")) | AJ7: =IF(A7="","",COUNTIF(C7:AG7,"İ")) | AK7: =IF(A7="","",COUNTIF(C7:AG7,"R")) | AL7: =IF(A7="","",COUNTIF(C7:AG7,"Y")) | AN7: =IF(A7="","",$AS$3-COUNTA(C7:AG7))
AH8: =IF(A8="","",COUNTIF(C8:AG8,"Ç")) | AI8: =IF(A8="","",COUNTIF(C8:AG8,"H")+COUNTIF(C8:AG8,"T")) | AJ8: =IF(A8="","",COUNTIF(C8:AG8,"İ")) | AK8: =IF(A8="","",COUNTIF(C8:AG8,"R")) | AL8: =IF(A8="","",COUNTIF(C8:AG8,"Y")) | AN8: =IF(A8="","",$AS$3-COUNTA(C8:AG8))
AH9: =IF(A9="","",COUNTIF(C9:AG9,"Ç")) | AI9: =IF(A9="","",COUNTIF(C9:AG9,"H")+COUNTIF(C9:AG9,"T")) | AJ9: =IF(A9="","",COUNTIF(C9:AG9,"İ")) | AK9: =IF(A9="","",COUNTIF(C9:AG9,"R")) | AL9: =IF(A9="","",COUNTIF(C9:AG9,"Y")) | AN9: =IF(A9="","",$AS$3-COUNTA(C9:AG9))
AH10: =IF(A10="","",COUNTIF(C10:AG10,"Ç")) | AI10: =IF(A10="","",COUNTIF(C10:AG10,"H")+COUNTIF(C10:AG10,"T")) | AJ10: =IF(A10="","",COUNTIF(C10:AG10,"İ")) | AK10: =IF(A10="","",COUNTIF(C10:AG10,"R")) | AL10: =IF(A10="","",COUNTIF(C10:AG10,"Y")) | AN10: =IF(A10="","",$AS$3-COUNTA(C10:AG10))
AH11: =IF(A11="","",COUNTIF(C11:AG11,"Ç")) | AI11: =IF(A11="","",COUNTIF(C11:AG11,"H")+COUNTIF(C11:AG11,"T")) | AJ11: =IF(A11="","",COUNTIF(C11:AG11,"İ")) | AK11: =IF(A11="","",COUNTIF(C11:AG11,"R")) | AL11: =IF(A11="","",COUNTIF(C11:AG11,"Y")) | AN11: =IF(A11="","",$AS$3-COUNTA(C11:AG11))
AH12: =IF(A12="","",COUNTIF(C12:AG12,"Ç")) | AI12: =IF(A12="","",COUNTIF(C12:AG12,"H")+COUNTIF(C12:AG12,"T")) | AJ12: =IF(A12="","",COUNTIF(C12:AG12,"İ")) | AK12: =IF(A12="","",COUNTIF(C12:AG12,"R")) | AL12: =IF(A12="","",COUNTIF(C12:AG12,"Y")) | AN12: =IF(A12="","",$AS$3-COUNTA(C12:AG12))
AH13: =IF(A13="","",COUNTIF(C13:AG13,"Ç")) | AI13: =IF(A13="","",COUNTIF(C13:AG13,"H")+COUNTIF(C13:AG13,"T")) | AJ13: =IF(A13="","",COUNTIF(C13:AG13,"İ")) | AK13: =IF(A13="","",COUNTIF(C13:AG13,"R")) | AL13: =IF(A13="","",COUNTIF(C13:AG13,"Y")) | AN13: =IF(A13="","",$AS$3-COUNTA(C13:AG13))
AH14: =IF(A14="","",COUNTIF(C14:AG14,"Ç")) | AI14: =IF(A14="","",COUNTIF(C14:AG14,"H")+COUNTIF(C14:AG14,"T")) | AJ14: =IF(A14="","",COUNTIF(C14:AG14,"İ")) | AK14: =IF(A14="","",COUNTIF(C14:AG14,"R")) | AL14: =IF(A14="","",COUNTIF(C14:AG14,"Y")) | AN14: =IF(A14="","",$AS$3-COUNTA(C14:AG14))
AH15: =IF(A15="","",COUNTIF(C15:AG15,"Ç")) | AI15: =IF(A15="","",COUNTIF(C15:AG15,"H")+COUNTIF(C15:AG15,"T")) | AJ15: =IF(A15="","",COUNTIF(C15:AG15,"İ")) | AK15: =IF(A15="","",COUNTIF(C15:AG15,"R")) | AL15: =IF(A15="","",COUNTIF(C15:AG15,"Y")) | AN15: =IF(A15="","",$AS$3-COUNTA(C15:AG15))
AH16: =IF(A16="","",COUNTIF(C16:AG16,"Ç")) | AI16: =IF(A16="","",COUNTIF(C16:AG16,"H")+COUNTIF(C16:AG16,"T")) | AJ16: =IF(A16="","",COUNTIF(C16:AG16,"İ")) | AK16: =IF(A16="","",COUNTIF(C16:AG16,"R")) | AL16: =IF(A16="","",COUNTIF(C16:AG16,"Y")) | AN16: =IF(A16="","",$AS$3-COUNTA(C16:AG16))
AH17: =IF(A17="","",COUNTIF(C17:AG17,"Ç")) | AI17: =IF(A17="","",COUNTIF(C17:AG17,"H")+COUNTIF(C17:AG17,"T")) | AJ17: =IF(A17="","",COUNTIF(C17:AG17,"İ")) | AK17: =IF(A17="","",COUNTIF(C17:AG17,"R")) | AL17: =IF(A17="","",COUNTIF(C17:AG17,"Y")) | AN17: =IF(A17="","",$AS$3-COUNTA(C17:AG17))
AH18: =IF(A18="","",COUNTIF(C18:AG18,"Ç")) | AI18: =IF(A18="","",COUNTIF(C18:AG18,"H")+COUNTIF(C18:AG18,"T")) | AJ18: =IF(A18="","",COUNTIF(C18:AG18,"İ")) | AK18: =IF(A18="","",COUNTIF(C18:AG18,"R")) | AL18: =IF(A18="","",COUNTIF(C18:AG18,"Y")) | AN18: =IF(A18="","",$AS$3-COUNTA(C18:AG18))
... AH41: =IF(A41="","",COUNTIF(C41:AG41,"Ç")) | AI41: =IF(A41="","",COUNTIF(C41:AG41,"H")+COUNTIF(C41:AG41,"T")) | AJ41: =IF(A41="","",COUNTIF(C41:AG41,"İ")) | AK41: =IF(A41="","",COUNTIF(C41:AG41,"R")) | AL41: =IF(A41="","",COUNTIF(C41:AG41,"Y")) | AN41: =IF(A41="","",$AS$3-COUNTA(C41:AG41))

Sheet Özet
A1: Kod | B1: Anlamı | C1: Gün
A2: Ç | B2: Çalıştı | C2: =COUNTIF(Puantaj!$C$2:$AG$41,A2)
A3: H | B3: Hafta tatili | C3: =COUNTIF(Puantaj!$C$2:$AG$41,A3)
A4: T | B4: Resmî ya da işyeri tatili | C4: =COUNTIF(Puantaj!$C$2:$AG$41,A4)
A5: İ | B5: İzinli | C5: =COUNTIF(Puantaj!$C$2:$AG$41,A5)
A6: R | B6: Raporlu | C6: =COUNTIF(Puantaj!$C$2:$AG$41,A6)
A7: Y | B7: Devamsız | C7: =COUNTIF(Puantaj!$C$2:$AG$41,A7)
B8: Toplam işaretli gün | C8: =SUM(C2:C7)
