Workbook

Sheet Görevler
A1: Görev | B1: Aşama | C1: Sorumlu | D1: Öncelik | E1: Başlangıç | F1: Bitiş | G1: Süre (iş günü) | H1: Durum | I1: İlerleme | J1: Kalan gün
A2: Kapsam toplantısı ve ihtiyaç listesi | B2: Planlama | C2: Selin | D2: Yüksek | E2: 46300 | F2: 46302 | G2: =IF(OR(E2="",F2=""),"",NETWORKDAYS(E2,F2)) | H2: Tamamlandı | I2: 1 | J2: =IF(OR(F2="",H2="Tamamlandı"),"",F2-TODAY())
A3: İş bölümü ve takvim onayı | B3: Planlama | C3: Selin | D3: Orta | E3: 46303 | F3: 46304 | G3: =IF(OR(E3="",F3=""),"",NETWORKDAYS(E3,F3)) | H3: Tamamlandı | I3: 1 | J3: =IF(OR(F3="",H3="Tamamlandı"),"",F3-TODAY())
A4: Site haritası | B4: Tasarım | C4: Burak | D4: Yüksek | E4: 46307 | F4: 46309 | G4: =IF(OR(E4="",F4=""),"",NETWORKDAYS(E4,F4)) | H4: Tamamlandı | I4: 1 | J4: =IF(OR(F4="",H4="Tamamlandı"),"",F4-TODAY())
A5: Ana sayfa tasarımı | B5: Tasarım | C5: Burak | D5: Yüksek | E5: 46310 | F5: 46316 | G5: =IF(OR(E5="",F5=""),"",NETWORKDAYS(E5,F5)) | H5: Devam ediyor | I5: 0.6 | J5: =IF(OR(F5="",H5="Tamamlandı"),"",F5-TODAY())
A6: Ürün sayfası tasarımı | B6: Tasarım | C6: Deniz | D6: Orta | E6: 46314 | F6: 46318 | G6: =IF(OR(E6="",F6=""),"",NETWORKDAYS(E6,F6)) | H6: Devam ediyor | I6: 0.3 | J6: =IF(OR(F6="",H6="Tamamlandı"),"",F6-TODAY())
A7: Veritabanı yapısı | B7: Geliştirme | C7: Emre | D7: Yüksek | E7: 46314 | F7: 46321 | G7: =IF(OR(E7="",F7=""),"",NETWORKDAYS(E7,F7)) | H7: Devam ediyor | I7: 0.4 | J7: =IF(OR(F7="",H7="Tamamlandı"),"",F7-TODAY())
A8: Ödeme entegrasyonu | B8: Geliştirme | C8: Emre | D8: Yüksek | E8: 46322 | F8: 46332 | G8: =IF(OR(E8="",F8=""),"",NETWORKDAYS(E8,F8)) | H8: Başlamadı | I8: 0 | J8: =IF(OR(F8="",H8="Tamamlandı"),"",F8-TODAY())
A9: İçerik girişi | B9: Geliştirme | C9: Deniz | D9: Düşük | E9: 46328 | F9: 46336 | G9: =IF(OR(E9="",F9=""),"",NETWORKDAYS(E9,F9)) | H9: Beklemede | I9: 0 | J9: =IF(OR(F9="",H9="Tamamlandı"),"",F9-TODAY())
A10: Mobil uyumluluk testi | B10: Test | C10: Ayşe | D10: Orta | E10: 46335 | F10: 46339 | G10: =IF(OR(E10="",F10=""),"",NETWORKDAYS(E10,F10)) | H10: Başlamadı | I10: 0 | J10: =IF(OR(F10="",H10="Tamamlandı"),"",F10-TODAY())
A11: Kullanıcı kabul testi | B11: Test | C11: Ayşe | D11: Yüksek | E11: 46342 | F11: 46344 | G11: =IF(OR(E11="",F11=""),"",NETWORKDAYS(E11,F11)) | H11: Başlamadı | I11: 0 | J11: =IF(OR(F11="",H11="Tamamlandı"),"",F11-TODAY())
A12: Yayına alma | B12: Teslim | C12: Emre | D12: Yüksek | E12: 46345 | F12: 46346 | G12: =IF(OR(E12="",F12=""),"",NETWORKDAYS(E12,F12)) | H12: Başlamadı | I12: 0 | J12: =IF(OR(F12="",H12="Tamamlandı"),"",F12-TODAY())
A13: Kullanım eğitimi | B13: Teslim | C13: Selin | D13: Orta | E13: 46349 | F13: 46350 | G13: =IF(OR(E13="",F13=""),"",NETWORKDAYS(E13,F13)) | H13: Başlamadı | I13: 0 | J13: =IF(OR(F13="",H13="Tamamlandı"),"",F13-TODAY())
G14: =IF(OR(E14="",F14=""),"",NETWORKDAYS(E14,F14)) | J14: =IF(OR(F14="",H14="Tamamlandı"),"",F14-TODAY())
G15: =IF(OR(E15="",F15=""),"",NETWORKDAYS(E15,F15)) | J15: =IF(OR(F15="",H15="Tamamlandı"),"",F15-TODAY())
G16: =IF(OR(E16="",F16=""),"",NETWORKDAYS(E16,F16)) | J16: =IF(OR(F16="",H16="Tamamlandı"),"",F16-TODAY())
G17: =IF(OR(E17="",F17=""),"",NETWORKDAYS(E17,F17)) | J17: =IF(OR(F17="",H17="Tamamlandı"),"",F17-TODAY())
G18: =IF(OR(E18="",F18=""),"",NETWORKDAYS(E18,F18)) | J18: =IF(OR(F18="",H18="Tamamlandı"),"",F18-TODAY())
G19: =IF(OR(E19="",F19=""),"",NETWORKDAYS(E19,F19)) | J19: =IF(OR(F19="",H19="Tamamlandı"),"",F19-TODAY())
G20: =IF(OR(E20="",F20=""),"",NETWORKDAYS(E20,F20)) | J20: =IF(OR(F20="",H20="Tamamlandı"),"",F20-TODAY())
G21: =IF(OR(E21="",F21=""),"",NETWORKDAYS(E21,F21)) | J21: =IF(OR(F21="",H21="Tamamlandı"),"",F21-TODAY())
G22: =IF(OR(E22="",F22=""),"",NETWORKDAYS(E22,F22)) | J22: =IF(OR(F22="",H22="Tamamlandı"),"",F22-TODAY())
G23: =IF(OR(E23="",F23=""),"",NETWORKDAYS(E23,F23)) | J23: =IF(OR(F23="",H23="Tamamlandı"),"",F23-TODAY())
G24: =IF(OR(E24="",F24=""),"",NETWORKDAYS(E24,F24)) | J24: =IF(OR(F24="",H24="Tamamlandı"),"",F24-TODAY())
G25: =IF(OR(E25="",F25=""),"",NETWORKDAYS(E25,F25)) | J25: =IF(OR(F25="",H25="Tamamlandı"),"",F25-TODAY())
... G61: =IF(OR(E61="",F61=""),"",NETWORKDAYS(E61,F61)) | J61: =IF(OR(F61="",H61="Tamamlandı"),"",F61-TODAY())

Sheet Özet
A1: Aşama | B1: Görev sayısı | C1: Ortalama ilerleme | D1: İş günü
A2: Planlama | B2: =COUNTIF('Görevler'!$B:$B,$A2) | C2: =IFERROR(AVERAGEIFS('Görevler'!$I:$I,'Görevler'!$B:$B,$A2),0) | D2: =SUMIFS('Görevler'!$G:$G,'Görevler'!$B:$B,$A2) | G2: Başlamadı | H2: =COUNTIF('Görevler'!$H:$H,G2)
A3: Tasarım | B3: =COUNTIF('Görevler'!$B:$B,$A3) | C3: =IFERROR(AVERAGEIFS('Görevler'!$I:$I,'Görevler'!$B:$B,$A3),0) | D3: =SUMIFS('Görevler'!$G:$G,'Görevler'!$B:$B,$A3) | G3: Devam ediyor | H3: =COUNTIF('Görevler'!$H:$H,G3)
A4: Geliştirme | B4: =COUNTIF('Görevler'!$B:$B,$A4) | C4: =IFERROR(AVERAGEIFS('Görevler'!$I:$I,'Görevler'!$B:$B,$A4),0) | D4: =SUMIFS('Görevler'!$G:$G,'Görevler'!$B:$B,$A4) | G4: Beklemede | H4: =COUNTIF('Görevler'!$H:$H,G4)
A5: Test | B5: =COUNTIF('Görevler'!$B:$B,$A5) | C5: =IFERROR(AVERAGEIFS('Görevler'!$I:$I,'Görevler'!$B:$B,$A5),0) | D5: =SUMIFS('Görevler'!$G:$G,'Görevler'!$B:$B,$A5) | G5: Tamamlandı | H5: =COUNTIF('Görevler'!$H:$H,G5)
A6: Teslim | B6: =COUNTIF('Görevler'!$B:$B,$A6) | C6: =IFERROR(AVERAGEIFS('Görevler'!$I:$I,'Görevler'!$B:$B,$A6),0) | D6: =SUMIFS('Görevler'!$G:$G,'Görevler'!$B:$B,$A6)
G7: Toplam görev | H7: =COUNTA('Görevler'!A2:A61)
G8: Tamamlanan görev oranı | H8: =IFERROR(COUNTIF('Görevler'!$H:$H,"Tamamlandı")/H7,0)
G9: Süreye göre ilerleme | H9: =IFERROR(SUMPRODUCT('Görevler'!G2:G61,'Görevler'!I2:I61)/SUM('Görevler'!G2:G61),0)
G10: Geciken görev | H10: =COUNTIF('Görevler'!$J:$J,"<0")
G11: Proje başlangıcı | H11: =MIN('Görevler'!$E:$E)
G12: Planlanan bitiş | H12: =MAX('Görevler'!$F:$F)
