Workbook

Sheet Personel
A1: Sicil no | B1: Ad Soyad | C1: Departman | D1: İşe giriş | E1: Yıllık izin hakkı (gün) | F1: Devreden (gün) | G1: Kullanılan yıllık izin | H1: Kalan | I1: Diğer izinler | J1: Bekleyen talep | K1: Kıdem (yıl)
A2: P-001 | B2: Ahmet Yurt | C2: Satış | D2: 43535 | E2: 14 | F2: 4 | G2: =IF(B2="","",SUMIFS(İzinler!$E$2:$E$301,İzinler!$A$2:$A$301,B2,İzinler!$C$2:$C$301,">="&$N$2,İzinler!$C$2:$C$301,"<="&$N$3,İzinler!$B$2:$B$301,"Yıllık izin",İzinler!$F$2:$F$301,"Onaylandı")) | H2: =IF(B2="","",N(E2)+N(F2)-G2) | I2: =IF(B2="","",SUMIFS(İzinler!$E$2:$E$301,İzinler!$A$2:$A$301,B2,İzinler!$C$2:$C$301,">="&$N$2,İzinler!$C$2:$C$301,"<="&$N$3,İzinler!$B$2:$B$301,"<>Yıllık izin",İzinler!$F$2:$F$301,"Onaylandı")) | J2: =IF(B2="","",SUMIFS(İzinler!$E$2:$E$301,İzinler!$A$2:$A$301,B2,İzinler!$F$2:$F$301,"Bekliyor")) | K2: =IF(OR(B2="",D2=""),"",DATEDIF(D2,TODAY(),"y")) | M2: Dönem başı | N2: 46023
A3: P-002 | B3: Nur Ekinci | C3: Muhasebe | D3: 42156 | E3: 20 | F3: 0 | G3: =IF(B3="","",SUMIFS(İzinler!$E$2:$E$301,İzinler!$A$2:$A$301,B3,İzinler!$C$2:$C$301,">="&$N$2,İzinler!$C$2:$C$301,"<="&$N$3,İzinler!$B$2:$B$301,"Yıllık izin",İzinler!$F$2:$F$301,"Onaylandı")) | H3: =IF(B3="","",N(E3)+N(F3)-G3) | I3: =IF(B3="","",SUMIFS(İzinler!$E$2:$E$301,İzinler!$A$2:$A$301,B3,İzinler!$C$2:$C$301,">="&$N$2,İzinler!$C$2:$C$301,"<="&$N$3,İzinler!$B$2:$B$301,"<>Yıllık izin",İzinler!$F$2:$F$301,"Onaylandı")) | J3: =IF(B3="","",SUMIFS(İzinler!$E$2:$E$301,İzinler!$A$2:$A$301,B3,İzinler!$F$2:$F$301,"Bekliyor")) | K3: =IF(OR(B3="",D3=""),"",DATEDIF(D3,TODAY(),"y")) | M3: Dönem sonu | N3: =EDATE(N2,12)-1
A4: P-003 | B4: Okan Sezer | C4: Depo | D4: 45341 | E4: 14 | F4: 0 | G4: =IF(B4="","",SUMIFS(İzinler!$E$2:$E$301,İzinler!$A$2:$A$301,B4,İzinler!$C$2:$C$301,">="&$N$2,İzinler!$C$2:$C$301,"<="&$N$3,İzinler!$B$2:$B$301,"Yıllık izin",İzinler!$F$2:$F$301,"Onaylandı")) | H4: =IF(B4="","",N(E4)+N(F4)-G4) | I4: =IF(B4="","",SUMIFS(İzinler!$E$2:$E$301,İzinler!$A$2:$A$301,B4,İzinler!$C$2:$C$301,">="&$N$2,İzinler!$C$2:$C$301,"<="&$N$3,İzinler!$B$2:$B$301,"<>Yıllık izin",İzinler!$F$2:$F$301,"Onaylandı")) | J4: =IF(B4="","",SUMIFS(İzinler!$E$2:$E$301,İzinler!$A$2:$A$301,B4,İzinler!$F$2:$F$301,"Bekliyor")) | K4: =IF(OR(B4="",D4=""),"",DATEDIF(D4,TODAY(),"y"))
A5: P-004 | B5: Pelin Acar | C5: Satış | D5: 44445 | E5: 14 | F5: 2 | G5: =IF(B5="","",SUMIFS(İzinler!$E$2:$E$301,İzinler!$A$2:$A$301,B5,İzinler!$C$2:$C$301,">="&$N$2,İzinler!$C$2:$C$301,"<="&$N$3,İzinler!$B$2:$B$301,"Yıllık izin",İzinler!$F$2:$F$301,"Onaylandı")) | H5: =IF(B5="","",N(E5)+N(F5)-G5) | I5: =IF(B5="","",SUMIFS(İzinler!$E$2:$E$301,İzinler!$A$2:$A$301,B5,İzinler!$C$2:$C$301,">="&$N$2,İzinler!$C$2:$C$301,"<="&$N$3,İzinler!$B$2:$B$301,"<>Yıllık izin",İzinler!$F$2:$F$301,"Onaylandı")) | J5: =IF(B5="","",SUMIFS(İzinler!$E$2:$E$301,İzinler!$A$2:$A$301,B5,İzinler!$F$2:$F$301,"Bekliyor")) | K5: =IF(OR(B5="",D5=""),"",DATEDIF(D5,TODAY(),"y")) | M5: Kullanılan toplam gün | N5: =SUM(G2:G101)
A6: P-005 | B6: Rıza Duman | C6: Depo | D6: 40182 | E6: 26 | F6: 5 | G6: =IF(B6="","",SUMIFS(İzinler!$E$2:$E$301,İzinler!$A$2:$A$301,B6,İzinler!$C$2:$C$301,">="&$N$2,İzinler!$C$2:$C$301,"<="&$N$3,İzinler!$B$2:$B$301,"Yıllık izin",İzinler!$F$2:$F$301,"Onaylandı")) | H6: =IF(B6="","",N(E6)+N(F6)-G6) | I6: =IF(B6="","",SUMIFS(İzinler!$E$2:$E$301,İzinler!$A$2:$A$301,B6,İzinler!$C$2:$C$301,">="&$N$2,İzinler!$C$2:$C$301,"<="&$N$3,İzinler!$B$2:$B$301,"<>Yıllık izin",İzinler!$F$2:$F$301,"Onaylandı")) | J6: =IF(B6="","",SUMIFS(İzinler!$E$2:$E$301,İzinler!$A$2:$A$301,B6,İzinler!$F$2:$F$301,"Bekliyor")) | K6: =IF(OR(B6="",D6=""),"",DATEDIF(D6,TODAY(),"y")) | M6: Onay bekleyen gün | N6: =SUM(J2:J101)
A7: P-006 | B7: Sinem Oral | C7: İnsan kaynakları | D7: 45019 | E7: 14 | F7: 0 | G7: =IF(B7="","",SUMIFS(İzinler!$E$2:$E$301,İzinler!$A$2:$A$301,B7,İzinler!$C$2:$C$301,">="&$N$2,İzinler!$C$2:$C$301,"<="&$N$3,İzinler!$B$2:$B$301,"Yıllık izin",İzinler!$F$2:$F$301,"Onaylandı")) | H7: =IF(B7="","",N(E7)+N(F7)-G7) | I7: =IF(B7="","",SUMIFS(İzinler!$E$2:$E$301,İzinler!$A$2:$A$301,B7,İzinler!$C$2:$C$301,">="&$N$2,İzinler!$C$2:$C$301,"<="&$N$3,İzinler!$B$2:$B$301,"<>Yıllık izin",İzinler!$F$2:$F$301,"Onaylandı")) | J7: =IF(B7="","",SUMIFS(İzinler!$E$2:$E$301,İzinler!$A$2:$A$301,B7,İzinler!$F$2:$F$301,"Bekliyor")) | K7: =IF(OR(B7="",D7=""),"",DATEDIF(D7,TODAY(),"y")) | M7: Hakkını aşan kişi | N7: =COUNTIF(H2:H101,"<0")
G8: =IF(B8="","",SUMIFS(İzinler!$E$2:$E$301,İzinler!$A$2:$A$301,B8,İzinler!$C$2:$C$301,">="&$N$2,İzinler!$C$2:$C$301,"<="&$N$3,İzinler!$B$2:$B$301,"Yıllık izin",İzinler!$F$2:$F$301,"Onaylandı")) | H8: =IF(B8="","",N(E8)+N(F8)-G8) | I8: =IF(B8="","",SUMIFS(İzinler!$E$2:$E$301,İzinler!$A$2:$A$301,B8,İzinler!$C$2:$C$301,">="&$N$2,İzinler!$C$2:$C$301,"<="&$N$3,İzinler!$B$2:$B$301,"<>Yıllık izin",İzinler!$F$2:$F$301,"Onaylandı")) | J8: =IF(B8="","",SUMIFS(İzinler!$E$2:$E$301,İzinler!$A$2:$A$301,B8,İzinler!$F$2:$F$301,"Bekliyor")) | K8: =IF(OR(B8="",D8=""),"",DATEDIF(D8,TODAY(),"y"))
G9: =IF(B9="","",SUMIFS(İzinler!$E$2:$E$301,İzinler!$A$2:$A$301,B9,İzinler!$C$2:$C$301,">="&$N$2,İzinler!$C$2:$C$301,"<="&$N$3,İzinler!$B$2:$B$301,"Yıllık izin",İzinler!$F$2:$F$301,"Onaylandı")) | H9: =IF(B9="","",N(E9)+N(F9)-G9) | I9: =IF(B9="","",SUMIFS(İzinler!$E$2:$E$301,İzinler!$A$2:$A$301,B9,İzinler!$C$2:$C$301,">="&$N$2,İzinler!$C$2:$C$301,"<="&$N$3,İzinler!$B$2:$B$301,"<>Yıllık izin",İzinler!$F$2:$F$301,"Onaylandı")) | J9: =IF(B9="","",SUMIFS(İzinler!$E$2:$E$301,İzinler!$A$2:$A$301,B9,İzinler!$F$2:$F$301,"Bekliyor")) | K9: =IF(OR(B9="",D9=""),"",DATEDIF(D9,TODAY(),"y"))
G10: =IF(B10="","",SUMIFS(İzinler!$E$2:$E$301,İzinler!$A$2:$A$301,B10,İzinler!$C$2:$C$301,">="&$N$2,İzinler!$C$2:$C$301,"<="&$N$3,İzinler!$B$2:$B$301,"Yıllık izin",İzinler!$F$2:$F$301,"Onaylandı")) | H10: =IF(B10="","",N(E10)+N(F10)-G10) | I10: =IF(B10="","",SUMIFS(İzinler!$E$2:$E$301,İzinler!$A$2:$A$301,B10,İzinler!$C$2:$C$301,">="&$N$2,İzinler!$C$2:$C$301,"<="&$N$3,İzinler!$B$2:$B$301,"<>Yıllık izin",İzinler!$F$2:$F$301,"Onaylandı")) | J10: =IF(B10="","",SUMIFS(İzinler!$E$2:$E$301,İzinler!$A$2:$A$301,B10,İzinler!$F$2:$F$301,"Bekliyor")) | K10: =IF(OR(B10="",D10=""),"",DATEDIF(D10,TODAY(),"y"))
G11: =IF(B11="","",SUMIFS(İzinler!$E$2:$E$301,İzinler!$A$2:$A$301,B11,İzinler!$C$2:$C$301,">="&$N$2,İzinler!$C$2:$C$301,"<="&$N$3,İzinler!$B$2:$B$301,"Yıllık izin",İzinler!$F$2:$F$301,"Onaylandı")) | H11: =IF(B11="","",N(E11)+N(F11)-G11) | I11: =IF(B11="","",SUMIFS(İzinler!$E$2:$E$301,İzinler!$A$2:$A$301,B11,İzinler!$C$2:$C$301,">="&$N$2,İzinler!$C$2:$C$301,"<="&$N$3,İzinler!$B$2:$B$301,"<>Yıllık izin",İzinler!$F$2:$F$301,"Onaylandı")) | J11: =IF(B11="","",SUMIFS(İzinler!$E$2:$E$301,İzinler!$A$2:$A$301,B11,İzinler!$F$2:$F$301,"Bekliyor")) | K11: =IF(OR(B11="",D11=""),"",DATEDIF(D11,TODAY(),"y"))
G12: =IF(B12="","",SUMIFS(İzinler!$E$2:$E$301,İzinler!$A$2:$A$301,B12,İzinler!$C$2:$C$301,">="&$N$2,İzinler!$C$2:$C$301,"<="&$N$3,İzinler!$B$2:$B$301,"Yıllık izin",İzinler!$F$2:$F$301,"Onaylandı")) | H12: =IF(B12="","",N(E12)+N(F12)-G12) | I12: =IF(B12="","",SUMIFS(İzinler!$E$2:$E$301,İzinler!$A$2:$A$301,B12,İzinler!$C$2:$C$301,">="&$N$2,İzinler!$C$2:$C$301,"<="&$N$3,İzinler!$B$2:$B$301,"<>Yıllık izin",İzinler!$F$2:$F$301,"Onaylandı")) | J12: =IF(B12="","",SUMIFS(İzinler!$E$2:$E$301,İzinler!$A$2:$A$301,B12,İzinler!$F$2:$F$301,"Bekliyor")) | K12: =IF(OR(B12="",D12=""),"",DATEDIF(D12,TODAY(),"y"))
G13: =IF(B13="","",SUMIFS(İzinler!$E$2:$E$301,İzinler!$A$2:$A$301,B13,İzinler!$C$2:$C$301,">="&$N$2,İzinler!$C$2:$C$301,"<="&$N$3,İzinler!$B$2:$B$301,"Yıllık izin",İzinler!$F$2:$F$301,"Onaylandı")) | H13: =IF(B13="","",N(E13)+N(F13)-G13) | I13: =IF(B13="","",SUMIFS(İzinler!$E$2:$E$301,İzinler!$A$2:$A$301,B13,İzinler!$C$2:$C$301,">="&$N$2,İzinler!$C$2:$C$301,"<="&$N$3,İzinler!$B$2:$B$301,"<>Yıllık izin",İzinler!$F$2:$F$301,"Onaylandı")) | J13: =IF(B13="","",SUMIFS(İzinler!$E$2:$E$301,İzinler!$A$2:$A$301,B13,İzinler!$F$2:$F$301,"Bekliyor")) | K13: =IF(OR(B13="",D13=""),"",DATEDIF(D13,TODAY(),"y"))
G14: =IF(B14="","",SUMIFS(İzinler!$E$2:$E$301,İzinler!$A$2:$A$301,B14,İzinler!$C$2:$C$301,">="&$N$2,İzinler!$C$2:$C$301,"<="&$N$3,İzinler!$B$2:$B$301,"Yıllık izin",İzinler!$F$2:$F$301,"Onaylandı")) | H14: =IF(B14="","",N(E14)+N(F14)-G14) | I14: =IF(B14="","",SUMIFS(İzinler!$E$2:$E$301,İzinler!$A$2:$A$301,B14,İzinler!$C$2:$C$301,">="&$N$2,İzinler!$C$2:$C$301,"<="&$N$3,İzinler!$B$2:$B$301,"<>Yıllık izin",İzinler!$F$2:$F$301,"Onaylandı")) | J14: =IF(B14="","",SUMIFS(İzinler!$E$2:$E$301,İzinler!$A$2:$A$301,B14,İzinler!$F$2:$F$301,"Bekliyor")) | K14: =IF(OR(B14="",D14=""),"",DATEDIF(D14,TODAY(),"y"))
G15: =IF(B15="","",SUMIFS(İzinler!$E$2:$E$301,İzinler!$A$2:$A$301,B15,İzinler!$C$2:$C$301,">="&$N$2,İzinler!$C$2:$C$301,"<="&$N$3,İzinler!$B$2:$B$301,"Yıllık izin",İzinler!$F$2:$F$301,"Onaylandı")) | H15: =IF(B15="","",N(E15)+N(F15)-G15) | I15: =IF(B15="","",SUMIFS(İzinler!$E$2:$E$301,İzinler!$A$2:$A$301,B15,İzinler!$C$2:$C$301,">="&$N$2,İzinler!$C$2:$C$301,"<="&$N$3,İzinler!$B$2:$B$301,"<>Yıllık izin",İzinler!$F$2:$F$301,"Onaylandı")) | J15: =IF(B15="","",SUMIFS(İzinler!$E$2:$E$301,İzinler!$A$2:$A$301,B15,İzinler!$F$2:$F$301,"Bekliyor")) | K15: =IF(OR(B15="",D15=""),"",DATEDIF(D15,TODAY(),"y"))
G16: =IF(B16="","",SUMIFS(İzinler!$E$2:$E$301,İzinler!$A$2:$A$301,B16,İzinler!$C$2:$C$301,">="&$N$2,İzinler!$C$2:$C$301,"<="&$N$3,İzinler!$B$2:$B$301,"Yıllık izin",İzinler!$F$2:$F$301,"Onaylandı")) | H16: =IF(B16="","",N(E16)+N(F16)-G16) | I16: =IF(B16="","",SUMIFS(İzinler!$E$2:$E$301,İzinler!$A$2:$A$301,B16,İzinler!$C$2:$C$301,">="&$N$2,İzinler!$C$2:$C$301,"<="&$N$3,İzinler!$B$2:$B$301,"<>Yıllık izin",İzinler!$F$2:$F$301,"Onaylandı")) | J16: =IF(B16="","",SUMIFS(İzinler!$E$2:$E$301,İzinler!$A$2:$A$301,B16,İzinler!$F$2:$F$301,"Bekliyor")) | K16: =IF(OR(B16="",D16=""),"",DATEDIF(D16,TODAY(),"y"))
G17: =IF(B17="","",SUMIFS(İzinler!$E$2:$E$301,İzinler!$A$2:$A$301,B17,İzinler!$C$2:$C$301,">="&$N$2,İzinler!$C$2:$C$301,"<="&$N$3,İzinler!$B$2:$B$301,"Yıllık izin",İzinler!$F$2:$F$301,"Onaylandı")) | H17: =IF(B17="","",N(E17)+N(F17)-G17) | I17: =IF(B17="","",SUMIFS(İzinler!$E$2:$E$301,İzinler!$A$2:$A$301,B17,İzinler!$C$2:$C$301,">="&$N$2,İzinler!$C$2:$C$301,"<="&$N$3,İzinler!$B$2:$B$301,"<>Yıllık izin",İzinler!$F$2:$F$301,"Onaylandı")) | J17: =IF(B17="","",SUMIFS(İzinler!$E$2:$E$301,İzinler!$A$2:$A$301,B17,İzinler!$F$2:$F$301,"Bekliyor")) | K17: =IF(OR(B17="",D17=""),"",DATEDIF(D17,TODAY(),"y"))
G18: =IF(B18="","",SUMIFS(İzinler!$E$2:$E$301,İzinler!$A$2:$A$301,B18,İzinler!$C$2:$C$301,">="&$N$2,İzinler!$C$2:$C$301,"<="&$N$3,İzinler!$B$2:$B$301,"Yıllık izin",İzinler!$F$2:$F$301,"Onaylandı")) | H18: =IF(B18="","",N(E18)+N(F18)-G18) | I18: =IF(B18="","",SUMIFS(İzinler!$E$2:$E$301,İzinler!$A$2:$A$301,B18,İzinler!$C$2:$C$301,">="&$N$2,İzinler!$C$2:$C$301,"<="&$N$3,İzinler!$B$2:$B$301,"<>Yıllık izin",İzinler!$F$2:$F$301,"Onaylandı")) | J18: =IF(B18="","",SUMIFS(İzinler!$E$2:$E$301,İzinler!$A$2:$A$301,B18,İzinler!$F$2:$F$301,"Bekliyor")) | K18: =IF(OR(B18="",D18=""),"",DATEDIF(D18,TODAY(),"y"))
G19: =IF(B19="","",SUMIFS(İzinler!$E$2:$E$301,İzinler!$A$2:$A$301,B19,İzinler!$C$2:$C$301,">="&$N$2,İzinler!$C$2:$C$301,"<="&$N$3,İzinler!$B$2:$B$301,"Yıllık izin",İzinler!$F$2:$F$301,"Onaylandı")) | H19: =IF(B19="","",N(E19)+N(F19)-G19) | I19: =IF(B19="","",SUMIFS(İzinler!$E$2:$E$301,İzinler!$A$2:$A$301,B19,İzinler!$C$2:$C$301,">="&$N$2,İzinler!$C$2:$C$301,"<="&$N$3,İzinler!$B$2:$B$301,"<>Yıllık izin",İzinler!$F$2:$F$301,"Onaylandı")) | J19: =IF(B19="","",SUMIFS(İzinler!$E$2:$E$301,İzinler!$A$2:$A$301,B19,İzinler!$F$2:$F$301,"Bekliyor")) | K19: =IF(OR(B19="",D19=""),"",DATEDIF(D19,TODAY(),"y"))
... G101: =IF(B101="","",SUMIFS(İzinler!$E$2:$E$301,İzinler!$A$2:$A$301,B101,İzinler!$C$2:$C$301,">="&$N$2,İzinler!$C$2:$C$301,"<="&$N$3,İzinler!$B$2:$B$301,"Yıllık izin",İzinler!$F$2:$F$301,"Onaylandı")) | H101: =IF(B101="","",N(E101)+N(F101)-G101) | I101: =IF(B101="","",SUMIFS(İzinler!$E$2:$E$301,İzinler!$A$2:$A$301,B101,İzinler!$C$2:$C$301,">="&$N$2,İzinler!$C$2:$C$301,"<="&$N$3,İzinler!$B$2:$B$301,"<>Yıllık izin",İzinler!$F$2:$F$301,"Onaylandı")) | J101: =IF(B101="","",SUMIFS(İzinler!$E$2:$E$301,İzinler!$A$2:$A$301,B101,İzinler!$F$2:$F$301,"Bekliyor")) | K101: =IF(OR(B101="",D101=""),"",DATEDIF(D101,TODAY(),"y"))

Sheet İzinler
A1: Ad Soyad | B1: İzin türü | C1: Başlangıç | D1: Bitiş | E1: Gün (iş günü) | F1: Onay | G1: Açıklama | H1: Kontrol
A2: Ahmet Yurt | B2: Yıllık izin | C2: 46069 | D2: 46073 | E2: =IF(OR(C2="",D2=""),"",IF(D2<C2,"",NETWORKDAYS(C2,D2,Tatiller!$A$2:$A$60))) | F2: Onaylandı | G2: Kış tatili | H2: =IF(A2="","",IF(COUNTIF(Personel!$B$2:$B$101,A2)=0,"Personel listesinde yok",IF(AND(C2<>"",D2<>"",D2<C2),"Bitiş başlangıçtan önce","")))
A3: Nur Ekinci | B3: Yıllık izin | C3: 46132 | D3: 46136 | E3: =IF(OR(C3="",D3=""),"",IF(D3<C3,"",NETWORKDAYS(C3,D3,Tatiller!$A$2:$A$60))) | F3: Onaylandı | H3: =IF(A3="","",IF(COUNTIF(Personel!$B$2:$B$101,A3)=0,"Personel listesinde yok",IF(AND(C3<>"",D3<>"",D3<C3),"Bitiş başlangıçtan önce","")))
A4: Okan Sezer | B4: Rapor | C4: 46090 | D4: 46091 | E4: =IF(OR(C4="",D4=""),"",IF(D4<C4,"",NETWORKDAYS(C4,D4,Tatiller!$A$2:$A$60))) | F4: Onaylandı | G4: Doktor raporu | H4: =IF(A4="","",IF(COUNTIF(Personel!$B$2:$B$101,A4)=0,"Personel listesinde yok",IF(AND(C4<>"",D4<>"",D4<C4),"Bitiş başlangıçtan önce","")))
A5: Pelin Acar | B5: Mazeret izni | C5: 46156 | D5: 46157 | E5: =IF(OR(C5="",D5=""),"",IF(D5<C5,"",NETWORKDAYS(C5,D5,Tatiller!$A$2:$A$60))) | F5: Onaylandı | G5: Taşınma | H5: =IF(A5="","",IF(COUNTIF(Personel!$B$2:$B$101,A5)=0,"Personel listesinde yok",IF(AND(C5<>"",D5<>"",D5<C5),"Bitiş başlangıçtan önce","")))
A6: Rıza Duman | B6: Yıllık izin | C6: 46209 | D6: 46227 | E6: =IF(OR(C6="",D6=""),"",IF(D6<C6,"",NETWORKDAYS(C6,D6,Tatiller!$A$2:$A$60))) | F6: Onaylandı | G6: Yaz izni | H6: =IF(A6="","",IF(COUNTIF(Personel!$B$2:$B$101,A6)=0,"Personel listesinde yok",IF(AND(C6<>"",D6<>"",D6<C6),"Bitiş başlangıçtan önce","")))
A7: Ahmet Yurt | B7: Yıllık izin | C7: 46244 | D7: 46255 | E7: =IF(OR(C7="",D7=""),"",IF(D7<C7,"",NETWORKDAYS(C7,D7,Tatiller!$A$2:$A$60))) | F7: Onaylandı | G7: Yaz izni | H7: =IF(A7="","",IF(COUNTIF(Personel!$B$2:$B$101,A7)=0,"Personel listesinde yok",IF(AND(C7<>"",D7<>"",D7<C7),"Bitiş başlangıçtan önce","")))
A8: Sinem Oral | B8: Yıllık izin | C8: 46251 | D8: 46255 | E8: =IF(OR(C8="",D8=""),"",IF(D8<C8,"",NETWORKDAYS(C8,D8,Tatiller!$A$2:$A$60))) | F8: Onaylandı | H8: =IF(A8="","",IF(COUNTIF(Personel!$B$2:$B$101,A8)=0,"Personel listesinde yok",IF(AND(C8<>"",D8<>"",D8<C8),"Bitiş başlangıçtan önce","")))
A9: Nur Ekinci | B9: Yıllık izin | C9: 46321 | D9: 46325 | E9: =IF(OR(C9="",D9=""),"",IF(D9<C9,"",NETWORKDAYS(C9,D9,Tatiller!$A$2:$A$60))) | F9: Onaylandı | G9: 29 Ekim haftası | H9: =IF(A9="","",IF(COUNTIF(Personel!$B$2:$B$101,A9)=0,"Personel listesinde yok",IF(AND(C9<>"",D9<>"",D9<C9),"Bitiş başlangıçtan önce","")))
A10: Pelin Acar | B10: Yıllık izin | C10: 46349 | D10: 46353 | E10: =IF(OR(C10="",D10=""),"",IF(D10<C10,"",NETWORKDAYS(C10,D10,Tatiller!$A$2:$A$60))) | F10: Bekliyor | H10: =IF(A10="","",IF(COUNTIF(Personel!$B$2:$B$101,A10)=0,"Personel listesinde yok",IF(AND(C10<>"",D10<>"",D10<C10),"Bitiş başlangıçtan önce","")))
A11: Okan Sezer | B11: Yıllık izin | C11: 46384 | D11: 46387 | E11: =IF(OR(C11="",D11=""),"",IF(D11<C11,"",NETWORKDAYS(C11,D11,Tatiller!$A$2:$A$60))) | F11: Bekliyor | G11: Yılbaşı öncesi | H11: =IF(A11="","",IF(COUNTIF(Personel!$B$2:$B$101,A11)=0,"Personel listesinde yok",IF(AND(C11<>"",D11<>"",D11<C11),"Bitiş başlangıçtan önce","")))
E12: =IF(OR(C12="",D12=""),"",IF(D12<C12,"",NETWORKDAYS(C12,D12,Tatiller!$A$2:$A$60))) | H12: =IF(A12="","",IF(COUNTIF(Personel!$B$2:$B$101,A12)=0,"Personel listesinde yok",IF(AND(C12<>"",D12<>"",D12<C12),"Bitiş başlangıçtan önce","")))
E13: =IF(OR(C13="",D13=""),"",IF(D13<C13,"",NETWORKDAYS(C13,D13,Tatiller!$A$2:$A$60))) | H13: =IF(A13="","",IF(COUNTIF(Personel!$B$2:$B$101,A13)=0,"Personel listesinde yok",IF(AND(C13<>"",D13<>"",D13<C13),"Bitiş başlangıçtan önce","")))
E14: =IF(OR(C14="",D14=""),"",IF(D14<C14,"",NETWORKDAYS(C14,D14,Tatiller!$A$2:$A$60))) | H14: =IF(A14="","",IF(COUNTIF(Personel!$B$2:$B$101,A14)=0,"Personel listesinde yok",IF(AND(C14<>"",D14<>"",D14<C14),"Bitiş başlangıçtan önce","")))
E15: =IF(OR(C15="",D15=""),"",IF(D15<C15,"",NETWORKDAYS(C15,D15,Tatiller!$A$2:$A$60))) | H15: =IF(A15="","",IF(COUNTIF(Personel!$B$2:$B$101,A15)=0,"Personel listesinde yok",IF(AND(C15<>"",D15<>"",D15<C15),"Bitiş başlangıçtan önce","")))
E16: =IF(OR(C16="",D16=""),"",IF(D16<C16,"",NETWORKDAYS(C16,D16,Tatiller!$A$2:$A$60))) | H16: =IF(A16="","",IF(COUNTIF(Personel!$B$2:$B$101,A16)=0,"Personel listesinde yok",IF(AND(C16<>"",D16<>"",D16<C16),"Bitiş başlangıçtan önce","")))
E17: =IF(OR(C17="",D17=""),"",IF(D17<C17,"",NETWORKDAYS(C17,D17,Tatiller!$A$2:$A$60))) | H17: =IF(A17="","",IF(COUNTIF(Personel!$B$2:$B$101,A17)=0,"Personel listesinde yok",IF(AND(C17<>"",D17<>"",D17<C17),"Bitiş başlangıçtan önce","")))
E18: =IF(OR(C18="",D18=""),"",IF(D18<C18,"",NETWORKDAYS(C18,D18,Tatiller!$A$2:$A$60))) | H18: =IF(A18="","",IF(COUNTIF(Personel!$B$2:$B$101,A18)=0,"Personel listesinde yok",IF(AND(C18<>"",D18<>"",D18<C18),"Bitiş başlangıçtan önce","")))
E19: =IF(OR(C19="",D19=""),"",IF(D19<C19,"",NETWORKDAYS(C19,D19,Tatiller!$A$2:$A$60))) | H19: =IF(A19="","",IF(COUNTIF(Personel!$B$2:$B$101,A19)=0,"Personel listesinde yok",IF(AND(C19<>"",D19<>"",D19<C19),"Bitiş başlangıçtan önce","")))
E20: =IF(OR(C20="",D20=""),"",IF(D20<C20,"",NETWORKDAYS(C20,D20,Tatiller!$A$2:$A$60))) | H20: =IF(A20="","",IF(COUNTIF(Personel!$B$2:$B$101,A20)=0,"Personel listesinde yok",IF(AND(C20<>"",D20<>"",D20<C20),"Bitiş başlangıçtan önce","")))
E21: =IF(OR(C21="",D21=""),"",IF(D21<C21,"",NETWORKDAYS(C21,D21,Tatiller!$A$2:$A$60))) | H21: =IF(A21="","",IF(COUNTIF(Personel!$B$2:$B$101,A21)=0,"Personel listesinde yok",IF(AND(C21<>"",D21<>"",D21<C21),"Bitiş başlangıçtan önce","")))
E22: =IF(OR(C22="",D22=""),"",IF(D22<C22,"",NETWORKDAYS(C22,D22,Tatiller!$A$2:$A$60))) | H22: =IF(A22="","",IF(COUNTIF(Personel!$B$2:$B$101,A22)=0,"Personel listesinde yok",IF(AND(C22<>"",D22<>"",D22<C22),"Bitiş başlangıçtan önce","")))
E23: =IF(OR(C23="",D23=""),"",IF(D23<C23,"",NETWORKDAYS(C23,D23,Tatiller!$A$2:$A$60))) | H23: =IF(A23="","",IF(COUNTIF(Personel!$B$2:$B$101,A23)=0,"Personel listesinde yok",IF(AND(C23<>"",D23<>"",D23<C23),"Bitiş başlangıçtan önce","")))
... E301: =IF(OR(C301="",D301=""),"",IF(D301<C301,"",NETWORKDAYS(C301,D301,Tatiller!$A$2:$A$60))) | H301: =IF(A301="","",IF(COUNTIF(Personel!$B$2:$B$101,A301)=0,"Personel listesinde yok",IF(AND(C301<>"",D301<>"",D301<C301),"Bitiş başlangıçtan önce","")))

Sheet Tatiller
A1: Tarih | B1: Açıklama
A2: 46324 | B2: Cumhuriyet Bayramı
A3: 46388 | B3: Yılbaşı
