Workbook

Sheet Notlar
A1: No | B1: Ad Soyad | C1: Yazılı 1 | D1: Yazılı 2 | E1: Proje | F1: Performans 1 | G1: Performans 2 | H1: Ortalama | I1: Durum | J1: Sıra | K1: Eksik not
A2: 1 | B2: Ali Aydın | C2: 72 | D2: 80 | E2: 90 | F2: 85 | G2: 90 | H2: =IF(OR(B2="",COUNT(C2:G2)=0),"",ROUND(SUMPRODUCT(C2:G2,Ayarlar!$A$2:$E$2)/SUMPRODUCT(--(C2:G2<>""),Ayarlar!$A$2:$E$2),2)) | I2: =IF(H2="","",IF(H2>=Ayarlar!$F$2,"Geçti","Kaldı")) | J2: =IF(H2="","",_xlfn.RANK.EQ(H2,$H$2:$H$41)) | K2: =IF(B2="","",5-COUNT(C2:G2))
A3: 2 | B3: Buse Kara | C3: 45 | D3: 52 | E3: 70 | F3: 60 | G3: 65 | H3: =IF(OR(B3="",COUNT(C3:G3)=0),"",ROUND(SUMPRODUCT(C3:G3,Ayarlar!$A$2:$E$2)/SUMPRODUCT(--(C3:G3<>""),Ayarlar!$A$2:$E$2),2)) | I3: =IF(H3="","",IF(H3>=Ayarlar!$F$2,"Geçti","Kaldı")) | J3: =IF(H3="","",_xlfn.RANK.EQ(H3,$H$2:$H$41)) | K3: =IF(B3="","",5-COUNT(C3:G3))
A4: 3 | B4: Cem Öztürk | C4: 88 | D4: 94 | E4: 95 | F4: 90 | G4: 100 | H4: =IF(OR(B4="",COUNT(C4:G4)=0),"",ROUND(SUMPRODUCT(C4:G4,Ayarlar!$A$2:$E$2)/SUMPRODUCT(--(C4:G4<>""),Ayarlar!$A$2:$E$2),2)) | I4: =IF(H4="","",IF(H4>=Ayarlar!$F$2,"Geçti","Kaldı")) | J4: =IF(H4="","",_xlfn.RANK.EQ(H4,$H$2:$H$41)) | K4: =IF(B4="","",5-COUNT(C4:G4))
A5: 4 | B5: Defne Yıldız | C5: 65 | D5: 58 | E5: 80 | F5: 75 | G5: 70 | H5: =IF(OR(B5="",COUNT(C5:G5)=0),"",ROUND(SUMPRODUCT(C5:G5,Ayarlar!$A$2:$E$2)/SUMPRODUCT(--(C5:G5<>""),Ayarlar!$A$2:$E$2),2)) | I5: =IF(H5="","",IF(H5>=Ayarlar!$F$2,"Geçti","Kaldı")) | J5: =IF(H5="","",_xlfn.RANK.EQ(H5,$H$2:$H$41)) | K5: =IF(B5="","",5-COUNT(C5:G5))
A6: 5 | B6: Emre Koç | C6: 38 | D6: 41 | E6: 55 | F6: 50 | G6: 60 | H6: =IF(OR(B6="",COUNT(C6:G6)=0),"",ROUND(SUMPRODUCT(C6:G6,Ayarlar!$A$2:$E$2)/SUMPRODUCT(--(C6:G6<>""),Ayarlar!$A$2:$E$2),2)) | I6: =IF(H6="","",IF(H6>=Ayarlar!$F$2,"Geçti","Kaldı")) | J6: =IF(H6="","",_xlfn.RANK.EQ(H6,$H$2:$H$41)) | K6: =IF(B6="","",5-COUNT(C6:G6))
A7: 6 | B7: Feyza Polat | C7: 92 | D7: 85 | E7: 100 | F7: 95 | G7: 95 | H7: =IF(OR(B7="",COUNT(C7:G7)=0),"",ROUND(SUMPRODUCT(C7:G7,Ayarlar!$A$2:$E$2)/SUMPRODUCT(--(C7:G7<>""),Ayarlar!$A$2:$E$2),2)) | I7: =IF(H7="","",IF(H7>=Ayarlar!$F$2,"Geçti","Kaldı")) | J7: =IF(H7="","",_xlfn.RANK.EQ(H7,$H$2:$H$41)) | K7: =IF(B7="","",5-COUNT(C7:G7))
A8: 7 | B8: Gökhan Uçar | C8: 55 | E8: 75 | F8: 70 | G8: 80 | H8: =IF(OR(B8="",COUNT(C8:G8)=0),"",ROUND(SUMPRODUCT(C8:G8,Ayarlar!$A$2:$E$2)/SUMPRODUCT(--(C8:G8<>""),Ayarlar!$A$2:$E$2),2)) | I8: =IF(H8="","",IF(H8>=Ayarlar!$F$2,"Geçti","Kaldı")) | J8: =IF(H8="","",_xlfn.RANK.EQ(H8,$H$2:$H$41)) | K8: =IF(B8="","",5-COUNT(C8:G8))
A9: 8 | B9: Hilal Erdem | C9: 77 | D9: 70 | E9: 85 | F9: 80 | G9: 85 | H9: =IF(OR(B9="",COUNT(C9:G9)=0),"",ROUND(SUMPRODUCT(C9:G9,Ayarlar!$A$2:$E$2)/SUMPRODUCT(--(C9:G9<>""),Ayarlar!$A$2:$E$2),2)) | I9: =IF(H9="","",IF(H9>=Ayarlar!$F$2,"Geçti","Kaldı")) | J9: =IF(H9="","",_xlfn.RANK.EQ(H9,$H$2:$H$41)) | K9: =IF(B9="","",5-COUNT(C9:G9))
A10: 9 | B10: İlker Tan | C10: 30 | D10: 35 | E10: 40 | F10: 50 | G10: 45 | H10: =IF(OR(B10="",COUNT(C10:G10)=0),"",ROUND(SUMPRODUCT(C10:G10,Ayarlar!$A$2:$E$2)/SUMPRODUCT(--(C10:G10<>""),Ayarlar!$A$2:$E$2),2)) | I10: =IF(H10="","",IF(H10>=Ayarlar!$F$2,"Geçti","Kaldı")) | J10: =IF(H10="","",_xlfn.RANK.EQ(H10,$H$2:$H$41)) | K10: =IF(B10="","",5-COUNT(C10:G10))
A11: 10 | B11: Jale Su | C11: 60 | D11: 68 | E11: 70 | F11: 65 | G11: 75 | H11: =IF(OR(B11="",COUNT(C11:G11)=0),"",ROUND(SUMPRODUCT(C11:G11,Ayarlar!$A$2:$E$2)/SUMPRODUCT(--(C11:G11<>""),Ayarlar!$A$2:$E$2),2)) | I11: =IF(H11="","",IF(H11>=Ayarlar!$F$2,"Geçti","Kaldı")) | J11: =IF(H11="","",_xlfn.RANK.EQ(H11,$H$2:$H$41)) | K11: =IF(B11="","",5-COUNT(C11:G11))
A12: 11 | B12: Kerem Bulut | C12: 81 | D12: 76 | E12: 90 | F12: 85 | G12: 80 | H12: =IF(OR(B12="",COUNT(C12:G12)=0),"",ROUND(SUMPRODUCT(C12:G12,Ayarlar!$A$2:$E$2)/SUMPRODUCT(--(C12:G12<>""),Ayarlar!$A$2:$E$2),2)) | I12: =IF(H12="","",IF(H12>=Ayarlar!$F$2,"Geçti","Kaldı")) | J12: =IF(H12="","",_xlfn.RANK.EQ(H12,$H$2:$H$41)) | K12: =IF(B12="","",5-COUNT(C12:G12))
A13: 12 | B13: Leyla Akın | C13: 50 | D13: 47 | E13: 65 | F13: 70 | G13: 60 | H13: =IF(OR(B13="",COUNT(C13:G13)=0),"",ROUND(SUMPRODUCT(C13:G13,Ayarlar!$A$2:$E$2)/SUMPRODUCT(--(C13:G13<>""),Ayarlar!$A$2:$E$2),2)) | I13: =IF(H13="","",IF(H13>=Ayarlar!$F$2,"Geçti","Kaldı")) | J13: =IF(H13="","",_xlfn.RANK.EQ(H13,$H$2:$H$41)) | K13: =IF(B13="","",5-COUNT(C13:G13))
H14: =IF(OR(B14="",COUNT(C14:G14)=0),"",ROUND(SUMPRODUCT(C14:G14,Ayarlar!$A$2:$E$2)/SUMPRODUCT(--(C14:G14<>""),Ayarlar!$A$2:$E$2),2)) | I14: =IF(H14="","",IF(H14>=Ayarlar!$F$2,"Geçti","Kaldı")) | J14: =IF(H14="","",_xlfn.RANK.EQ(H14,$H$2:$H$41)) | K14: =IF(B14="","",5-COUNT(C14:G14))
H15: =IF(OR(B15="",COUNT(C15:G15)=0),"",ROUND(SUMPRODUCT(C15:G15,Ayarlar!$A$2:$E$2)/SUMPRODUCT(--(C15:G15<>""),Ayarlar!$A$2:$E$2),2)) | I15: =IF(H15="","",IF(H15>=Ayarlar!$F$2,"Geçti","Kaldı")) | J15: =IF(H15="","",_xlfn.RANK.EQ(H15,$H$2:$H$41)) | K15: =IF(B15="","",5-COUNT(C15:G15))
H16: =IF(OR(B16="",COUNT(C16:G16)=0),"",ROUND(SUMPRODUCT(C16:G16,Ayarlar!$A$2:$E$2)/SUMPRODUCT(--(C16:G16<>""),Ayarlar!$A$2:$E$2),2)) | I16: =IF(H16="","",IF(H16>=Ayarlar!$F$2,"Geçti","Kaldı")) | J16: =IF(H16="","",_xlfn.RANK.EQ(H16,$H$2:$H$41)) | K16: =IF(B16="","",5-COUNT(C16:G16))
H17: =IF(OR(B17="",COUNT(C17:G17)=0),"",ROUND(SUMPRODUCT(C17:G17,Ayarlar!$A$2:$E$2)/SUMPRODUCT(--(C17:G17<>""),Ayarlar!$A$2:$E$2),2)) | I17: =IF(H17="","",IF(H17>=Ayarlar!$F$2,"Geçti","Kaldı")) | J17: =IF(H17="","",_xlfn.RANK.EQ(H17,$H$2:$H$41)) | K17: =IF(B17="","",5-COUNT(C17:G17))
H18: =IF(OR(B18="",COUNT(C18:G18)=0),"",ROUND(SUMPRODUCT(C18:G18,Ayarlar!$A$2:$E$2)/SUMPRODUCT(--(C18:G18<>""),Ayarlar!$A$2:$E$2),2)) | I18: =IF(H18="","",IF(H18>=Ayarlar!$F$2,"Geçti","Kaldı")) | J18: =IF(H18="","",_xlfn.RANK.EQ(H18,$H$2:$H$41)) | K18: =IF(B18="","",5-COUNT(C18:G18))
H19: =IF(OR(B19="",COUNT(C19:G19)=0),"",ROUND(SUMPRODUCT(C19:G19,Ayarlar!$A$2:$E$2)/SUMPRODUCT(--(C19:G19<>""),Ayarlar!$A$2:$E$2),2)) | I19: =IF(H19="","",IF(H19>=Ayarlar!$F$2,"Geçti","Kaldı")) | J19: =IF(H19="","",_xlfn.RANK.EQ(H19,$H$2:$H$41)) | K19: =IF(B19="","",5-COUNT(C19:G19))
H20: =IF(OR(B20="",COUNT(C20:G20)=0),"",ROUND(SUMPRODUCT(C20:G20,Ayarlar!$A$2:$E$2)/SUMPRODUCT(--(C20:G20<>""),Ayarlar!$A$2:$E$2),2)) | I20: =IF(H20="","",IF(H20>=Ayarlar!$F$2,"Geçti","Kaldı")) | J20: =IF(H20="","",_xlfn.RANK.EQ(H20,$H$2:$H$41)) | K20: =IF(B20="","",5-COUNT(C20:G20))
H21: =IF(OR(B21="",COUNT(C21:G21)=0),"",ROUND(SUMPRODUCT(C21:G21,Ayarlar!$A$2:$E$2)/SUMPRODUCT(--(C21:G21<>""),Ayarlar!$A$2:$E$2),2)) | I21: =IF(H21="","",IF(H21>=Ayarlar!$F$2,"Geçti","Kaldı")) | J21: =IF(H21="","",_xlfn.RANK.EQ(H21,$H$2:$H$41)) | K21: =IF(B21="","",5-COUNT(C21:G21))
H22: =IF(OR(B22="",COUNT(C22:G22)=0),"",ROUND(SUMPRODUCT(C22:G22,Ayarlar!$A$2:$E$2)/SUMPRODUCT(--(C22:G22<>""),Ayarlar!$A$2:$E$2),2)) | I22: =IF(H22="","",IF(H22>=Ayarlar!$F$2,"Geçti","Kaldı")) | J22: =IF(H22="","",_xlfn.RANK.EQ(H22,$H$2:$H$41)) | K22: =IF(B22="","",5-COUNT(C22:G22))
H23: =IF(OR(B23="",COUNT(C23:G23)=0),"",ROUND(SUMPRODUCT(C23:G23,Ayarlar!$A$2:$E$2)/SUMPRODUCT(--(C23:G23<>""),Ayarlar!$A$2:$E$2),2)) | I23: =IF(H23="","",IF(H23>=Ayarlar!$F$2,"Geçti","Kaldı")) | J23: =IF(H23="","",_xlfn.RANK.EQ(H23,$H$2:$H$41)) | K23: =IF(B23="","",5-COUNT(C23:G23))
H24: =IF(OR(B24="",COUNT(C24:G24)=0),"",ROUND(SUMPRODUCT(C24:G24,Ayarlar!$A$2:$E$2)/SUMPRODUCT(--(C24:G24<>""),Ayarlar!$A$2:$E$2),2)) | I24: =IF(H24="","",IF(H24>=Ayarlar!$F$2,"Geçti","Kaldı")) | J24: =IF(H24="","",_xlfn.RANK.EQ(H24,$H$2:$H$41)) | K24: =IF(B24="","",5-COUNT(C24:G24))
H25: =IF(OR(B25="",COUNT(C25:G25)=0),"",ROUND(SUMPRODUCT(C25:G25,Ayarlar!$A$2:$E$2)/SUMPRODUCT(--(C25:G25<>""),Ayarlar!$A$2:$E$2),2)) | I25: =IF(H25="","",IF(H25>=Ayarlar!$F$2,"Geçti","Kaldı")) | J25: =IF(H25="","",_xlfn.RANK.EQ(H25,$H$2:$H$41)) | K25: =IF(B25="","",5-COUNT(C25:G25))
... H41: =IF(OR(B41="",COUNT(C41:G41)=0),"",ROUND(SUMPRODUCT(C41:G41,Ayarlar!$A$2:$E$2)/SUMPRODUCT(--(C41:G41<>""),Ayarlar!$A$2:$E$2),2)) | I41: =IF(H41="","",IF(H41>=Ayarlar!$F$2,"Geçti","Kaldı")) | J41: =IF(H41="","",_xlfn.RANK.EQ(H41,$H$2:$H$41)) | K41: =IF(B41="","",5-COUNT(C41:G41))

Sheet Ayarlar
A1: Yazılı 1 ağırlığı | B1: Yazılı 2 ağırlığı | C1: Proje ağırlığı | D1: Performans 1 ağırlığı | E1: Performans 2 ağırlığı | F1: Geçme notu
A2: 1 | B2: 1 | C2: 1 | D2: 1 | E2: 1 | F2: 50

Sheet Özet
A1: Değerlendirme | B1: Sınıf ortalaması | C1: En yüksek | D1: En düşük | E1: Not giren | F1: Geçme notu altında
A2: Yazılı 1 | B2: =IF(COUNT(Notlar!C$2:C$41)=0,"",ROUND(AVERAGE(Notlar!C$2:C$41),2)) | C2: =MAX(Notlar!C$2:C$41) | D2: =MIN(Notlar!C$2:C$41) | E2: =COUNT(Notlar!C$2:C$41) | F2: =COUNTIF(Notlar!C$2:C$41,"<"&Ayarlar!$F$2) | I2: Geçen öğrenci | J2: =COUNTIF(Notlar!$I$2:$I$41,"Geçti")
A3: Yazılı 2 | B3: =IF(COUNT(Notlar!D$2:D$41)=0,"",ROUND(AVERAGE(Notlar!D$2:D$41),2)) | C3: =MAX(Notlar!D$2:D$41) | D3: =MIN(Notlar!D$2:D$41) | E3: =COUNT(Notlar!D$2:D$41) | F3: =COUNTIF(Notlar!D$2:D$41,"<"&Ayarlar!$F$2) | I3: Kalan öğrenci | J3: =COUNTIF(Notlar!$I$2:$I$41,"Kaldı")
A4: Proje | B4: =IF(COUNT(Notlar!E$2:E$41)=0,"",ROUND(AVERAGE(Notlar!E$2:E$41),2)) | C4: =MAX(Notlar!E$2:E$41) | D4: =MIN(Notlar!E$2:E$41) | E4: =COUNT(Notlar!E$2:E$41) | F4: =COUNTIF(Notlar!E$2:E$41,"<"&Ayarlar!$F$2) | I4: Başarı oranı | J4: =IF(J2+J3=0,"",J2/(J2+J3))
A5: Performans 1 | B5: =IF(COUNT(Notlar!F$2:F$41)=0,"",ROUND(AVERAGE(Notlar!F$2:F$41),2)) | C5: =MAX(Notlar!F$2:F$41) | D5: =MIN(Notlar!F$2:F$41) | E5: =COUNT(Notlar!F$2:F$41) | F5: =COUNTIF(Notlar!F$2:F$41,"<"&Ayarlar!$F$2) | I5: En yüksek ortalama | J5: =IF(COUNT(Notlar!$H$2:$H$41)=0,"",INDEX(Notlar!$B$2:$B$41,MATCH(MAX(Notlar!$H$2:$H$41),Notlar!$H$2:$H$41,0)))
A6: Performans 2 | B6: =IF(COUNT(Notlar!G$2:G$41)=0,"",ROUND(AVERAGE(Notlar!G$2:G$41),2)) | C6: =MAX(Notlar!G$2:G$41) | D6: =MIN(Notlar!G$2:G$41) | E6: =COUNT(Notlar!G$2:G$41) | F6: =COUNTIF(Notlar!G$2:G$41,"<"&Ayarlar!$F$2) | I6: Girilmemiş not sayısı | J6: =SUMIF(Notlar!$K$2:$K$41,">0")
A7: Dönem ortalaması | B7: =IF(COUNT(Notlar!H$2:H$41)=0,"",ROUND(AVERAGE(Notlar!H$2:H$41),2)) | C7: =MAX(Notlar!H$2:H$41) | D7: =MIN(Notlar!H$2:H$41) | E7: =COUNT(Notlar!H$2:H$41) | F7: =COUNTIF(Notlar!H$2:H$41,"<"&Ayarlar!$F$2)
