Workbook

Sheet Ödemeler
A1: Ödeme | B1: Kategori | C1: Alıcı / kurum | D1: Vade tarihi | E1: Tutar | F1: Ödeme tarihi | G1: Ödenen tutar | H1: Kalan | I1: Vadeye kalan gün | J1: Durum
A2: Ev kirası | B2: Kira | C2: Ev sahibi | D2: 46300 | E2: 18000 | F2: 46299 | G2: 18000 | H2: =IF(A2="","",E2-N(G2)) | I2: =IF(OR(A2="",D2=""),"",IF(H2<=0,"",D2-TODAY())) | J2: =IF(A2="","",IF(H2<=0,"Ödendi",IF(D2="","Vade yok",IF(D2<TODAY(),"Gecikti",IF(D2-TODAY()<=7,"Yaklaşıyor",IF(N(G2)>0,"Kısmi ödendi","Bekliyor"))))))
A3: Site aidatı | B3: Aidat | C3: Yönetim | D3: 46305 | E3: 1500 | F3: 46304 | G3: 1500 | H3: =IF(A3="","",E3-N(G3)) | I3: =IF(OR(A3="",D3=""),"",IF(H3<=0,"",D3-TODAY())) | J3: =IF(A3="","",IF(H3<=0,"Ödendi",IF(D3="","Vade yok",IF(D3<TODAY(),"Gecikti",IF(D3-TODAY()<=7,"Yaklaşıyor",IF(N(G3)>0,"Kısmi ödendi","Bekliyor"))))))
A4: Elektrik faturası | B4: Elektrik | C4: Dağıtım şirketi | D4: 46315 | E4: 1240 | H4: =IF(A4="","",E4-N(G4)) | I4: =IF(OR(A4="",D4=""),"",IF(H4<=0,"",D4-TODAY())) | J4: =IF(A4="","",IF(H4<=0,"Ödendi",IF(D4="","Vade yok",IF(D4<TODAY(),"Gecikti",IF(D4-TODAY()<=7,"Yaklaşıyor",IF(N(G4)>0,"Kısmi ödendi","Bekliyor"))))))
A5: İnternet | B5: İnternet ve telefon | C5: Servis sağlayıcı | D5: 46317 | E5: 650 | F5: 46317 | G5: 650 | H5: =IF(A5="","",E5-N(G5)) | I5: =IF(OR(A5="",D5=""),"",IF(H5<=0,"",D5-TODAY())) | J5: =IF(A5="","",IF(H5<=0,"Ödendi",IF(D5="","Vade yok",IF(D5<TODAY(),"Gecikti",IF(D5-TODAY()<=7,"Yaklaşıyor",IF(N(G5)>0,"Kısmi ödendi","Bekliyor"))))))
A6: Kredi kartı ekstresi | B6: Kredi kartı | C6: Banka A | D6: 46322 | E6: 9800 | H6: =IF(A6="","",E6-N(G6)) | I6: =IF(OR(A6="",D6=""),"",IF(H6<=0,"",D6-TODAY())) | J6: =IF(A6="","",IF(H6<=0,"Ödendi",IF(D6="","Vade yok",IF(D6<TODAY(),"Gecikti",IF(D6-TODAY()<=7,"Yaklaşıyor",IF(N(G6)>0,"Kısmi ödendi","Bekliyor"))))))
A7: Taşıt kredisi taksiti | B7: Kredi taksiti | C7: Banka B | D7: 46329 | E7: 7500 | H7: =IF(A7="","",E7-N(G7)) | I7: =IF(OR(A7="",D7=""),"",IF(H7<=0,"",D7-TODAY())) | J7: =IF(A7="","",IF(H7<=0,"Ödendi",IF(D7="","Vade yok",IF(D7<TODAY(),"Gecikti",IF(D7-TODAY()<=7,"Yaklaşıyor",IF(N(G7)>0,"Kısmi ödendi","Bekliyor"))))))
A8: Doğalgaz faturası | B8: Doğalgaz | C8: Dağıtım şirketi | D8: 46330 | E8: 900 | H8: =IF(A8="","",E8-N(G8)) | I8: =IF(OR(A8="",D8=""),"",IF(H8<=0,"",D8-TODAY())) | J8: =IF(A8="","",IF(H8<=0,"Ödendi",IF(D8="","Vade yok",IF(D8<TODAY(),"Gecikti",IF(D8-TODAY()<=7,"Yaklaşıyor",IF(N(G8)>0,"Kısmi ödendi","Bekliyor"))))))
A9: Kasko taksiti | B9: Sigorta | C9: Sigorta şirketi | D9: 46338 | E9: 2100 | H9: =IF(A9="","",E9-N(G9)) | I9: =IF(OR(A9="",D9=""),"",IF(H9<=0,"",D9-TODAY())) | J9: =IF(A9="","",IF(H9<=0,"Ödendi",IF(D9="","Vade yok",IF(D9<TODAY(),"Gecikti",IF(D9-TODAY()<=7,"Yaklaşıyor",IF(N(G9)>0,"Kısmi ödendi","Bekliyor"))))))
A10: Okul servis ücreti | B10: Okul | C10: Servis firması | D10: 46341 | E10: 3000 | F10: 46315 | G10: 1500 | H10: =IF(A10="","",E10-N(G10)) | I10: =IF(OR(A10="",D10=""),"",IF(H10<=0,"",D10-TODAY())) | J10: =IF(A10="","",IF(H10<=0,"Ödendi",IF(D10="","Vade yok",IF(D10<TODAY(),"Gecikti",IF(D10-TODAY()<=7,"Yaklaşıyor",IF(N(G10)>0,"Kısmi ödendi","Bekliyor"))))))
A11: Su faturası | B11: Su | C11: Belediye | D11: 46344 | E11: 420 | H11: =IF(A11="","",E11-N(G11)) | I11: =IF(OR(A11="",D11=""),"",IF(H11<=0,"",D11-TODAY())) | J11: =IF(A11="","",IF(H11<=0,"Ödendi",IF(D11="","Vade yok",IF(D11<TODAY(),"Gecikti",IF(D11-TODAY()<=7,"Yaklaşıyor",IF(N(G11)>0,"Kısmi ödendi","Bekliyor"))))))
A12: Ev kirası | B12: Kira | C12: Ev sahibi | D12: 46331 | E12: 18000 | H12: =IF(A12="","",E12-N(G12)) | I12: =IF(OR(A12="",D12=""),"",IF(H12<=0,"",D12-TODAY())) | J12: =IF(A12="","",IF(H12<=0,"Ödendi",IF(D12="","Vade yok",IF(D12<TODAY(),"Gecikti",IF(D12-TODAY()<=7,"Yaklaşıyor",IF(N(G12)>0,"Kısmi ödendi","Bekliyor"))))))
A13: Site aidatı | B13: Aidat | C13: Yönetim | D13: 46336 | E13: 1500 | H13: =IF(A13="","",E13-N(G13)) | I13: =IF(OR(A13="",D13=""),"",IF(H13<=0,"",D13-TODAY())) | J13: =IF(A13="","",IF(H13<=0,"Ödendi",IF(D13="","Vade yok",IF(D13<TODAY(),"Gecikti",IF(D13-TODAY()<=7,"Yaklaşıyor",IF(N(G13)>0,"Kısmi ödendi","Bekliyor"))))))
H14: =IF(A14="","",E14-N(G14)) | I14: =IF(OR(A14="",D14=""),"",IF(H14<=0,"",D14-TODAY())) | J14: =IF(A14="","",IF(H14<=0,"Ödendi",IF(D14="","Vade yok",IF(D14<TODAY(),"Gecikti",IF(D14-TODAY()<=7,"Yaklaşıyor",IF(N(G14)>0,"Kısmi ödendi","Bekliyor"))))))
H15: =IF(A15="","",E15-N(G15)) | I15: =IF(OR(A15="",D15=""),"",IF(H15<=0,"",D15-TODAY())) | J15: =IF(A15="","",IF(H15<=0,"Ödendi",IF(D15="","Vade yok",IF(D15<TODAY(),"Gecikti",IF(D15-TODAY()<=7,"Yaklaşıyor",IF(N(G15)>0,"Kısmi ödendi","Bekliyor"))))))
H16: =IF(A16="","",E16-N(G16)) | I16: =IF(OR(A16="",D16=""),"",IF(H16<=0,"",D16-TODAY())) | J16: =IF(A16="","",IF(H16<=0,"Ödendi",IF(D16="","Vade yok",IF(D16<TODAY(),"Gecikti",IF(D16-TODAY()<=7,"Yaklaşıyor",IF(N(G16)>0,"Kısmi ödendi","Bekliyor"))))))
H17: =IF(A17="","",E17-N(G17)) | I17: =IF(OR(A17="",D17=""),"",IF(H17<=0,"",D17-TODAY())) | J17: =IF(A17="","",IF(H17<=0,"Ödendi",IF(D17="","Vade yok",IF(D17<TODAY(),"Gecikti",IF(D17-TODAY()<=7,"Yaklaşıyor",IF(N(G17)>0,"Kısmi ödendi","Bekliyor"))))))
H18: =IF(A18="","",E18-N(G18)) | I18: =IF(OR(A18="",D18=""),"",IF(H18<=0,"",D18-TODAY())) | J18: =IF(A18="","",IF(H18<=0,"Ödendi",IF(D18="","Vade yok",IF(D18<TODAY(),"Gecikti",IF(D18-TODAY()<=7,"Yaklaşıyor",IF(N(G18)>0,"Kısmi ödendi","Bekliyor"))))))
H19: =IF(A19="","",E19-N(G19)) | I19: =IF(OR(A19="",D19=""),"",IF(H19<=0,"",D19-TODAY())) | J19: =IF(A19="","",IF(H19<=0,"Ödendi",IF(D19="","Vade yok",IF(D19<TODAY(),"Gecikti",IF(D19-TODAY()<=7,"Yaklaşıyor",IF(N(G19)>0,"Kısmi ödendi","Bekliyor"))))))
H20: =IF(A20="","",E20-N(G20)) | I20: =IF(OR(A20="",D20=""),"",IF(H20<=0,"",D20-TODAY())) | J20: =IF(A20="","",IF(H20<=0,"Ödendi",IF(D20="","Vade yok",IF(D20<TODAY(),"Gecikti",IF(D20-TODAY()<=7,"Yaklaşıyor",IF(N(G20)>0,"Kısmi ödendi","Bekliyor"))))))
H21: =IF(A21="","",E21-N(G21)) | I21: =IF(OR(A21="",D21=""),"",IF(H21<=0,"",D21-TODAY())) | J21: =IF(A21="","",IF(H21<=0,"Ödendi",IF(D21="","Vade yok",IF(D21<TODAY(),"Gecikti",IF(D21-TODAY()<=7,"Yaklaşıyor",IF(N(G21)>0,"Kısmi ödendi","Bekliyor"))))))
H22: =IF(A22="","",E22-N(G22)) | I22: =IF(OR(A22="",D22=""),"",IF(H22<=0,"",D22-TODAY())) | J22: =IF(A22="","",IF(H22<=0,"Ödendi",IF(D22="","Vade yok",IF(D22<TODAY(),"Gecikti",IF(D22-TODAY()<=7,"Yaklaşıyor",IF(N(G22)>0,"Kısmi ödendi","Bekliyor"))))))
H23: =IF(A23="","",E23-N(G23)) | I23: =IF(OR(A23="",D23=""),"",IF(H23<=0,"",D23-TODAY())) | J23: =IF(A23="","",IF(H23<=0,"Ödendi",IF(D23="","Vade yok",IF(D23<TODAY(),"Gecikti",IF(D23-TODAY()<=7,"Yaklaşıyor",IF(N(G23)>0,"Kısmi ödendi","Bekliyor"))))))
H24: =IF(A24="","",E24-N(G24)) | I24: =IF(OR(A24="",D24=""),"",IF(H24<=0,"",D24-TODAY())) | J24: =IF(A24="","",IF(H24<=0,"Ödendi",IF(D24="","Vade yok",IF(D24<TODAY(),"Gecikti",IF(D24-TODAY()<=7,"Yaklaşıyor",IF(N(G24)>0,"Kısmi ödendi","Bekliyor"))))))
H25: =IF(A25="","",E25-N(G25)) | I25: =IF(OR(A25="",D25=""),"",IF(H25<=0,"",D25-TODAY())) | J25: =IF(A25="","",IF(H25<=0,"Ödendi",IF(D25="","Vade yok",IF(D25<TODAY(),"Gecikti",IF(D25-TODAY()<=7,"Yaklaşıyor",IF(N(G25)>0,"Kısmi ödendi","Bekliyor"))))))
... H201: =IF(A201="","",E201-N(G201)) | I201: =IF(OR(A201="",D201=""),"",IF(H201<=0,"",D201-TODAY())) | J201: =IF(A201="","",IF(H201<=0,"Ödendi",IF(D201="","Vade yok",IF(D201<TODAY(),"Gecikti",IF(D201-TODAY()<=7,"Yaklaşıyor",IF(N(G201)>0,"Kısmi ödendi","Bekliyor"))))))

Sheet Özet
A1: Kategori | B1: Toplam | C1: Ödenen | D1: Kalan
A2: Kira | B2: =SUMIFS(Ödemeler!$E:$E,Ödemeler!$B:$B,A2) | C2: =SUMIFS(Ödemeler!$G:$G,Ödemeler!$B:$B,A2) | D2: =B2-C2 | G2: Geciken tutar | H2: =SUMIFS(Ödemeler!$H:$H,Ödemeler!$J:$J,"Gecikti")
A3: Aidat | B3: =SUMIFS(Ödemeler!$E:$E,Ödemeler!$B:$B,A3) | C3: =SUMIFS(Ödemeler!$G:$G,Ödemeler!$B:$B,A3) | D3: =B3-C3 | G3: Geciken ödeme sayısı | H3: =COUNTIF(Ödemeler!$J:$J,"Gecikti")
A4: Elektrik | B4: =SUMIFS(Ödemeler!$E:$E,Ödemeler!$B:$B,A4) | C4: =SUMIFS(Ödemeler!$G:$G,Ödemeler!$B:$B,A4) | D4: =B4-C4 | G4: 7 gün içinde ödenecek | H4: =SUMIFS(Ödemeler!$H:$H,Ödemeler!$J:$J,"Yaklaşıyor")
A5: Doğalgaz | B5: =SUMIFS(Ödemeler!$E:$E,Ödemeler!$B:$B,A5) | C5: =SUMIFS(Ödemeler!$G:$G,Ödemeler!$B:$B,A5) | D5: =B5-C5 | G5: Bu ay vadesi gelen | H5: =SUMIFS(Ödemeler!$E:$E,Ödemeler!$D:$D,">="&DATE(YEAR(TODAY()),MONTH(TODAY()),1),Ödemeler!$D:$D,"<="&EOMONTH(TODAY(),0))
A6: Su | B6: =SUMIFS(Ödemeler!$E:$E,Ödemeler!$B:$B,A6) | C6: =SUMIFS(Ödemeler!$G:$G,Ödemeler!$B:$B,A6) | D6: =B6-C6 | G6: Gelecek ay kalan | H6: =SUMIFS(Ödemeler!$H:$H,Ödemeler!$D:$D,">"&EOMONTH(TODAY(),0),Ödemeler!$D:$D,"<="&EOMONTH(TODAY(),1))
A7: İnternet ve telefon | B7: =SUMIFS(Ödemeler!$E:$E,Ödemeler!$B:$B,A7) | C7: =SUMIFS(Ödemeler!$G:$G,Ödemeler!$B:$B,A7) | D7: =B7-C7
A8: Kredi kartı | B8: =SUMIFS(Ödemeler!$E:$E,Ödemeler!$B:$B,A8) | C8: =SUMIFS(Ödemeler!$G:$G,Ödemeler!$B:$B,A8) | D8: =B8-C8
A9: Kredi taksiti | B9: =SUMIFS(Ödemeler!$E:$E,Ödemeler!$B:$B,A9) | C9: =SUMIFS(Ödemeler!$G:$G,Ödemeler!$B:$B,A9) | D9: =B9-C9
A10: Sigorta | B10: =SUMIFS(Ödemeler!$E:$E,Ödemeler!$B:$B,A10) | C10: =SUMIFS(Ödemeler!$G:$G,Ödemeler!$B:$B,A10) | D10: =B10-C10
A11: Okul | B11: =SUMIFS(Ödemeler!$E:$E,Ödemeler!$B:$B,A11) | C11: =SUMIFS(Ödemeler!$G:$G,Ödemeler!$B:$B,A11) | D11: =B11-C11
A12: Tedarikçi | B12: =SUMIFS(Ödemeler!$E:$E,Ödemeler!$B:$B,A12) | C12: =SUMIFS(Ödemeler!$G:$G,Ödemeler!$B:$B,A12) | D12: =B12-C12
A13: Diğer | B13: =SUMIFS(Ödemeler!$E:$E,Ödemeler!$B:$B,A13) | C13: =SUMIFS(Ödemeler!$G:$G,Ödemeler!$B:$B,A13) | D13: =B13-C13
A14: Toplam | B14: =SUM(B2:B13) | C14: =SUM(C2:C13) | D14: =SUM(D2:D13)
