Workbook

Sheet Liste
A1: Tarih | B1: Gün | C1: Gün türü | D1: Sıradaki (otomatik) | E1: Değişiklik | F1: Nöbetçi | G1: Not
A2: =$J$2 | B2: =IF(A2="","",CHOOSE(WEEKDAY(A2,2),"Pazartesi","Salı","Çarşamba","Perşembe","Cuma","Cumartesi","Pazar")) | C2: =IF(A2="","",IF(WEEKDAY(A2,2)>5,"Hafta sonu","Hafta içi")) | D2: =IFERROR(INDEX(Personel!$B$2:$B$21,MOD(ROW()-2+$J$3-1,COUNTA(Personel!$B$2:$B$21))+1),"") | F2: =IF(E2<>"",E2,D2) | I2: Başlangıç tarihi | J2: 46327
A3: =A2+1 | B3: =IF(A3="","",CHOOSE(WEEKDAY(A3,2),"Pazartesi","Salı","Çarşamba","Perşembe","Cuma","Cumartesi","Pazar")) | C3: =IF(A3="","",IF(WEEKDAY(A3,2)>5,"Hafta sonu","Hafta içi")) | D3: =IFERROR(INDEX(Personel!$B$2:$B$21,MOD(ROW()-2+$J$3-1,COUNTA(Personel!$B$2:$B$21))+1),"") | F3: =IF(E3<>"",E3,D3) | I3: İlk nöbetçinin sıra no | J3: 1
A4: =A3+1 | B4: =IF(A4="","",CHOOSE(WEEKDAY(A4,2),"Pazartesi","Salı","Çarşamba","Perşembe","Cuma","Cumartesi","Pazar")) | C4: =IF(A4="","",IF(WEEKDAY(A4,2)>5,"Hafta sonu","Hafta içi")) | D4: =IFERROR(INDEX(Personel!$B$2:$B$21,MOD(ROW()-2+$J$3-1,COUNTA(Personel!$B$2:$B$21))+1),"") | F4: =IF(E4<>"",E4,D4) | I4: Nöbet tutan kişi sayısı | J4: =COUNTA(Personel!$B$2:$B$21)
A5: =A4+1 | B5: =IF(A5="","",CHOOSE(WEEKDAY(A5,2),"Pazartesi","Salı","Çarşamba","Perşembe","Cuma","Cumartesi","Pazar")) | C5: =IF(A5="","",IF(WEEKDAY(A5,2)>5,"Hafta sonu","Hafta içi")) | D5: =IFERROR(INDEX(Personel!$B$2:$B$21,MOD(ROW()-2+$J$3-1,COUNTA(Personel!$B$2:$B$21))+1),"") | F5: =IF(E5<>"",E5,D5) | I5: Elle değişen gün | J5: =COUNTIF(E2:E62,"?*")
A6: =A5+1 | B6: =IF(A6="","",CHOOSE(WEEKDAY(A6,2),"Pazartesi","Salı","Çarşamba","Perşembe","Cuma","Cumartesi","Pazar")) | C6: =IF(A6="","",IF(WEEKDAY(A6,2)>5,"Hafta sonu","Hafta içi")) | D6: =IFERROR(INDEX(Personel!$B$2:$B$21,MOD(ROW()-2+$J$3-1,COUNTA(Personel!$B$2:$B$21))+1),"") | F6: =IF(E6<>"",E6,D6)
A7: =A6+1 | B7: =IF(A7="","",CHOOSE(WEEKDAY(A7,2),"Pazartesi","Salı","Çarşamba","Perşembe","Cuma","Cumartesi","Pazar")) | C7: =IF(A7="","",IF(WEEKDAY(A7,2)>5,"Hafta sonu","Hafta içi")) | D7: =IFERROR(INDEX(Personel!$B$2:$B$21,MOD(ROW()-2+$J$3-1,COUNTA(Personel!$B$2:$B$21))+1),"") | E7: Can Yılmaz | F7: =IF(E7<>"",E7,D7) | G7: Burak Çelik izinli, yerine Can Yılmaz
A8: =A7+1 | B8: =IF(A8="","",CHOOSE(WEEKDAY(A8,2),"Pazartesi","Salı","Çarşamba","Perşembe","Cuma","Cumartesi","Pazar")) | C8: =IF(A8="","",IF(WEEKDAY(A8,2)>5,"Hafta sonu","Hafta içi")) | D8: =IFERROR(INDEX(Personel!$B$2:$B$21,MOD(ROW()-2+$J$3-1,COUNTA(Personel!$B$2:$B$21))+1),"") | F8: =IF(E8<>"",E8,D8)
A9: =A8+1 | B9: =IF(A9="","",CHOOSE(WEEKDAY(A9,2),"Pazartesi","Salı","Çarşamba","Perşembe","Cuma","Cumartesi","Pazar")) | C9: =IF(A9="","",IF(WEEKDAY(A9,2)>5,"Hafta sonu","Hafta içi")) | D9: =IFERROR(INDEX(Personel!$B$2:$B$21,MOD(ROW()-2+$J$3-1,COUNTA(Personel!$B$2:$B$21))+1),"") | F9: =IF(E9<>"",E9,D9)
A10: =A9+1 | B10: =IF(A10="","",CHOOSE(WEEKDAY(A10,2),"Pazartesi","Salı","Çarşamba","Perşembe","Cuma","Cumartesi","Pazar")) | C10: =IF(A10="","",IF(WEEKDAY(A10,2)>5,"Hafta sonu","Hafta içi")) | D10: =IFERROR(INDEX(Personel!$B$2:$B$21,MOD(ROW()-2+$J$3-1,COUNTA(Personel!$B$2:$B$21))+1),"") | F10: =IF(E10<>"",E10,D10)
A11: =A10+1 | B11: =IF(A11="","",CHOOSE(WEEKDAY(A11,2),"Pazartesi","Salı","Çarşamba","Perşembe","Cuma","Cumartesi","Pazar")) | C11: =IF(A11="","",IF(WEEKDAY(A11,2)>5,"Hafta sonu","Hafta içi")) | D11: =IFERROR(INDEX(Personel!$B$2:$B$21,MOD(ROW()-2+$J$3-1,COUNTA(Personel!$B$2:$B$21))+1),"") | F11: =IF(E11<>"",E11,D11)
A12: =A11+1 | B12: =IF(A12="","",CHOOSE(WEEKDAY(A12,2),"Pazartesi","Salı","Çarşamba","Perşembe","Cuma","Cumartesi","Pazar")) | C12: =IF(A12="","",IF(WEEKDAY(A12,2)>5,"Hafta sonu","Hafta içi")) | D12: =IFERROR(INDEX(Personel!$B$2:$B$21,MOD(ROW()-2+$J$3-1,COUNTA(Personel!$B$2:$B$21))+1),"") | F12: =IF(E12<>"",E12,D12)
A13: =A12+1 | B13: =IF(A13="","",CHOOSE(WEEKDAY(A13,2),"Pazartesi","Salı","Çarşamba","Perşembe","Cuma","Cumartesi","Pazar")) | C13: =IF(A13="","",IF(WEEKDAY(A13,2)>5,"Hafta sonu","Hafta içi")) | D13: =IFERROR(INDEX(Personel!$B$2:$B$21,MOD(ROW()-2+$J$3-1,COUNTA(Personel!$B$2:$B$21))+1),"") | F13: =IF(E13<>"",E13,D13)
A14: =A13+1 | B14: =IF(A14="","",CHOOSE(WEEKDAY(A14,2),"Pazartesi","Salı","Çarşamba","Perşembe","Cuma","Cumartesi","Pazar")) | C14: =IF(A14="","",IF(WEEKDAY(A14,2)>5,"Hafta sonu","Hafta içi")) | D14: =IFERROR(INDEX(Personel!$B$2:$B$21,MOD(ROW()-2+$J$3-1,COUNTA(Personel!$B$2:$B$21))+1),"") | F14: =IF(E14<>"",E14,D14)
A15: =A14+1 | B15: =IF(A15="","",CHOOSE(WEEKDAY(A15,2),"Pazartesi","Salı","Çarşamba","Perşembe","Cuma","Cumartesi","Pazar")) | C15: =IF(A15="","",IF(WEEKDAY(A15,2)>5,"Hafta sonu","Hafta içi")) | D15: =IFERROR(INDEX(Personel!$B$2:$B$21,MOD(ROW()-2+$J$3-1,COUNTA(Personel!$B$2:$B$21))+1),"") | F15: =IF(E15<>"",E15,D15)
A16: =A15+1 | B16: =IF(A16="","",CHOOSE(WEEKDAY(A16,2),"Pazartesi","Salı","Çarşamba","Perşembe","Cuma","Cumartesi","Pazar")) | C16: =IF(A16="","",IF(WEEKDAY(A16,2)>5,"Hafta sonu","Hafta içi")) | D16: =IFERROR(INDEX(Personel!$B$2:$B$21,MOD(ROW()-2+$J$3-1,COUNTA(Personel!$B$2:$B$21))+1),"") | E16: Elif Şahin | F16: =IF(E16<>"",E16,D16) | G16: Zeynep Arslan raporlu, yerine Elif Şahin
A17: =A16+1 | B17: =IF(A17="","",CHOOSE(WEEKDAY(A17,2),"Pazartesi","Salı","Çarşamba","Perşembe","Cuma","Cumartesi","Pazar")) | C17: =IF(A17="","",IF(WEEKDAY(A17,2)>5,"Hafta sonu","Hafta içi")) | D17: =IFERROR(INDEX(Personel!$B$2:$B$21,MOD(ROW()-2+$J$3-1,COUNTA(Personel!$B$2:$B$21))+1),"") | F17: =IF(E17<>"",E17,D17)
A18: =A17+1 | B18: =IF(A18="","",CHOOSE(WEEKDAY(A18,2),"Pazartesi","Salı","Çarşamba","Perşembe","Cuma","Cumartesi","Pazar")) | C18: =IF(A18="","",IF(WEEKDAY(A18,2)>5,"Hafta sonu","Hafta içi")) | D18: =IFERROR(INDEX(Personel!$B$2:$B$21,MOD(ROW()-2+$J$3-1,COUNTA(Personel!$B$2:$B$21))+1),"") | F18: =IF(E18<>"",E18,D18)
A19: =A18+1 | B19: =IF(A19="","",CHOOSE(WEEKDAY(A19,2),"Pazartesi","Salı","Çarşamba","Perşembe","Cuma","Cumartesi","Pazar")) | C19: =IF(A19="","",IF(WEEKDAY(A19,2)>5,"Hafta sonu","Hafta içi")) | D19: =IFERROR(INDEX(Personel!$B$2:$B$21,MOD(ROW()-2+$J$3-1,COUNTA(Personel!$B$2:$B$21))+1),"") | F19: =IF(E19<>"",E19,D19)
A20: =A19+1 | B20: =IF(A20="","",CHOOSE(WEEKDAY(A20,2),"Pazartesi","Salı","Çarşamba","Perşembe","Cuma","Cumartesi","Pazar")) | C20: =IF(A20="","",IF(WEEKDAY(A20,2)>5,"Hafta sonu","Hafta içi")) | D20: =IFERROR(INDEX(Personel!$B$2:$B$21,MOD(ROW()-2+$J$3-1,COUNTA(Personel!$B$2:$B$21))+1),"") | F20: =IF(E20<>"",E20,D20)
A21: =A20+1 | B21: =IF(A21="","",CHOOSE(WEEKDAY(A21,2),"Pazartesi","Salı","Çarşamba","Perşembe","Cuma","Cumartesi","Pazar")) | C21: =IF(A21="","",IF(WEEKDAY(A21,2)>5,"Hafta sonu","Hafta içi")) | D21: =IFERROR(INDEX(Personel!$B$2:$B$21,MOD(ROW()-2+$J$3-1,COUNTA(Personel!$B$2:$B$21))+1),"") | F21: =IF(E21<>"",E21,D21)
A22: =A21+1 | B22: =IF(A22="","",CHOOSE(WEEKDAY(A22,2),"Pazartesi","Salı","Çarşamba","Perşembe","Cuma","Cumartesi","Pazar")) | C22: =IF(A22="","",IF(WEEKDAY(A22,2)>5,"Hafta sonu","Hafta içi")) | D22: =IFERROR(INDEX(Personel!$B$2:$B$21,MOD(ROW()-2+$J$3-1,COUNTA(Personel!$B$2:$B$21))+1),"") | F22: =IF(E22<>"",E22,D22)
A23: =A22+1 | B23: =IF(A23="","",CHOOSE(WEEKDAY(A23,2),"Pazartesi","Salı","Çarşamba","Perşembe","Cuma","Cumartesi","Pazar")) | C23: =IF(A23="","",IF(WEEKDAY(A23,2)>5,"Hafta sonu","Hafta içi")) | D23: =IFERROR(INDEX(Personel!$B$2:$B$21,MOD(ROW()-2+$J$3-1,COUNTA(Personel!$B$2:$B$21))+1),"") | F23: =IF(E23<>"",E23,D23)
A24: =A23+1 | B24: =IF(A24="","",CHOOSE(WEEKDAY(A24,2),"Pazartesi","Salı","Çarşamba","Perşembe","Cuma","Cumartesi","Pazar")) | C24: =IF(A24="","",IF(WEEKDAY(A24,2)>5,"Hafta sonu","Hafta içi")) | D24: =IFERROR(INDEX(Personel!$B$2:$B$21,MOD(ROW()-2+$J$3-1,COUNTA(Personel!$B$2:$B$21))+1),"") | F24: =IF(E24<>"",E24,D24)
A25: =A24+1 | B25: =IF(A25="","",CHOOSE(WEEKDAY(A25,2),"Pazartesi","Salı","Çarşamba","Perşembe","Cuma","Cumartesi","Pazar")) | C25: =IF(A25="","",IF(WEEKDAY(A25,2)>5,"Hafta sonu","Hafta içi")) | D25: =IFERROR(INDEX(Personel!$B$2:$B$21,MOD(ROW()-2+$J$3-1,COUNTA(Personel!$B$2:$B$21))+1),"") | F25: =IF(E25<>"",E25,D25)
A26: =A25+1 | B26: =IF(A26="","",CHOOSE(WEEKDAY(A26,2),"Pazartesi","Salı","Çarşamba","Perşembe","Cuma","Cumartesi","Pazar")) | C26: =IF(A26="","",IF(WEEKDAY(A26,2)>5,"Hafta sonu","Hafta içi")) | D26: =IFERROR(INDEX(Personel!$B$2:$B$21,MOD(ROW()-2+$J$3-1,COUNTA(Personel!$B$2:$B$21))+1),"") | F26: =IF(E26<>"",E26,D26)
A27: =A26+1 | B27: =IF(A27="","",CHOOSE(WEEKDAY(A27,2),"Pazartesi","Salı","Çarşamba","Perşembe","Cuma","Cumartesi","Pazar")) | C27: =IF(A27="","",IF(WEEKDAY(A27,2)>5,"Hafta sonu","Hafta içi")) | D27: =IFERROR(INDEX(Personel!$B$2:$B$21,MOD(ROW()-2+$J$3-1,COUNTA(Personel!$B$2:$B$21))+1),"") | F27: =IF(E27<>"",E27,D27)
A28: =A27+1 | B28: =IF(A28="","",CHOOSE(WEEKDAY(A28,2),"Pazartesi","Salı","Çarşamba","Perşembe","Cuma","Cumartesi","Pazar")) | C28: =IF(A28="","",IF(WEEKDAY(A28,2)>5,"Hafta sonu","Hafta içi")) | D28: =IFERROR(INDEX(Personel!$B$2:$B$21,MOD(ROW()-2+$J$3-1,COUNTA(Personel!$B$2:$B$21))+1),"") | F28: =IF(E28<>"",E28,D28)
... A62: =A61+1 | B62: =IF(A62="","",CHOOSE(WEEKDAY(A62,2),"Pazartesi","Salı","Çarşamba","Perşembe","Cuma","Cumartesi","Pazar")) | C62: =IF(A62="","",IF(WEEKDAY(A62,2)>5,"Hafta sonu","Hafta içi")) | D62: =IFERROR(INDEX(Personel!$B$2:$B$21,MOD(ROW()-2+$J$3-1,COUNTA(Personel!$B$2:$B$21))+1),"") | F62: =IF(E62<>"",E62,D62)

Sheet Personel
A1: Sıra | B1: Ad Soyad | C1: Birim | D1: Toplam nöbet | E1: Hafta sonu nöbeti | F1: Ortalamadan fark
A2: 1 | B2: Ayşe Demir | C2: Satış | D2: =IF(B2="","",COUNTIF(Liste!$F$2:$F$62,B2)) | E2: =IF(B2="","",COUNTIFS(Liste!$F$2:$F$62,B2,Liste!$C$2:$C$62,"Hafta sonu")) | F2: =IF(B2="","",D2-AVERAGE($D$2:$D$21))
A3: 2 | B3: Mehmet Kaya | C3: Satış | D3: =IF(B3="","",COUNTIF(Liste!$F$2:$F$62,B3)) | E3: =IF(B3="","",COUNTIFS(Liste!$F$2:$F$62,B3,Liste!$C$2:$C$62,"Hafta sonu")) | F3: =IF(B3="","",D3-AVERAGE($D$2:$D$21))
A4: 3 | B4: Zeynep Arslan | C4: Depo | D4: =IF(B4="","",COUNTIF(Liste!$F$2:$F$62,B4)) | E4: =IF(B4="","",COUNTIFS(Liste!$F$2:$F$62,B4,Liste!$C$2:$C$62,"Hafta sonu")) | F4: =IF(B4="","",D4-AVERAGE($D$2:$D$21))
A5: 4 | B5: Can Yılmaz | C5: Depo | D5: =IF(B5="","",COUNTIF(Liste!$F$2:$F$62,B5)) | E5: =IF(B5="","",COUNTIFS(Liste!$F$2:$F$62,B5,Liste!$C$2:$C$62,"Hafta sonu")) | F5: =IF(B5="","",D5-AVERAGE($D$2:$D$21))
A6: 5 | B6: Elif Şahin | C6: Muhasebe | D6: =IF(B6="","",COUNTIF(Liste!$F$2:$F$62,B6)) | E6: =IF(B6="","",COUNTIFS(Liste!$F$2:$F$62,B6,Liste!$C$2:$C$62,"Hafta sonu")) | F6: =IF(B6="","",D6-AVERAGE($D$2:$D$21))
A7: 6 | B7: Burak Çelik | C7: Muhasebe | D7: =IF(B7="","",COUNTIF(Liste!$F$2:$F$62,B7)) | E7: =IF(B7="","",COUNTIFS(Liste!$F$2:$F$62,B7,Liste!$C$2:$C$62,"Hafta sonu")) | F7: =IF(B7="","",D7-AVERAGE($D$2:$D$21))
D8: =IF(B8="","",COUNTIF(Liste!$F$2:$F$62,B8)) | E8: =IF(B8="","",COUNTIFS(Liste!$F$2:$F$62,B8,Liste!$C$2:$C$62,"Hafta sonu")) | F8: =IF(B8="","",D8-AVERAGE($D$2:$D$21))
D9: =IF(B9="","",COUNTIF(Liste!$F$2:$F$62,B9)) | E9: =IF(B9="","",COUNTIFS(Liste!$F$2:$F$62,B9,Liste!$C$2:$C$62,"Hafta sonu")) | F9: =IF(B9="","",D9-AVERAGE($D$2:$D$21))
D10: =IF(B10="","",COUNTIF(Liste!$F$2:$F$62,B10)) | E10: =IF(B10="","",COUNTIFS(Liste!$F$2:$F$62,B10,Liste!$C$2:$C$62,"Hafta sonu")) | F10: =IF(B10="","",D10-AVERAGE($D$2:$D$21))
D11: =IF(B11="","",COUNTIF(Liste!$F$2:$F$62,B11)) | E11: =IF(B11="","",COUNTIFS(Liste!$F$2:$F$62,B11,Liste!$C$2:$C$62,"Hafta sonu")) | F11: =IF(B11="","",D11-AVERAGE($D$2:$D$21))
D12: =IF(B12="","",COUNTIF(Liste!$F$2:$F$62,B12)) | E12: =IF(B12="","",COUNTIFS(Liste!$F$2:$F$62,B12,Liste!$C$2:$C$62,"Hafta sonu")) | F12: =IF(B12="","",D12-AVERAGE($D$2:$D$21))
D13: =IF(B13="","",COUNTIF(Liste!$F$2:$F$62,B13)) | E13: =IF(B13="","",COUNTIFS(Liste!$F$2:$F$62,B13,Liste!$C$2:$C$62,"Hafta sonu")) | F13: =IF(B13="","",D13-AVERAGE($D$2:$D$21))
D14: =IF(B14="","",COUNTIF(Liste!$F$2:$F$62,B14)) | E14: =IF(B14="","",COUNTIFS(Liste!$F$2:$F$62,B14,Liste!$C$2:$C$62,"Hafta sonu")) | F14: =IF(B14="","",D14-AVERAGE($D$2:$D$21))
D15: =IF(B15="","",COUNTIF(Liste!$F$2:$F$62,B15)) | E15: =IF(B15="","",COUNTIFS(Liste!$F$2:$F$62,B15,Liste!$C$2:$C$62,"Hafta sonu")) | F15: =IF(B15="","",D15-AVERAGE($D$2:$D$21))
D16: =IF(B16="","",COUNTIF(Liste!$F$2:$F$62,B16)) | E16: =IF(B16="","",COUNTIFS(Liste!$F$2:$F$62,B16,Liste!$C$2:$C$62,"Hafta sonu")) | F16: =IF(B16="","",D16-AVERAGE($D$2:$D$21))
D17: =IF(B17="","",COUNTIF(Liste!$F$2:$F$62,B17)) | E17: =IF(B17="","",COUNTIFS(Liste!$F$2:$F$62,B17,Liste!$C$2:$C$62,"Hafta sonu")) | F17: =IF(B17="","",D17-AVERAGE($D$2:$D$21))
D18: =IF(B18="","",COUNTIF(Liste!$F$2:$F$62,B18)) | E18: =IF(B18="","",COUNTIFS(Liste!$F$2:$F$62,B18,Liste!$C$2:$C$62,"Hafta sonu")) | F18: =IF(B18="","",D18-AVERAGE($D$2:$D$21))
D19: =IF(B19="","",COUNTIF(Liste!$F$2:$F$62,B19)) | E19: =IF(B19="","",COUNTIFS(Liste!$F$2:$F$62,B19,Liste!$C$2:$C$62,"Hafta sonu")) | F19: =IF(B19="","",D19-AVERAGE($D$2:$D$21))
... D21: =IF(B21="","",COUNTIF(Liste!$F$2:$F$62,B21)) | E21: =IF(B21="","",COUNTIFS(Liste!$F$2:$F$62,B21,Liste!$C$2:$C$62,"Hafta sonu")) | F21: =IF(B21="","",D21-AVERAGE($D$2:$D$21))
