Workbook

Sheet Girdiler
A1: Bilgi | B1: Değer
A2: Kredi tutarı | B2: 250000 | D2: Anapara | E2: =B2
A3: Aylık faiz oranı | B3: 0.03 | D3: Toplam faiz | E3: =B11
A4: Faiz üzerindeki vergi oranı (toplam) | B4: 0
A5: Vade (ay, en fazla 120) | B5: 24
A6: İlk taksit tarihi | B6: 46341
A8: Vergi dahil aylık oran | B8: =B3*(1+B4)
A9: Aylık taksit | B9: =PMT(B8,B5,-B2)
A10: Toplam geri ödeme | B10: =B9*B5
A11: Toplam faiz (vergi dahil) | B11: =B10-B2
A12: Ödenen taksit sayısı | B12: =COUNTIF('Ödeme Planı'!G:G,"Ödendi")
A13: Plana göre kalan anapara | B13: =IF(B12=0,B2,INDEX('Ödeme Planı'!F:F,B12+1))

Sheet Ödeme Planı
A1: Taksit no | B1: Tarih | C1: Taksit | D1: Faiz | E1: Anapara | F1: Kalan anapara | G1: Durum
A2: 1 | B2: =IF(A2="","",EDATE(Girdiler!$B$6,A2-1)) | C2: =IF(A2="","",PMT(Girdiler!$B$8,Girdiler!$B$5,-Girdiler!$B$2)) | D2: =IF(A2="","",IPMT(Girdiler!$B$8,A2,Girdiler!$B$5,-Girdiler!$B$2)) | E2: =IF(A2="","",PPMT(Girdiler!$B$8,A2,Girdiler!$B$5,-Girdiler!$B$2)) | F2: =IF(A2="","",Girdiler!$B$2-SUM($E$2:E2))
A3: =IF(OR(A2="",A2>=Girdiler!$B$5),"",A2+1) | B3: =IF(A3="","",EDATE(Girdiler!$B$6,A3-1)) | C3: =IF(A3="","",PMT(Girdiler!$B$8,Girdiler!$B$5,-Girdiler!$B$2)) | D3: =IF(A3="","",IPMT(Girdiler!$B$8,A3,Girdiler!$B$5,-Girdiler!$B$2)) | E3: =IF(A3="","",PPMT(Girdiler!$B$8,A3,Girdiler!$B$5,-Girdiler!$B$2)) | F3: =IF(A3="","",Girdiler!$B$2-SUM($E$2:E3))
A4: =IF(OR(A3="",A3>=Girdiler!$B$5),"",A3+1) | B4: =IF(A4="","",EDATE(Girdiler!$B$6,A4-1)) | C4: =IF(A4="","",PMT(Girdiler!$B$8,Girdiler!$B$5,-Girdiler!$B$2)) | D4: =IF(A4="","",IPMT(Girdiler!$B$8,A4,Girdiler!$B$5,-Girdiler!$B$2)) | E4: =IF(A4="","",PPMT(Girdiler!$B$8,A4,Girdiler!$B$5,-Girdiler!$B$2)) | F4: =IF(A4="","",Girdiler!$B$2-SUM($E$2:E4))
A5: =IF(OR(A4="",A4>=Girdiler!$B$5),"",A4+1) | B5: =IF(A5="","",EDATE(Girdiler!$B$6,A5-1)) | C5: =IF(A5="","",PMT(Girdiler!$B$8,Girdiler!$B$5,-Girdiler!$B$2)) | D5: =IF(A5="","",IPMT(Girdiler!$B$8,A5,Girdiler!$B$5,-Girdiler!$B$2)) | E5: =IF(A5="","",PPMT(Girdiler!$B$8,A5,Girdiler!$B$5,-Girdiler!$B$2)) | F5: =IF(A5="","",Girdiler!$B$2-SUM($E$2:E5))
A6: =IF(OR(A5="",A5>=Girdiler!$B$5),"",A5+1) | B6: =IF(A6="","",EDATE(Girdiler!$B$6,A6-1)) | C6: =IF(A6="","",PMT(Girdiler!$B$8,Girdiler!$B$5,-Girdiler!$B$2)) | D6: =IF(A6="","",IPMT(Girdiler!$B$8,A6,Girdiler!$B$5,-Girdiler!$B$2)) | E6: =IF(A6="","",PPMT(Girdiler!$B$8,A6,Girdiler!$B$5,-Girdiler!$B$2)) | F6: =IF(A6="","",Girdiler!$B$2-SUM($E$2:E6))
A7: =IF(OR(A6="",A6>=Girdiler!$B$5),"",A6+1) | B7: =IF(A7="","",EDATE(Girdiler!$B$6,A7-1)) | C7: =IF(A7="","",PMT(Girdiler!$B$8,Girdiler!$B$5,-Girdiler!$B$2)) | D7: =IF(A7="","",IPMT(Girdiler!$B$8,A7,Girdiler!$B$5,-Girdiler!$B$2)) | E7: =IF(A7="","",PPMT(Girdiler!$B$8,A7,Girdiler!$B$5,-Girdiler!$B$2)) | F7: =IF(A7="","",Girdiler!$B$2-SUM($E$2:E7))
A8: =IF(OR(A7="",A7>=Girdiler!$B$5),"",A7+1) | B8: =IF(A8="","",EDATE(Girdiler!$B$6,A8-1)) | C8: =IF(A8="","",PMT(Girdiler!$B$8,Girdiler!$B$5,-Girdiler!$B$2)) | D8: =IF(A8="","",IPMT(Girdiler!$B$8,A8,Girdiler!$B$5,-Girdiler!$B$2)) | E8: =IF(A8="","",PPMT(Girdiler!$B$8,A8,Girdiler!$B$5,-Girdiler!$B$2)) | F8: =IF(A8="","",Girdiler!$B$2-SUM($E$2:E8))
A9: =IF(OR(A8="",A8>=Girdiler!$B$5),"",A8+1) | B9: =IF(A9="","",EDATE(Girdiler!$B$6,A9-1)) | C9: =IF(A9="","",PMT(Girdiler!$B$8,Girdiler!$B$5,-Girdiler!$B$2)) | D9: =IF(A9="","",IPMT(Girdiler!$B$8,A9,Girdiler!$B$5,-Girdiler!$B$2)) | E9: =IF(A9="","",PPMT(Girdiler!$B$8,A9,Girdiler!$B$5,-Girdiler!$B$2)) | F9: =IF(A9="","",Girdiler!$B$2-SUM($E$2:E9))
A10: =IF(OR(A9="",A9>=Girdiler!$B$5),"",A9+1) | B10: =IF(A10="","",EDATE(Girdiler!$B$6,A10-1)) | C10: =IF(A10="","",PMT(Girdiler!$B$8,Girdiler!$B$5,-Girdiler!$B$2)) | D10: =IF(A10="","",IPMT(Girdiler!$B$8,A10,Girdiler!$B$5,-Girdiler!$B$2)) | E10: =IF(A10="","",PPMT(Girdiler!$B$8,A10,Girdiler!$B$5,-Girdiler!$B$2)) | F10: =IF(A10="","",Girdiler!$B$2-SUM($E$2:E10))
A11: =IF(OR(A10="",A10>=Girdiler!$B$5),"",A10+1) | B11: =IF(A11="","",EDATE(Girdiler!$B$6,A11-1)) | C11: =IF(A11="","",PMT(Girdiler!$B$8,Girdiler!$B$5,-Girdiler!$B$2)) | D11: =IF(A11="","",IPMT(Girdiler!$B$8,A11,Girdiler!$B$5,-Girdiler!$B$2)) | E11: =IF(A11="","",PPMT(Girdiler!$B$8,A11,Girdiler!$B$5,-Girdiler!$B$2)) | F11: =IF(A11="","",Girdiler!$B$2-SUM($E$2:E11))
A12: =IF(OR(A11="",A11>=Girdiler!$B$5),"",A11+1) | B12: =IF(A12="","",EDATE(Girdiler!$B$6,A12-1)) | C12: =IF(A12="","",PMT(Girdiler!$B$8,Girdiler!$B$5,-Girdiler!$B$2)) | D12: =IF(A12="","",IPMT(Girdiler!$B$8,A12,Girdiler!$B$5,-Girdiler!$B$2)) | E12: =IF(A12="","",PPMT(Girdiler!$B$8,A12,Girdiler!$B$5,-Girdiler!$B$2)) | F12: =IF(A12="","",Girdiler!$B$2-SUM($E$2:E12))
A13: =IF(OR(A12="",A12>=Girdiler!$B$5),"",A12+1) | B13: =IF(A13="","",EDATE(Girdiler!$B$6,A13-1)) | C13: =IF(A13="","",PMT(Girdiler!$B$8,Girdiler!$B$5,-Girdiler!$B$2)) | D13: =IF(A13="","",IPMT(Girdiler!$B$8,A13,Girdiler!$B$5,-Girdiler!$B$2)) | E13: =IF(A13="","",PPMT(Girdiler!$B$8,A13,Girdiler!$B$5,-Girdiler!$B$2)) | F13: =IF(A13="","",Girdiler!$B$2-SUM($E$2:E13))
A14: =IF(OR(A13="",A13>=Girdiler!$B$5),"",A13+1) | B14: =IF(A14="","",EDATE(Girdiler!$B$6,A14-1)) | C14: =IF(A14="","",PMT(Girdiler!$B$8,Girdiler!$B$5,-Girdiler!$B$2)) | D14: =IF(A14="","",IPMT(Girdiler!$B$8,A14,Girdiler!$B$5,-Girdiler!$B$2)) | E14: =IF(A14="","",PPMT(Girdiler!$B$8,A14,Girdiler!$B$5,-Girdiler!$B$2)) | F14: =IF(A14="","",Girdiler!$B$2-SUM($E$2:E14))
... A121: =IF(OR(A120="",A120>=Girdiler!$B$5),"",A120+1) | B121: =IF(A121="","",EDATE(Girdiler!$B$6,A121-1)) | C121: =IF(A121="","",PMT(Girdiler!$B$8,Girdiler!$B$5,-Girdiler!$B$2)) | D121: =IF(A121="","",IPMT(Girdiler!$B$8,A121,Girdiler!$B$5,-Girdiler!$B$2)) | E121: =IF(A121="","",PPMT(Girdiler!$B$8,A121,Girdiler!$B$5,-Girdiler!$B$2)) | F121: =IF(A121="","",Girdiler!$B$2-SUM($E$2:E121))
