Workbook

Sheet Hareketler
A1: Tarih | B1: Mülk | C1: Tür | D1: Kalem | E1: Açıklama | F1: Tutar
A2: 46206 | B2: Daire A | C2: Gelir | D2: Kira | E2: Temmuz kirası | F2: 18000
A3: 46208 | B3: Daire B | C3: Gelir | D3: Kira | E3: Temmuz kirası | F3: 14500
A4: 46208 | B4: Dükkân | C4: Gelir | D4: Kira | E4: Temmuz kirası | F4: 26000
A5: 46213 | B5: Daire A | C5: Gider | D5: Aidat | E5: Temmuz aidatı | F5: 1200
A6: 46221 | B6: Daire B | C6: Gider | D6: Bakım ve onarım | E6: Kombi bakımı | F6: 1800
A7: 46238 | B7: Daire A | C7: Gelir | D7: Kira | E7: Ağustos kirası | F7: 18000
A8: 46240 | B8: Daire B | C8: Gelir | D8: Kira | E8: Ağustos kirası | F8: 14500
A9: 46242 | B9: Dükkân | C9: Gelir | D9: Kira | E9: Ağustos kirası | F9: 26000
A10: 46254 | B10: Dükkân | C10: Gider | D10: Sigorta | E10: İşyeri sigortası yenileme | F10: 4200
A11: 46268 | B11: Daire A | C11: Gelir | D11: Kira | E11: Eylül kirası | F11: 18000
A12: 46277 | B12: Dükkân | C12: Gelir | D12: Kira | E12: Eylül kirası (kısmi) | F12: 13000
A13: 46280 | B13: Daire A | C13: Gider | D13: Bakım ve onarım | E13: Musluk ve batarya değişimi | F13: 2350
A14: 46287 | B14: Daire B | C14: Gider | D14: Komisyon | E14: Yeni kiracı için emlakçı komisyonu | F14: 14500

Sheet Kira Takvimi
A1: Ay | B1: Mülk | C1: Beklenen kira | D1: Tahsil edilen | E1: Fark | F1: Durum
A2: 46204 | B2: Daire A | C2: 18000 | D2: =IF(OR(A2="",B2=""),"",SUMIFS(Hareketler!$F:$F,Hareketler!$B:$B,B2,Hareketler!$C:$C,"Gelir",Hareketler!$D:$D,"Kira",Hareketler!$A:$A,">="&A2,Hareketler!$A:$A,"<="&EOMONTH(A2,0))) | E2: =IF(OR(C2="",D2=""),"",C2-D2) | F2: =IF(E2="","",IF(E2<=0,"Tahsil edildi",IF(D2=0,"Ödenmedi","Eksik ödeme")))
A3: 46204 | B3: Daire B | C3: 14500 | D3: =IF(OR(A3="",B3=""),"",SUMIFS(Hareketler!$F:$F,Hareketler!$B:$B,B3,Hareketler!$C:$C,"Gelir",Hareketler!$D:$D,"Kira",Hareketler!$A:$A,">="&A3,Hareketler!$A:$A,"<="&EOMONTH(A3,0))) | E3: =IF(OR(C3="",D3=""),"",C3-D3) | F3: =IF(E3="","",IF(E3<=0,"Tahsil edildi",IF(D3=0,"Ödenmedi","Eksik ödeme")))
A4: 46204 | B4: Dükkân | C4: 26000 | D4: =IF(OR(A4="",B4=""),"",SUMIFS(Hareketler!$F:$F,Hareketler!$B:$B,B4,Hareketler!$C:$C,"Gelir",Hareketler!$D:$D,"Kira",Hareketler!$A:$A,">="&A4,Hareketler!$A:$A,"<="&EOMONTH(A4,0))) | E4: =IF(OR(C4="",D4=""),"",C4-D4) | F4: =IF(E4="","",IF(E4<=0,"Tahsil edildi",IF(D4=0,"Ödenmedi","Eksik ödeme")))
A5: 46235 | B5: Daire A | C5: 18000 | D5: =IF(OR(A5="",B5=""),"",SUMIFS(Hareketler!$F:$F,Hareketler!$B:$B,B5,Hareketler!$C:$C,"Gelir",Hareketler!$D:$D,"Kira",Hareketler!$A:$A,">="&A5,Hareketler!$A:$A,"<="&EOMONTH(A5,0))) | E5: =IF(OR(C5="",D5=""),"",C5-D5) | F5: =IF(E5="","",IF(E5<=0,"Tahsil edildi",IF(D5=0,"Ödenmedi","Eksik ödeme")))
A6: 46235 | B6: Daire B | C6: 14500 | D6: =IF(OR(A6="",B6=""),"",SUMIFS(Hareketler!$F:$F,Hareketler!$B:$B,B6,Hareketler!$C:$C,"Gelir",Hareketler!$D:$D,"Kira",Hareketler!$A:$A,">="&A6,Hareketler!$A:$A,"<="&EOMONTH(A6,0))) | E6: =IF(OR(C6="",D6=""),"",C6-D6) | F6: =IF(E6="","",IF(E6<=0,"Tahsil edildi",IF(D6=0,"Ödenmedi","Eksik ödeme")))
A7: 46235 | B7: Dükkân | C7: 26000 | D7: =IF(OR(A7="",B7=""),"",SUMIFS(Hareketler!$F:$F,Hareketler!$B:$B,B7,Hareketler!$C:$C,"Gelir",Hareketler!$D:$D,"Kira",Hareketler!$A:$A,">="&A7,Hareketler!$A:$A,"<="&EOMONTH(A7,0))) | E7: =IF(OR(C7="",D7=""),"",C7-D7) | F7: =IF(E7="","",IF(E7<=0,"Tahsil edildi",IF(D7=0,"Ödenmedi","Eksik ödeme")))
A8: 46266 | B8: Daire A | C8: 18000 | D8: =IF(OR(A8="",B8=""),"",SUMIFS(Hareketler!$F:$F,Hareketler!$B:$B,B8,Hareketler!$C:$C,"Gelir",Hareketler!$D:$D,"Kira",Hareketler!$A:$A,">="&A8,Hareketler!$A:$A,"<="&EOMONTH(A8,0))) | E8: =IF(OR(C8="",D8=""),"",C8-D8) | F8: =IF(E8="","",IF(E8<=0,"Tahsil edildi",IF(D8=0,"Ödenmedi","Eksik ödeme")))
A9: 46266 | B9: Daire B | C9: 14500 | D9: =IF(OR(A9="",B9=""),"",SUMIFS(Hareketler!$F:$F,Hareketler!$B:$B,B9,Hareketler!$C:$C,"Gelir",Hareketler!$D:$D,"Kira",Hareketler!$A:$A,">="&A9,Hareketler!$A:$A,"<="&EOMONTH(A9,0))) | E9: =IF(OR(C9="",D9=""),"",C9-D9) | F9: =IF(E9="","",IF(E9<=0,"Tahsil edildi",IF(D9=0,"Ödenmedi","Eksik ödeme")))
A10: 46266 | B10: Dükkân | C10: 26000 | D10: =IF(OR(A10="",B10=""),"",SUMIFS(Hareketler!$F:$F,Hareketler!$B:$B,B10,Hareketler!$C:$C,"Gelir",Hareketler!$D:$D,"Kira",Hareketler!$A:$A,">="&A10,Hareketler!$A:$A,"<="&EOMONTH(A10,0))) | E10: =IF(OR(C10="",D10=""),"",C10-D10) | F10: =IF(E10="","",IF(E10<=0,"Tahsil edildi",IF(D10=0,"Ödenmedi","Eksik ödeme")))
D11: =IF(OR(A11="",B11=""),"",SUMIFS(Hareketler!$F:$F,Hareketler!$B:$B,B11,Hareketler!$C:$C,"Gelir",Hareketler!$D:$D,"Kira",Hareketler!$A:$A,">="&A11,Hareketler!$A:$A,"<="&EOMONTH(A11,0))) | E11: =IF(OR(C11="",D11=""),"",C11-D11) | F11: =IF(E11="","",IF(E11<=0,"Tahsil edildi",IF(D11=0,"Ödenmedi","Eksik ödeme")))
D12: =IF(OR(A12="",B12=""),"",SUMIFS(Hareketler!$F:$F,Hareketler!$B:$B,B12,Hareketler!$C:$C,"Gelir",Hareketler!$D:$D,"Kira",Hareketler!$A:$A,">="&A12,Hareketler!$A:$A,"<="&EOMONTH(A12,0))) | E12: =IF(OR(C12="",D12=""),"",C12-D12) | F12: =IF(E12="","",IF(E12<=0,"Tahsil edildi",IF(D12=0,"Ödenmedi","Eksik ödeme")))
D13: =IF(OR(A13="",B13=""),"",SUMIFS(Hareketler!$F:$F,Hareketler!$B:$B,B13,Hareketler!$C:$C,"Gelir",Hareketler!$D:$D,"Kira",Hareketler!$A:$A,">="&A13,Hareketler!$A:$A,"<="&EOMONTH(A13,0))) | E13: =IF(OR(C13="",D13=""),"",C13-D13) | F13: =IF(E13="","",IF(E13<=0,"Tahsil edildi",IF(D13=0,"Ödenmedi","Eksik ödeme")))
D14: =IF(OR(A14="",B14=""),"",SUMIFS(Hareketler!$F:$F,Hareketler!$B:$B,B14,Hareketler!$C:$C,"Gelir",Hareketler!$D:$D,"Kira",Hareketler!$A:$A,">="&A14,Hareketler!$A:$A,"<="&EOMONTH(A14,0))) | E14: =IF(OR(C14="",D14=""),"",C14-D14) | F14: =IF(E14="","",IF(E14<=0,"Tahsil edildi",IF(D14=0,"Ödenmedi","Eksik ödeme")))
D15: =IF(OR(A15="",B15=""),"",SUMIFS(Hareketler!$F:$F,Hareketler!$B:$B,B15,Hareketler!$C:$C,"Gelir",Hareketler!$D:$D,"Kira",Hareketler!$A:$A,">="&A15,Hareketler!$A:$A,"<="&EOMONTH(A15,0))) | E15: =IF(OR(C15="",D15=""),"",C15-D15) | F15: =IF(E15="","",IF(E15<=0,"Tahsil edildi",IF(D15=0,"Ödenmedi","Eksik ödeme")))
D16: =IF(OR(A16="",B16=""),"",SUMIFS(Hareketler!$F:$F,Hareketler!$B:$B,B16,Hareketler!$C:$C,"Gelir",Hareketler!$D:$D,"Kira",Hareketler!$A:$A,">="&A16,Hareketler!$A:$A,"<="&EOMONTH(A16,0))) | E16: =IF(OR(C16="",D16=""),"",C16-D16) | F16: =IF(E16="","",IF(E16<=0,"Tahsil edildi",IF(D16=0,"Ödenmedi","Eksik ödeme")))
D17: =IF(OR(A17="",B17=""),"",SUMIFS(Hareketler!$F:$F,Hareketler!$B:$B,B17,Hareketler!$C:$C,"Gelir",Hareketler!$D:$D,"Kira",Hareketler!$A:$A,">="&A17,Hareketler!$A:$A,"<="&EOMONTH(A17,0))) | E17: =IF(OR(C17="",D17=""),"",C17-D17) | F17: =IF(E17="","",IF(E17<=0,"Tahsil edildi",IF(D17=0,"Ödenmedi","Eksik ödeme")))
D18: =IF(OR(A18="",B18=""),"",SUMIFS(Hareketler!$F:$F,Hareketler!$B:$B,B18,Hareketler!$C:$C,"Gelir",Hareketler!$D:$D,"Kira",Hareketler!$A:$A,">="&A18,Hareketler!$A:$A,"<="&EOMONTH(A18,0))) | E18: =IF(OR(C18="",D18=""),"",C18-D18) | F18: =IF(E18="","",IF(E18<=0,"Tahsil edildi",IF(D18=0,"Ödenmedi","Eksik ödeme")))
D19: =IF(OR(A19="",B19=""),"",SUMIFS(Hareketler!$F:$F,Hareketler!$B:$B,B19,Hareketler!$C:$C,"Gelir",Hareketler!$D:$D,"Kira",Hareketler!$A:$A,">="&A19,Hareketler!$A:$A,"<="&EOMONTH(A19,0))) | E19: =IF(OR(C19="",D19=""),"",C19-D19) | F19: =IF(E19="","",IF(E19<=0,"Tahsil edildi",IF(D19=0,"Ödenmedi","Eksik ödeme")))
D20: =IF(OR(A20="",B20=""),"",SUMIFS(Hareketler!$F:$F,Hareketler!$B:$B,B20,Hareketler!$C:$C,"Gelir",Hareketler!$D:$D,"Kira",Hareketler!$A:$A,">="&A20,Hareketler!$A:$A,"<="&EOMONTH(A20,0))) | E20: =IF(OR(C20="",D20=""),"",C20-D20) | F20: =IF(E20="","",IF(E20<=0,"Tahsil edildi",IF(D20=0,"Ödenmedi","Eksik ödeme")))
D21: =IF(OR(A21="",B21=""),"",SUMIFS(Hareketler!$F:$F,Hareketler!$B:$B,B21,Hareketler!$C:$C,"Gelir",Hareketler!$D:$D,"Kira",Hareketler!$A:$A,">="&A21,Hareketler!$A:$A,"<="&EOMONTH(A21,0))) | E21: =IF(OR(C21="",D21=""),"",C21-D21) | F21: =IF(E21="","",IF(E21<=0,"Tahsil edildi",IF(D21=0,"Ödenmedi","Eksik ödeme")))
D22: =IF(OR(A22="",B22=""),"",SUMIFS(Hareketler!$F:$F,Hareketler!$B:$B,B22,Hareketler!$C:$C,"Gelir",Hareketler!$D:$D,"Kira",Hareketler!$A:$A,">="&A22,Hareketler!$A:$A,"<="&EOMONTH(A22,0))) | E22: =IF(OR(C22="",D22=""),"",C22-D22) | F22: =IF(E22="","",IF(E22<=0,"Tahsil edildi",IF(D22=0,"Ödenmedi","Eksik ödeme")))
... D37: =IF(OR(A37="",B37=""),"",SUMIFS(Hareketler!$F:$F,Hareketler!$B:$B,B37,Hareketler!$C:$C,"Gelir",Hareketler!$D:$D,"Kira",Hareketler!$A:$A,">="&A37,Hareketler!$A:$A,"<="&EOMONTH(A37,0))) | E37: =IF(OR(C37="",D37=""),"",C37-D37) | F37: =IF(E37="","",IF(E37<=0,"Tahsil edildi",IF(D37=0,"Ödenmedi","Eksik ödeme")))

Sheet Özet
A1: Mülk | B1: Gelir | C1: Gider | D1: Net
A2: Daire A | B2: =SUMIFS(Hareketler!$F:$F,Hareketler!$B:$B,$A2,Hareketler!$C:$C,"Gelir") | C2: =SUMIFS(Hareketler!$F:$F,Hareketler!$B:$B,$A2,Hareketler!$C:$C,"Gider") | D2: =B2-C2 | G2: Aidat | H2: =SUMIFS(Hareketler!$F:$F,Hareketler!$D:$D,G2,Hareketler!$C:$C,"Gider")
A3: Daire B | B3: =SUMIFS(Hareketler!$F:$F,Hareketler!$B:$B,$A3,Hareketler!$C:$C,"Gelir") | C3: =SUMIFS(Hareketler!$F:$F,Hareketler!$B:$B,$A3,Hareketler!$C:$C,"Gider") | D3: =B3-C3 | G3: Bakım ve onarım | H3: =SUMIFS(Hareketler!$F:$F,Hareketler!$D:$D,G3,Hareketler!$C:$C,"Gider")
A4: Dükkân | B4: =SUMIFS(Hareketler!$F:$F,Hareketler!$B:$B,$A4,Hareketler!$C:$C,"Gelir") | C4: =SUMIFS(Hareketler!$F:$F,Hareketler!$B:$B,$A4,Hareketler!$C:$C,"Gider") | D4: =B4-C4 | G4: Emlak vergisi | H4: =SUMIFS(Hareketler!$F:$F,Hareketler!$D:$D,G4,Hareketler!$C:$C,"Gider")
A5: Toplam | B5: =SUM(B2:B4) | C5: =SUM(C2:C4) | D5: =SUM(D2:D4) | G5: Sigorta | H5: =SUMIFS(Hareketler!$F:$F,Hareketler!$D:$D,G5,Hareketler!$C:$C,"Gider")
G6: Komisyon | H6: =SUMIFS(Hareketler!$F:$F,Hareketler!$D:$D,G6,Hareketler!$C:$C,"Gider")
G7: Diğer | H7: =SUMIFS(Hareketler!$F:$F,Hareketler!$D:$D,G7,Hareketler!$C:$C,"Gider")
G9: Beklenen kira | H9: =SUM('Kira Takvimi'!$C:$C)
G10: Tahsil edilen kira | H10: =SUM('Kira Takvimi'!$D:$D)
G11: Tahsil edilmeyen kira | H11: =SUMIFS('Kira Takvimi'!$E:$E,'Kira Takvimi'!$E:$E,">0")
G12: Giderin gelire oranı | H12: =IFERROR(C5/B5,0)
