Workbook

Sheet Kasa
A1: Tarih | B1: Belge no | C1: Açıklama | D1: Kategori | E1: Giriş | F1: Çıkış | G1: Bakiye
A2: 46296 | B2: F-001 | C2: Peşin satış | D2: Satış tahsilatı | E2: 4200 | G2: =IF(AND(E2="",F2=""),"",$K$2+SUM($E$2:E2)-SUM($F$2:F2)) | J2: Devreden bakiye | K2: 2500
A3: 46296 | B3: F-002 | C3: Çay, şeker | D3: Yemek ve ikram | F3: 350 | G3: =IF(AND(E3="",F3=""),"",$K$2+SUM($E$2:E3)-SUM($F$2:F3)) | J3: Güncel kasa | K3: =K2+SUM(E2:E501)-SUM(F2:F501)
A4: 46297 | B4: F-003 | C4: Peşin satış | D4: Satış tahsilatı | E4: 3100 | G4: =IF(AND(E4="",F4=""),"",$K$2+SUM($E$2:E4)-SUM($F$2:F4)) | J4: Sayılan nakit | K4: 9450
A5: 46297 | B5: F-004 | C5: Bankaya yatırılan | D5: Bankaya yatırılan | F5: 5000 | G5: =IF(AND(E5="",F5=""),"",$K$2+SUM($E$2:E5)-SUM($F$2:F5)) | J5: Sayım farkı | K5: =K4-K3
A6: 46298 | B6: F-005 | C6: Kuzey Kırtasiye tahsilatı | D6: Müşteri tahsilatı | E6: 2800 | G6: =IF(AND(E6="",F6=""),"",$K$2+SUM($E$2:E6)-SUM($F$2:F6))
A7: 46298 | B7: F-006 | C7: Kargo ödemesi | D7: Diğer çıkış | F7: 420 | G7: =IF(AND(E7="",F7=""),"",$K$2+SUM($E$2:E7)-SUM($F$2:F7))
A8: 46300 | B8: F-007 | C8: Toner | D8: Kırtasiye ve sarf | F8: 1150 | G8: =IF(AND(E8="",F8=""),"",$K$2+SUM($E$2:E8)-SUM($F$2:F8))
A9: 46300 | B9: F-008 | C9: Peşin satış | D9: Satış tahsilatı | E9: 5600 | G9: =IF(AND(E9="",F9=""),"",$K$2+SUM($E$2:E9)-SUM($F$2:F9))
A10: 46301 | B10: F-009 | C10: Bankadan çekilen | D10: Bankadan çekilen | E10: 3000 | G10: =IF(AND(E10="",F10=""),"",$K$2+SUM($E$2:E10)-SUM($F$2:F10))
A11: 46301 | B11: F-010 | C11: Tedarikçiye nakit ödeme | D11: Tedarikçi ödemesi | F11: 4800 | G11: =IF(AND(E11="",F11=""),"",$K$2+SUM($E$2:E11)-SUM($F$2:F11))
G12: =IF(AND(E12="",F12=""),"",$K$2+SUM($E$2:E12)-SUM($F$2:F12))
G13: =IF(AND(E13="",F13=""),"",$K$2+SUM($E$2:E13)-SUM($F$2:F13))
G14: =IF(AND(E14="",F14=""),"",$K$2+SUM($E$2:E14)-SUM($F$2:F14))
G15: =IF(AND(E15="",F15=""),"",$K$2+SUM($E$2:E15)-SUM($F$2:F15))
G16: =IF(AND(E16="",F16=""),"",$K$2+SUM($E$2:E16)-SUM($F$2:F16))
G17: =IF(AND(E17="",F17=""),"",$K$2+SUM($E$2:E17)-SUM($F$2:F17))
G18: =IF(AND(E18="",F18=""),"",$K$2+SUM($E$2:E18)-SUM($F$2:F18))
G19: =IF(AND(E19="",F19=""),"",$K$2+SUM($E$2:E19)-SUM($F$2:F19))
G20: =IF(AND(E20="",F20=""),"",$K$2+SUM($E$2:E20)-SUM($F$2:F20))
G21: =IF(AND(E21="",F21=""),"",$K$2+SUM($E$2:E21)-SUM($F$2:F21))
G22: =IF(AND(E22="",F22=""),"",$K$2+SUM($E$2:E22)-SUM($F$2:F22))
G23: =IF(AND(E23="",F23=""),"",$K$2+SUM($E$2:E23)-SUM($F$2:F23))
... G501: =IF(AND(E501="",F501=""),"",$K$2+SUM($E$2:E501)-SUM($F$2:F501))

Sheet Günlük
A1: Tarih | B1: Giriş | C1: Çıkış | D1: Gün sonu bakiye | E1: İşlem
A2: =$I$2 | B2: =IF(A2="","",SUMIFS(Kasa!$E:$E,Kasa!$A:$A,A2)) | C2: =IF(A2="","",SUMIFS(Kasa!$F:$F,Kasa!$A:$A,A2)) | D2: =IF(A2="","",Kasa!$K$2+SUMIFS(Kasa!$E:$E,Kasa!$A:$A,"<="&A2)-SUMIFS(Kasa!$F:$F,Kasa!$A:$A,"<="&A2)) | E2: =IF(A2="","",COUNTIF(Kasa!$A:$A,A2)) | H2: Ay (ayın 1'i) | I2: 46296
A3: =IF(A2="","",IF(MONTH(A2+1)=MONTH($I$2),A2+1,"")) | B3: =IF(A3="","",SUMIFS(Kasa!$E:$E,Kasa!$A:$A,A3)) | C3: =IF(A3="","",SUMIFS(Kasa!$F:$F,Kasa!$A:$A,A3)) | D3: =IF(A3="","",Kasa!$K$2+SUMIFS(Kasa!$E:$E,Kasa!$A:$A,"<="&A3)-SUMIFS(Kasa!$F:$F,Kasa!$A:$A,"<="&A3)) | E3: =IF(A3="","",COUNTIF(Kasa!$A:$A,A3))
A4: =IF(A3="","",IF(MONTH(A3+1)=MONTH($I$2),A3+1,"")) | B4: =IF(A4="","",SUMIFS(Kasa!$E:$E,Kasa!$A:$A,A4)) | C4: =IF(A4="","",SUMIFS(Kasa!$F:$F,Kasa!$A:$A,A4)) | D4: =IF(A4="","",Kasa!$K$2+SUMIFS(Kasa!$E:$E,Kasa!$A:$A,"<="&A4)-SUMIFS(Kasa!$F:$F,Kasa!$A:$A,"<="&A4)) | E4: =IF(A4="","",COUNTIF(Kasa!$A:$A,A4))
A5: =IF(A4="","",IF(MONTH(A4+1)=MONTH($I$2),A4+1,"")) | B5: =IF(A5="","",SUMIFS(Kasa!$E:$E,Kasa!$A:$A,A5)) | C5: =IF(A5="","",SUMIFS(Kasa!$F:$F,Kasa!$A:$A,A5)) | D5: =IF(A5="","",Kasa!$K$2+SUMIFS(Kasa!$E:$E,Kasa!$A:$A,"<="&A5)-SUMIFS(Kasa!$F:$F,Kasa!$A:$A,"<="&A5)) | E5: =IF(A5="","",COUNTIF(Kasa!$A:$A,A5))
A6: =IF(A5="","",IF(MONTH(A5+1)=MONTH($I$2),A5+1,"")) | B6: =IF(A6="","",SUMIFS(Kasa!$E:$E,Kasa!$A:$A,A6)) | C6: =IF(A6="","",SUMIFS(Kasa!$F:$F,Kasa!$A:$A,A6)) | D6: =IF(A6="","",Kasa!$K$2+SUMIFS(Kasa!$E:$E,Kasa!$A:$A,"<="&A6)-SUMIFS(Kasa!$F:$F,Kasa!$A:$A,"<="&A6)) | E6: =IF(A6="","",COUNTIF(Kasa!$A:$A,A6))
A7: =IF(A6="","",IF(MONTH(A6+1)=MONTH($I$2),A6+1,"")) | B7: =IF(A7="","",SUMIFS(Kasa!$E:$E,Kasa!$A:$A,A7)) | C7: =IF(A7="","",SUMIFS(Kasa!$F:$F,Kasa!$A:$A,A7)) | D7: =IF(A7="","",Kasa!$K$2+SUMIFS(Kasa!$E:$E,Kasa!$A:$A,"<="&A7)-SUMIFS(Kasa!$F:$F,Kasa!$A:$A,"<="&A7)) | E7: =IF(A7="","",COUNTIF(Kasa!$A:$A,A7))
A8: =IF(A7="","",IF(MONTH(A7+1)=MONTH($I$2),A7+1,"")) | B8: =IF(A8="","",SUMIFS(Kasa!$E:$E,Kasa!$A:$A,A8)) | C8: =IF(A8="","",SUMIFS(Kasa!$F:$F,Kasa!$A:$A,A8)) | D8: =IF(A8="","",Kasa!$K$2+SUMIFS(Kasa!$E:$E,Kasa!$A:$A,"<="&A8)-SUMIFS(Kasa!$F:$F,Kasa!$A:$A,"<="&A8)) | E8: =IF(A8="","",COUNTIF(Kasa!$A:$A,A8))
A9: =IF(A8="","",IF(MONTH(A8+1)=MONTH($I$2),A8+1,"")) | B9: =IF(A9="","",SUMIFS(Kasa!$E:$E,Kasa!$A:$A,A9)) | C9: =IF(A9="","",SUMIFS(Kasa!$F:$F,Kasa!$A:$A,A9)) | D9: =IF(A9="","",Kasa!$K$2+SUMIFS(Kasa!$E:$E,Kasa!$A:$A,"<="&A9)-SUMIFS(Kasa!$F:$F,Kasa!$A:$A,"<="&A9)) | E9: =IF(A9="","",COUNTIF(Kasa!$A:$A,A9))
A10: =IF(A9="","",IF(MONTH(A9+1)=MONTH($I$2),A9+1,"")) | B10: =IF(A10="","",SUMIFS(Kasa!$E:$E,Kasa!$A:$A,A10)) | C10: =IF(A10="","",SUMIFS(Kasa!$F:$F,Kasa!$A:$A,A10)) | D10: =IF(A10="","",Kasa!$K$2+SUMIFS(Kasa!$E:$E,Kasa!$A:$A,"<="&A10)-SUMIFS(Kasa!$F:$F,Kasa!$A:$A,"<="&A10)) | E10: =IF(A10="","",COUNTIF(Kasa!$A:$A,A10))
A11: =IF(A10="","",IF(MONTH(A10+1)=MONTH($I$2),A10+1,"")) | B11: =IF(A11="","",SUMIFS(Kasa!$E:$E,Kasa!$A:$A,A11)) | C11: =IF(A11="","",SUMIFS(Kasa!$F:$F,Kasa!$A:$A,A11)) | D11: =IF(A11="","",Kasa!$K$2+SUMIFS(Kasa!$E:$E,Kasa!$A:$A,"<="&A11)-SUMIFS(Kasa!$F:$F,Kasa!$A:$A,"<="&A11)) | E11: =IF(A11="","",COUNTIF(Kasa!$A:$A,A11))
A12: =IF(A11="","",IF(MONTH(A11+1)=MONTH($I$2),A11+1,"")) | B12: =IF(A12="","",SUMIFS(Kasa!$E:$E,Kasa!$A:$A,A12)) | C12: =IF(A12="","",SUMIFS(Kasa!$F:$F,Kasa!$A:$A,A12)) | D12: =IF(A12="","",Kasa!$K$2+SUMIFS(Kasa!$E:$E,Kasa!$A:$A,"<="&A12)-SUMIFS(Kasa!$F:$F,Kasa!$A:$A,"<="&A12)) | E12: =IF(A12="","",COUNTIF(Kasa!$A:$A,A12))
A13: =IF(A12="","",IF(MONTH(A12+1)=MONTH($I$2),A12+1,"")) | B13: =IF(A13="","",SUMIFS(Kasa!$E:$E,Kasa!$A:$A,A13)) | C13: =IF(A13="","",SUMIFS(Kasa!$F:$F,Kasa!$A:$A,A13)) | D13: =IF(A13="","",Kasa!$K$2+SUMIFS(Kasa!$E:$E,Kasa!$A:$A,"<="&A13)-SUMIFS(Kasa!$F:$F,Kasa!$A:$A,"<="&A13)) | E13: =IF(A13="","",COUNTIF(Kasa!$A:$A,A13))
A14: =IF(A13="","",IF(MONTH(A13+1)=MONTH($I$2),A13+1,"")) | B14: =IF(A14="","",SUMIFS(Kasa!$E:$E,Kasa!$A:$A,A14)) | C14: =IF(A14="","",SUMIFS(Kasa!$F:$F,Kasa!$A:$A,A14)) | D14: =IF(A14="","",Kasa!$K$2+SUMIFS(Kasa!$E:$E,Kasa!$A:$A,"<="&A14)-SUMIFS(Kasa!$F:$F,Kasa!$A:$A,"<="&A14)) | E14: =IF(A14="","",COUNTIF(Kasa!$A:$A,A14))
... A32: =IF(A31="","",IF(MONTH(A31+1)=MONTH($I$2),A31+1,"")) | B32: =IF(A32="","",SUMIFS(Kasa!$E:$E,Kasa!$A:$A,A32)) | C32: =IF(A32="","",SUMIFS(Kasa!$F:$F,Kasa!$A:$A,A32)) | D32: =IF(A32="","",Kasa!$K$2+SUMIFS(Kasa!$E:$E,Kasa!$A:$A,"<="&A32)-SUMIFS(Kasa!$F:$F,Kasa!$A:$A,"<="&A32)) | E32: =IF(A32="","",COUNTIF(Kasa!$A:$A,A32))

Sheet Kategoriler
A1: Kategori | B1: Giriş | C1: Çıkış
A2: Satış tahsilatı | B2: =SUMIFS(Kasa!$E:$E,Kasa!$D:$D,A2) | C2: =SUMIFS(Kasa!$F:$F,Kasa!$D:$D,A2)
A3: Müşteri tahsilatı | B3: =SUMIFS(Kasa!$E:$E,Kasa!$D:$D,A3) | C3: =SUMIFS(Kasa!$F:$F,Kasa!$D:$D,A3)
A4: Bankadan çekilen | B4: =SUMIFS(Kasa!$E:$E,Kasa!$D:$D,A4) | C4: =SUMIFS(Kasa!$F:$F,Kasa!$D:$D,A4)
A5: Diğer giriş | B5: =SUMIFS(Kasa!$E:$E,Kasa!$D:$D,A5) | C5: =SUMIFS(Kasa!$F:$F,Kasa!$D:$D,A5)
A6: Bankaya yatırılan | B6: =SUMIFS(Kasa!$E:$E,Kasa!$D:$D,A6) | C6: =SUMIFS(Kasa!$F:$F,Kasa!$D:$D,A6)
A7: Tedarikçi ödemesi | B7: =SUMIFS(Kasa!$E:$E,Kasa!$D:$D,A7) | C7: =SUMIFS(Kasa!$F:$F,Kasa!$D:$D,A7)
A8: Kira | B8: =SUMIFS(Kasa!$E:$E,Kasa!$D:$D,A8) | C8: =SUMIFS(Kasa!$F:$F,Kasa!$D:$D,A8)
A9: Fatura | B9: =SUMIFS(Kasa!$E:$E,Kasa!$D:$D,A9) | C9: =SUMIFS(Kasa!$F:$F,Kasa!$D:$D,A9)
A10: Personel | B10: =SUMIFS(Kasa!$E:$E,Kasa!$D:$D,A10) | C10: =SUMIFS(Kasa!$F:$F,Kasa!$D:$D,A10)
A11: Kırtasiye ve sarf | B11: =SUMIFS(Kasa!$E:$E,Kasa!$D:$D,A11) | C11: =SUMIFS(Kasa!$F:$F,Kasa!$D:$D,A11)
A12: Yemek ve ikram | B12: =SUMIFS(Kasa!$E:$E,Kasa!$D:$D,A12) | C12: =SUMIFS(Kasa!$F:$F,Kasa!$D:$D,A12)
A13: Diğer çıkış | B13: =SUMIFS(Kasa!$E:$E,Kasa!$D:$D,A13) | C13: =SUMIFS(Kasa!$F:$F,Kasa!$D:$D,A13)
A14: Toplam | B14: =SUM(B2:B13) | C14: =SUM(C2:C13)
