Workbook

Sheet Plan
A1: Gün | B1: Ders | C1: Konu | D1: Planlanan (dk) | E1: Yapılan (dk) | F1: Çözülen soru | G1: Doğru | H1: Başarı | I1: Durum
A2: Pazartesi | B2: Matematik | C2: Üslü sayılar | D2: 60 | E2: 60 | F2: 30 | G2: 24 | H2: =IF(OR(F2="",F2=0),"",G2/F2) | I2: =IF(D2="","",IF(E2="","Bekliyor",IF(E2>=D2,"Tamamlandı","Eksik")))
A3: Pazartesi | B3: İngilizce | C3: Kelime tekrarı | D3: 30 | E3: 30 | H3: =IF(OR(F3="",F3=0),"",G3/F3) | I3: =IF(D3="","",IF(E3="","Bekliyor",IF(E3>=D3,"Tamamlandı","Eksik")))
A4: Salı | B4: Türkçe | C4: Paragraf soruları | D4: 45 | E4: 40 | F4: 25 | G4: 19 | H4: =IF(OR(F4="",F4=0),"",G4/F4) | I4: =IF(D4="","",IF(E4="","Bekliyor",IF(E4>=D4,"Tamamlandı","Eksik")))
A5: Salı | B5: Fen Bilimleri | C5: Basınç | D5: 45 | E5: 45 | F5: 20 | G5: 13 | H5: =IF(OR(F5="",F5=0),"",G5/F5) | I5: =IF(D5="","",IF(E5="","Bekliyor",IF(E5>=D5,"Tamamlandı","Eksik")))
A6: Çarşamba | B6: Matematik | C6: Kareköklü ifadeler | D6: 60 | E6: 45 | F6: 25 | G6: 15 | H6: =IF(OR(F6="",F6=0),"",G6/F6) | I6: =IF(D6="","",IF(E6="","Bekliyor",IF(E6>=D6,"Tamamlandı","Eksik")))
A7: Çarşamba | B7: Sosyal Bilgiler | C7: Kurtuluş Savaşı | D7: 40 | E7: 40 | F7: 20 | G7: 17 | H7: =IF(OR(F7="",F7=0),"",G7/F7) | I7: =IF(D7="","",IF(E7="","Bekliyor",IF(E7>=D7,"Tamamlandı","Eksik")))
A8: Perşembe | B8: Fen Bilimleri | C8: Kimyasal tepkimeler | D8: 50 | E8: 30 | F8: 15 | G8: 6 | H8: =IF(OR(F8="",F8=0),"",G8/F8) | I8: =IF(D8="","",IF(E8="","Bekliyor",IF(E8>=D8,"Tamamlandı","Eksik")))
A9: Perşembe | B9: İngilizce | C9: Okuma parçası | D9: 30 | E9: 30 | F9: 10 | G9: 8 | H9: =IF(OR(F9="",F9=0),"",G9/F9) | I9: =IF(D9="","",IF(E9="","Bekliyor",IF(E9>=D9,"Tamamlandı","Eksik")))
A10: Cuma | B10: Türkçe | C10: Yazım kuralları | D10: 40 | E10: 40 | F10: 30 | G10: 27 | H10: =IF(OR(F10="",F10=0),"",G10/F10) | I10: =IF(D10="","",IF(E10="","Bekliyor",IF(E10>=D10,"Tamamlandı","Eksik")))
A11: Cumartesi | B11: Matematik | C11: Deneme sınavı | D11: 90 | E11: 90 | F11: 40 | G11: 28 | H11: =IF(OR(F11="",F11=0),"",G11/F11) | I11: =IF(D11="","",IF(E11="","Bekliyor",IF(E11>=D11,"Tamamlandı","Eksik")))
A12: Cumartesi | B12: Fen Bilimleri | C12: Deneme sınavı | D12: 60 | E12: 60 | F12: 20 | G12: 14 | H12: =IF(OR(F12="",F12=0),"",G12/F12) | I12: =IF(D12="","",IF(E12="","Bekliyor",IF(E12>=D12,"Tamamlandı","Eksik")))
A13: Pazar | B13: Sosyal Bilgiler | C13: Haftalık tekrar | D13: 30 | H13: =IF(OR(F13="",F13=0),"",G13/F13) | I13: =IF(D13="","",IF(E13="","Bekliyor",IF(E13>=D13,"Tamamlandı","Eksik")))
H14: =IF(OR(F14="",F14=0),"",G14/F14) | I14: =IF(D14="","",IF(E14="","Bekliyor",IF(E14>=D14,"Tamamlandı","Eksik")))
H15: =IF(OR(F15="",F15=0),"",G15/F15) | I15: =IF(D15="","",IF(E15="","Bekliyor",IF(E15>=D15,"Tamamlandı","Eksik")))
H16: =IF(OR(F16="",F16=0),"",G16/F16) | I16: =IF(D16="","",IF(E16="","Bekliyor",IF(E16>=D16,"Tamamlandı","Eksik")))
H17: =IF(OR(F17="",F17=0),"",G17/F17) | I17: =IF(D17="","",IF(E17="","Bekliyor",IF(E17>=D17,"Tamamlandı","Eksik")))
H18: =IF(OR(F18="",F18=0),"",G18/F18) | I18: =IF(D18="","",IF(E18="","Bekliyor",IF(E18>=D18,"Tamamlandı","Eksik")))
H19: =IF(OR(F19="",F19=0),"",G19/F19) | I19: =IF(D19="","",IF(E19="","Bekliyor",IF(E19>=D19,"Tamamlandı","Eksik")))
H20: =IF(OR(F20="",F20=0),"",G20/F20) | I20: =IF(D20="","",IF(E20="","Bekliyor",IF(E20>=D20,"Tamamlandı","Eksik")))
H21: =IF(OR(F21="",F21=0),"",G21/F21) | I21: =IF(D21="","",IF(E21="","Bekliyor",IF(E21>=D21,"Tamamlandı","Eksik")))
H22: =IF(OR(F22="",F22=0),"",G22/F22) | I22: =IF(D22="","",IF(E22="","Bekliyor",IF(E22>=D22,"Tamamlandı","Eksik")))
H23: =IF(OR(F23="",F23=0),"",G23/F23) | I23: =IF(D23="","",IF(E23="","Bekliyor",IF(E23>=D23,"Tamamlandı","Eksik")))
H24: =IF(OR(F24="",F24=0),"",G24/F24) | I24: =IF(D24="","",IF(E24="","Bekliyor",IF(E24>=D24,"Tamamlandı","Eksik")))
H25: =IF(OR(F25="",F25=0),"",G25/F25) | I25: =IF(D25="","",IF(E25="","Bekliyor",IF(E25>=D25,"Tamamlandı","Eksik")))
... H61: =IF(OR(F61="",F61=0),"",G61/F61) | I61: =IF(D61="","",IF(E61="","Bekliyor",IF(E61>=D61,"Tamamlandı","Eksik")))

Sheet Özet
A1: Ders | B1: Planlanan (dk) | C1: Yapılan (dk) | D1: Gerçekleşme | E1: Çözülen soru | F1: Doğru | G1: Doğru oranı
A2: Matematik | B2: =SUMIFS(Plan!$D:$D,Plan!$B:$B,$A2) | C2: =SUMIFS(Plan!$E:$E,Plan!$B:$B,$A2) | D2: =IFERROR(C2/B2,"") | E2: =SUMIFS(Plan!$F:$F,Plan!$B:$B,$A2) | F2: =SUMIFS(Plan!$G:$G,Plan!$B:$B,$A2) | G2: =IFERROR(F2/E2,"") | J2: Pazartesi | K2: =SUMIFS(Plan!$E:$E,Plan!$A:$A,J2)
A3: Türkçe | B3: =SUMIFS(Plan!$D:$D,Plan!$B:$B,$A3) | C3: =SUMIFS(Plan!$E:$E,Plan!$B:$B,$A3) | D3: =IFERROR(C3/B3,"") | E3: =SUMIFS(Plan!$F:$F,Plan!$B:$B,$A3) | F3: =SUMIFS(Plan!$G:$G,Plan!$B:$B,$A3) | G3: =IFERROR(F3/E3,"") | J3: Salı | K3: =SUMIFS(Plan!$E:$E,Plan!$A:$A,J3)
A4: Fen Bilimleri | B4: =SUMIFS(Plan!$D:$D,Plan!$B:$B,$A4) | C4: =SUMIFS(Plan!$E:$E,Plan!$B:$B,$A4) | D4: =IFERROR(C4/B4,"") | E4: =SUMIFS(Plan!$F:$F,Plan!$B:$B,$A4) | F4: =SUMIFS(Plan!$G:$G,Plan!$B:$B,$A4) | G4: =IFERROR(F4/E4,"") | J4: Çarşamba | K4: =SUMIFS(Plan!$E:$E,Plan!$A:$A,J4)
A5: Sosyal Bilgiler | B5: =SUMIFS(Plan!$D:$D,Plan!$B:$B,$A5) | C5: =SUMIFS(Plan!$E:$E,Plan!$B:$B,$A5) | D5: =IFERROR(C5/B5,"") | E5: =SUMIFS(Plan!$F:$F,Plan!$B:$B,$A5) | F5: =SUMIFS(Plan!$G:$G,Plan!$B:$B,$A5) | G5: =IFERROR(F5/E5,"") | J5: Perşembe | K5: =SUMIFS(Plan!$E:$E,Plan!$A:$A,J5)
A6: İngilizce | B6: =SUMIFS(Plan!$D:$D,Plan!$B:$B,$A6) | C6: =SUMIFS(Plan!$E:$E,Plan!$B:$B,$A6) | D6: =IFERROR(C6/B6,"") | E6: =SUMIFS(Plan!$F:$F,Plan!$B:$B,$A6) | F6: =SUMIFS(Plan!$G:$G,Plan!$B:$B,$A6) | G6: =IFERROR(F6/E6,"") | J6: Cuma | K6: =SUMIFS(Plan!$E:$E,Plan!$A:$A,J6)
A7: Diğer | B7: =SUMIFS(Plan!$D:$D,Plan!$B:$B,$A7) | C7: =SUMIFS(Plan!$E:$E,Plan!$B:$B,$A7) | D7: =IFERROR(C7/B7,"") | E7: =SUMIFS(Plan!$F:$F,Plan!$B:$B,$A7) | F7: =SUMIFS(Plan!$G:$G,Plan!$B:$B,$A7) | G7: =IFERROR(F7/E7,"") | J7: Cumartesi | K7: =SUMIFS(Plan!$E:$E,Plan!$A:$A,J7)
A8: Toplam | B8: =SUM(B2:B7) | C8: =SUM(C2:C7) | D8: =IFERROR(C8/B8,"") | E8: =SUM(E2:E7) | F8: =SUM(F2:F7) | G8: =IFERROR(F8/E8,"") | J8: Pazar | K8: =SUMIFS(Plan!$E:$E,Plan!$A:$A,J8)
J10: Haftalık çalışma (saat) | K10: =C8/60
J11: Tamamlanmayan oturum | K11: =COUNTIF(Plan!$I:$I,"Eksik")+COUNTIF(Plan!$I:$I,"Bekliyor")
