Workbook

Sheet Hareketler
A1: Tarih | B1: Tür | C1: Kategori | D1: Açıklama | E1: Ödeme şekli | F1: Tutar | G1: Kontrol
A2: 46204 | B2: Gider | C2: Kira | D2: Dükkân kirası | E2: Havale/EFT | F2: 18000 | G2: =IF(C2="","",IF(IFERROR(VLOOKUP(C2,Kategoriler!$A$2:$B$13,2,FALSE),"")=B2,"","Türü kontrol edin"))
A3: 46208 | B3: Gider | C3: Personel | D3: Yarı zamanlı çalışan | E3: Havale/EFT | F3: 15000 | G3: =IF(C3="","",IF(IFERROR(VLOOKUP(C3,Kategoriler!$A$2:$B$13,2,FALSE),"")=B3,"","Türü kontrol edin"))
A4: 46211 | B4: Gider | C4: Mal alımı | D4: Toptancı: kırtasiye ürünleri | E4: Havale/EFT | F4: 32000 | G4: =IF(C4="","",IF(IFERROR(VLOOKUP(C4,Kategoriler!$A$2:$B$13,2,FALSE),"")=B4,"","Türü kontrol edin"))
A5: 46218 | B5: Gider | C5: Elektrik-su-doğalgaz | D5: Elektrik faturası | E5: Kredi kartı | F5: 2400 | G5: =IF(C5="","",IF(IFERROR(VLOOKUP(C5,Kategoriler!$A$2:$B$13,2,FALSE),"")=B5,"","Türü kontrol edin"))
A6: 46221 | B6: Gider | C6: İnternet-telefon | D6: İnternet ve hat | E6: Kredi kartı | F6: 750 | G6: =IF(C6="","",IF(IFERROR(VLOOKUP(C6,Kategoriler!$A$2:$B$13,2,FALSE),"")=B6,"","Türü kontrol edin"))
A7: 46234 | B7: Gelir | C7: Satış | D7: Ay sonu nakit satış toplamı | E7: Nakit | F7: 38500 | G7: =IF(C7="","",IF(IFERROR(VLOOKUP(C7,Kategoriler!$A$2:$B$13,2,FALSE),"")=B7,"","Türü kontrol edin"))
A8: 46234 | B8: Gelir | C8: Satış | D8: Ay sonu POS satış toplamı | E8: POS | F8: 41200 | G8: =IF(C8="","",IF(IFERROR(VLOOKUP(C8,Kategoriler!$A$2:$B$13,2,FALSE),"")=B8,"","Türü kontrol edin"))
A9: 46234 | B9: Gelir | C9: Hizmet geliri | D9: Fotokopi ve baskı | E9: Nakit | F9: 6800 | G9: =IF(C9="","",IF(IFERROR(VLOOKUP(C9,Kategoriler!$A$2:$B$13,2,FALSE),"")=B9,"","Türü kontrol edin"))
A10: 46235 | B10: Gider | C10: Kira | D10: Dükkân kirası | E10: Havale/EFT | F10: 18000 | G10: =IF(C10="","",IF(IFERROR(VLOOKUP(C10,Kategoriler!$A$2:$B$13,2,FALSE),"")=B10,"","Türü kontrol edin"))
A11: 46239 | B11: Gider | C11: Personel | D11: Yarı zamanlı çalışan | E11: Havale/EFT | F11: 15000 | G11: =IF(C11="","",IF(IFERROR(VLOOKUP(C11,Kategoriler!$A$2:$B$13,2,FALSE),"")=B11,"","Türü kontrol edin"))
A12: 46242 | B12: Gider | C12: Mal alımı | D12: Toptancı: kırtasiye ürünleri | E12: Havale/EFT | F12: 21000 | G12: =IF(C12="","",IF(IFERROR(VLOOKUP(C12,Kategoriler!$A$2:$B$13,2,FALSE),"")=B12,"","Türü kontrol edin"))
A13: 46249 | B13: Gider | C13: Elektrik-su-doğalgaz | D13: Elektrik faturası | E13: Kredi kartı | F13: 2650 | G13: =IF(C13="","",IF(IFERROR(VLOOKUP(C13,Kategoriler!$A$2:$B$13,2,FALSE),"")=B13,"","Türü kontrol edin"))
... A27: 46291 | B27: Gider | C27: Ulaşım | D27: Toptancıya araç kirası | E27: Nakit | F27: 1200 | G27: =IF(C27="","",IF(IFERROR(VLOOKUP(C27,Kategoriler!$A$2:$B$13,2,FALSE),"")=B27,"","Türü kontrol edin"))
G28: =IF(C28="","",IF(IFERROR(VLOOKUP(C28,Kategoriler!$A$2:$B$13,2,FALSE),"")=B28,"","Türü kontrol edin"))
G29: =IF(C29="","",IF(IFERROR(VLOOKUP(C29,Kategoriler!$A$2:$B$13,2,FALSE),"")=B29,"","Türü kontrol edin"))
G30: =IF(C30="","",IF(IFERROR(VLOOKUP(C30,Kategoriler!$A$2:$B$13,2,FALSE),"")=B30,"","Türü kontrol edin"))
G31: =IF(C31="","",IF(IFERROR(VLOOKUP(C31,Kategoriler!$A$2:$B$13,2,FALSE),"")=B31,"","Türü kontrol edin"))
G32: =IF(C32="","",IF(IFERROR(VLOOKUP(C32,Kategoriler!$A$2:$B$13,2,FALSE),"")=B32,"","Türü kontrol edin"))
G33: =IF(C33="","",IF(IFERROR(VLOOKUP(C33,Kategoriler!$A$2:$B$13,2,FALSE),"")=B33,"","Türü kontrol edin"))
G34: =IF(C34="","",IF(IFERROR(VLOOKUP(C34,Kategoriler!$A$2:$B$13,2,FALSE),"")=B34,"","Türü kontrol edin"))
G35: =IF(C35="","",IF(IFERROR(VLOOKUP(C35,Kategoriler!$A$2:$B$13,2,FALSE),"")=B35,"","Türü kontrol edin"))
G36: =IF(C36="","",IF(IFERROR(VLOOKUP(C36,Kategoriler!$A$2:$B$13,2,FALSE),"")=B36,"","Türü kontrol edin"))
G37: =IF(C37="","",IF(IFERROR(VLOOKUP(C37,Kategoriler!$A$2:$B$13,2,FALSE),"")=B37,"","Türü kontrol edin"))
G38: =IF(C38="","",IF(IFERROR(VLOOKUP(C38,Kategoriler!$A$2:$B$13,2,FALSE),"")=B38,"","Türü kontrol edin"))
G39: =IF(C39="","",IF(IFERROR(VLOOKUP(C39,Kategoriler!$A$2:$B$13,2,FALSE),"")=B39,"","Türü kontrol edin"))
... G201: =IF(C201="","",IF(IFERROR(VLOOKUP(C201,Kategoriler!$A$2:$B$13,2,FALSE),"")=B201,"","Türü kontrol edin"))

Sheet Aylık
A1: Ay | B1: Gelir | C1: Gider | D1: Net | E1: Kümülatif net | F1: Kâr marjı
A2: 46023 | B2: =SUMIFS(Hareketler!$F:$F,Hareketler!$B:$B,"Gelir",Hareketler!$A:$A,">="&A2,Hareketler!$A:$A,"<"&EDATE(A2,1)) | C2: =SUMIFS(Hareketler!$F:$F,Hareketler!$B:$B,"Gider",Hareketler!$A:$A,">="&A2,Hareketler!$A:$A,"<"&EDATE(A2,1)) | D2: =B2-C2 | E2: =D2 | F2: =IF(B2=0,"",D2/B2) | H2: Yıllık gelir | I2: =B14
A3: =EDATE(A2,1) | B3: =SUMIFS(Hareketler!$F:$F,Hareketler!$B:$B,"Gelir",Hareketler!$A:$A,">="&A3,Hareketler!$A:$A,"<"&EDATE(A3,1)) | C3: =SUMIFS(Hareketler!$F:$F,Hareketler!$B:$B,"Gider",Hareketler!$A:$A,">="&A3,Hareketler!$A:$A,"<"&EDATE(A3,1)) | D3: =B3-C3 | E3: =E2+D3 | F3: =IF(B3=0,"",D3/B3) | H3: Yıllık gider | I3: =C14
A4: =EDATE(A3,1) | B4: =SUMIFS(Hareketler!$F:$F,Hareketler!$B:$B,"Gelir",Hareketler!$A:$A,">="&A4,Hareketler!$A:$A,"<"&EDATE(A4,1)) | C4: =SUMIFS(Hareketler!$F:$F,Hareketler!$B:$B,"Gider",Hareketler!$A:$A,">="&A4,Hareketler!$A:$A,"<"&EDATE(A4,1)) | D4: =B4-C4 | E4: =E3+D4 | F4: =IF(B4=0,"",D4/B4) | H4: Yıllık net | I4: =D14
A5: =EDATE(A4,1) | B5: =SUMIFS(Hareketler!$F:$F,Hareketler!$B:$B,"Gelir",Hareketler!$A:$A,">="&A5,Hareketler!$A:$A,"<"&EDATE(A5,1)) | C5: =SUMIFS(Hareketler!$F:$F,Hareketler!$B:$B,"Gider",Hareketler!$A:$A,">="&A5,Hareketler!$A:$A,"<"&EDATE(A5,1)) | D5: =B5-C5 | E5: =E4+D5 | F5: =IF(B5=0,"",D5/B5) | H5: Gelirli ay başına net | I5: =IF(COUNTIF(B2:B13,">0")=0,"",D14/COUNTIF(B2:B13,">0"))
A6: =EDATE(A5,1) | B6: =SUMIFS(Hareketler!$F:$F,Hareketler!$B:$B,"Gelir",Hareketler!$A:$A,">="&A6,Hareketler!$A:$A,"<"&EDATE(A6,1)) | C6: =SUMIFS(Hareketler!$F:$F,Hareketler!$B:$B,"Gider",Hareketler!$A:$A,">="&A6,Hareketler!$A:$A,"<"&EDATE(A6,1)) | D6: =B6-C6 | E6: =E5+D6 | F6: =IF(B6=0,"",D6/B6) | H6: Zarar eden ay sayısı | I6: =COUNTIF(D2:D13,"<0")
A7: =EDATE(A6,1) | B7: =SUMIFS(Hareketler!$F:$F,Hareketler!$B:$B,"Gelir",Hareketler!$A:$A,">="&A7,Hareketler!$A:$A,"<"&EDATE(A7,1)) | C7: =SUMIFS(Hareketler!$F:$F,Hareketler!$B:$B,"Gider",Hareketler!$A:$A,">="&A7,Hareketler!$A:$A,"<"&EDATE(A7,1)) | D7: =B7-C7 | E7: =E6+D7 | F7: =IF(B7=0,"",D7/B7)
A8: =EDATE(A7,1) | B8: =SUMIFS(Hareketler!$F:$F,Hareketler!$B:$B,"Gelir",Hareketler!$A:$A,">="&A8,Hareketler!$A:$A,"<"&EDATE(A8,1)) | C8: =SUMIFS(Hareketler!$F:$F,Hareketler!$B:$B,"Gider",Hareketler!$A:$A,">="&A8,Hareketler!$A:$A,"<"&EDATE(A8,1)) | D8: =B8-C8 | E8: =E7+D8 | F8: =IF(B8=0,"",D8/B8)
A9: =EDATE(A8,1) | B9: =SUMIFS(Hareketler!$F:$F,Hareketler!$B:$B,"Gelir",Hareketler!$A:$A,">="&A9,Hareketler!$A:$A,"<"&EDATE(A9,1)) | C9: =SUMIFS(Hareketler!$F:$F,Hareketler!$B:$B,"Gider",Hareketler!$A:$A,">="&A9,Hareketler!$A:$A,"<"&EDATE(A9,1)) | D9: =B9-C9 | E9: =E8+D9 | F9: =IF(B9=0,"",D9/B9)
A10: =EDATE(A9,1) | B10: =SUMIFS(Hareketler!$F:$F,Hareketler!$B:$B,"Gelir",Hareketler!$A:$A,">="&A10,Hareketler!$A:$A,"<"&EDATE(A10,1)) | C10: =SUMIFS(Hareketler!$F:$F,Hareketler!$B:$B,"Gider",Hareketler!$A:$A,">="&A10,Hareketler!$A:$A,"<"&EDATE(A10,1)) | D10: =B10-C10 | E10: =E9+D10 | F10: =IF(B10=0,"",D10/B10)
A11: =EDATE(A10,1) | B11: =SUMIFS(Hareketler!$F:$F,Hareketler!$B:$B,"Gelir",Hareketler!$A:$A,">="&A11,Hareketler!$A:$A,"<"&EDATE(A11,1)) | C11: =SUMIFS(Hareketler!$F:$F,Hareketler!$B:$B,"Gider",Hareketler!$A:$A,">="&A11,Hareketler!$A:$A,"<"&EDATE(A11,1)) | D11: =B11-C11 | E11: =E10+D11 | F11: =IF(B11=0,"",D11/B11)
A12: =EDATE(A11,1) | B12: =SUMIFS(Hareketler!$F:$F,Hareketler!$B:$B,"Gelir",Hareketler!$A:$A,">="&A12,Hareketler!$A:$A,"<"&EDATE(A12,1)) | C12: =SUMIFS(Hareketler!$F:$F,Hareketler!$B:$B,"Gider",Hareketler!$A:$A,">="&A12,Hareketler!$A:$A,"<"&EDATE(A12,1)) | D12: =B12-C12 | E12: =E11+D12 | F12: =IF(B12=0,"",D12/B12)
A13: =EDATE(A12,1) | B13: =SUMIFS(Hareketler!$F:$F,Hareketler!$B:$B,"Gelir",Hareketler!$A:$A,">="&A13,Hareketler!$A:$A,"<"&EDATE(A13,1)) | C13: =SUMIFS(Hareketler!$F:$F,Hareketler!$B:$B,"Gider",Hareketler!$A:$A,">="&A13,Hareketler!$A:$A,"<"&EDATE(A13,1)) | D13: =B13-C13 | E13: =E12+D13 | F13: =IF(B13=0,"",D13/B13)
A14: Toplam | B14: =SUM(B2:B13) | C14: =SUM(C2:C13) | D14: =SUM(D2:D13) | F14: =IF(B14=0,"",D14/B14)

Sheet Kategoriler
A1: Kategori | B1: Tür | C1: Toplam | D1: Türü içindeki pay
A2: Satış | B2: Gelir | C2: =SUMIFS(Hareketler!$F:$F,Hareketler!$C:$C,A2) | D2: =IF(SUMIFS($C$2:$C$13,$B$2:$B$13,B2)=0,"",C2/SUMIFS($C$2:$C$13,$B$2:$B$13,B2)) | F2: En büyük gider kalemi | G2: =INDEX(A5:A13,MATCH(MAX(C5:C13),C5:C13,0))
A3: Hizmet geliri | B3: Gelir | C3: =SUMIFS(Hareketler!$F:$F,Hareketler!$C:$C,A3) | D3: =IF(SUMIFS($C$2:$C$13,$B$2:$B$13,B3)=0,"",C3/SUMIFS($C$2:$C$13,$B$2:$B$13,B3)) | F3: Tutarı | G3: =MAX(C5:C13)
A4: Diğer gelir | B4: Gelir | C4: =SUMIFS(Hareketler!$F:$F,Hareketler!$C:$C,A4) | D4: =IF(SUMIFS($C$2:$C$13,$B$2:$B$13,B4)=0,"",C4/SUMIFS($C$2:$C$13,$B$2:$B$13,B4))
A5: Kira | B5: Gider | C5: =SUMIFS(Hareketler!$F:$F,Hareketler!$C:$C,A5) | D5: =IF(SUMIFS($C$2:$C$13,$B$2:$B$13,B5)=0,"",C5/SUMIFS($C$2:$C$13,$B$2:$B$13,B5))
A6: Personel | B6: Gider | C6: =SUMIFS(Hareketler!$F:$F,Hareketler!$C:$C,A6) | D6: =IF(SUMIFS($C$2:$C$13,$B$2:$B$13,B6)=0,"",C6/SUMIFS($C$2:$C$13,$B$2:$B$13,B6))
A7: Mal alımı | B7: Gider | C7: =SUMIFS(Hareketler!$F:$F,Hareketler!$C:$C,A7) | D7: =IF(SUMIFS($C$2:$C$13,$B$2:$B$13,B7)=0,"",C7/SUMIFS($C$2:$C$13,$B$2:$B$13,B7))
A8: Elektrik-su-doğalgaz | B8: Gider | C8: =SUMIFS(Hareketler!$F:$F,Hareketler!$C:$C,A8) | D8: =IF(SUMIFS($C$2:$C$13,$B$2:$B$13,B8)=0,"",C8/SUMIFS($C$2:$C$13,$B$2:$B$13,B8))
A9: İnternet-telefon | B9: Gider | C9: =SUMIFS(Hareketler!$F:$F,Hareketler!$C:$C,A9) | D9: =IF(SUMIFS($C$2:$C$13,$B$2:$B$13,B9)=0,"",C9/SUMIFS($C$2:$C$13,$B$2:$B$13,B9))
A10: Ulaşım | B10: Gider | C10: =SUMIFS(Hareketler!$F:$F,Hareketler!$C:$C,A10) | D10: =IF(SUMIFS($C$2:$C$13,$B$2:$B$13,B10)=0,"",C10/SUMIFS($C$2:$C$13,$B$2:$B$13,B10))
A11: Vergi ve SGK | B11: Gider | C11: =SUMIFS(Hareketler!$F:$F,Hareketler!$C:$C,A11) | D11: =IF(SUMIFS($C$2:$C$13,$B$2:$B$13,B11)=0,"",C11/SUMIFS($C$2:$C$13,$B$2:$B$13,B11))
A12: Bakım-onarım | B12: Gider | C12: =SUMIFS(Hareketler!$F:$F,Hareketler!$C:$C,A12) | D12: =IF(SUMIFS($C$2:$C$13,$B$2:$B$13,B12)=0,"",C12/SUMIFS($C$2:$C$13,$B$2:$B$13,B12))
A13: Diğer gider | B13: Gider | C13: =SUMIFS(Hareketler!$F:$F,Hareketler!$C:$C,A13) | D13: =IF(SUMIFS($C$2:$C$13,$B$2:$B$13,B13)=0,"",C13/SUMIFS($C$2:$C$13,$B$2:$B$13,B13))
