Workbook

Sheet Borçlar
A1: Borç | B1: Tür | C1: Toplam geri ödeme | D1: Aylık taksit | E1: Ödeme günü | F1: Ödenen | G1: Kalan | H1: Kalan taksit | I1: Durum
A2: Banka ihtiyaç kredisi | B2: İhtiyaç kredisi | C2: 72000 | D2: 3000 | E2: 5 | F2: =IF(A2="","",SUMIFS(Ödemeler!$C:$C,Ödemeler!$B:$B,A2)) | G2: =IF(A2="","",C2-F2) | H2: =IF(OR(A2="",N(D2)<=0),"",ROUNDUP(MAX(G2,0)/D2,0)) | I2: =IF(A2="","",IF(G2<=0,"Kapandı","Devam ediyor"))
A3: Taşıt kredisi | B3: Taşıt kredisi | C3: 180000 | D3: 7500 | E3: 12 | F3: =IF(A3="","",SUMIFS(Ödemeler!$C:$C,Ödemeler!$B:$B,A3)) | G3: =IF(A3="","",C3-F3) | H3: =IF(OR(A3="",N(D3)<=0),"",ROUNDUP(MAX(G3,0)/D3,0)) | I3: =IF(A3="","",IF(G3<=0,"Kapandı","Devam ediyor"))
A4: Kredi kartı A | B4: Kredi kartı | C4: 18500 | D4: 4000 | E4: 20 | F4: =IF(A4="","",SUMIFS(Ödemeler!$C:$C,Ödemeler!$B:$B,A4)) | G4: =IF(A4="","",C4-F4) | H4: =IF(OR(A4="",N(D4)<=0),"",ROUNDUP(MAX(G4,0)/D4,0)) | I4: =IF(A4="","",IF(G4<=0,"Kapandı","Devam ediyor"))
A5: Aile içi borç | B5: Kişisel borç | C5: 10000 | D5: 2000 | E5: 1 | F5: =IF(A5="","",SUMIFS(Ödemeler!$C:$C,Ödemeler!$B:$B,A5)) | G5: =IF(A5="","",C5-F5) | H5: =IF(OR(A5="",N(D5)<=0),"",ROUNDUP(MAX(G5,0)/D5,0)) | I5: =IF(A5="","",IF(G5<=0,"Kapandı","Devam ediyor"))
A6: Telefon taksiti | B6: Diğer | C6: 3600 | D6: 1200 | E6: 15 | F6: =IF(A6="","",SUMIFS(Ödemeler!$C:$C,Ödemeler!$B:$B,A6)) | G6: =IF(A6="","",C6-F6) | H6: =IF(OR(A6="",N(D6)<=0),"",ROUNDUP(MAX(G6,0)/D6,0)) | I6: =IF(A6="","",IF(G6<=0,"Kapandı","Devam ediyor"))
F7: =IF(A7="","",SUMIFS(Ödemeler!$C:$C,Ödemeler!$B:$B,A7)) | G7: =IF(A7="","",C7-F7) | H7: =IF(OR(A7="",N(D7)<=0),"",ROUNDUP(MAX(G7,0)/D7,0)) | I7: =IF(A7="","",IF(G7<=0,"Kapandı","Devam ediyor"))
F8: =IF(A8="","",SUMIFS(Ödemeler!$C:$C,Ödemeler!$B:$B,A8)) | G8: =IF(A8="","",C8-F8) | H8: =IF(OR(A8="",N(D8)<=0),"",ROUNDUP(MAX(G8,0)/D8,0)) | I8: =IF(A8="","",IF(G8<=0,"Kapandı","Devam ediyor"))
F9: =IF(A9="","",SUMIFS(Ödemeler!$C:$C,Ödemeler!$B:$B,A9)) | G9: =IF(A9="","",C9-F9) | H9: =IF(OR(A9="",N(D9)<=0),"",ROUNDUP(MAX(G9,0)/D9,0)) | I9: =IF(A9="","",IF(G9<=0,"Kapandı","Devam ediyor"))
F10: =IF(A10="","",SUMIFS(Ödemeler!$C:$C,Ödemeler!$B:$B,A10)) | G10: =IF(A10="","",C10-F10) | H10: =IF(OR(A10="",N(D10)<=0),"",ROUNDUP(MAX(G10,0)/D10,0)) | I10: =IF(A10="","",IF(G10<=0,"Kapandı","Devam ediyor"))
F11: =IF(A11="","",SUMIFS(Ödemeler!$C:$C,Ödemeler!$B:$B,A11)) | G11: =IF(A11="","",C11-F11) | H11: =IF(OR(A11="",N(D11)<=0),"",ROUNDUP(MAX(G11,0)/D11,0)) | I11: =IF(A11="","",IF(G11<=0,"Kapandı","Devam ediyor"))
F12: =IF(A12="","",SUMIFS(Ödemeler!$C:$C,Ödemeler!$B:$B,A12)) | G12: =IF(A12="","",C12-F12) | H12: =IF(OR(A12="",N(D12)<=0),"",ROUNDUP(MAX(G12,0)/D12,0)) | I12: =IF(A12="","",IF(G12<=0,"Kapandı","Devam ediyor"))
F13: =IF(A13="","",SUMIFS(Ödemeler!$C:$C,Ödemeler!$B:$B,A13)) | G13: =IF(A13="","",C13-F13) | H13: =IF(OR(A13="",N(D13)<=0),"",ROUNDUP(MAX(G13,0)/D13,0)) | I13: =IF(A13="","",IF(G13<=0,"Kapandı","Devam ediyor"))
F14: =IF(A14="","",SUMIFS(Ödemeler!$C:$C,Ödemeler!$B:$B,A14)) | G14: =IF(A14="","",C14-F14) | H14: =IF(OR(A14="",N(D14)<=0),"",ROUNDUP(MAX(G14,0)/D14,0)) | I14: =IF(A14="","",IF(G14<=0,"Kapandı","Devam ediyor"))
F15: =IF(A15="","",SUMIFS(Ödemeler!$C:$C,Ödemeler!$B:$B,A15)) | G15: =IF(A15="","",C15-F15) | H15: =IF(OR(A15="",N(D15)<=0),"",ROUNDUP(MAX(G15,0)/D15,0)) | I15: =IF(A15="","",IF(G15<=0,"Kapandı","Devam ediyor"))
F16: =IF(A16="","",SUMIFS(Ödemeler!$C:$C,Ödemeler!$B:$B,A16)) | G16: =IF(A16="","",C16-F16) | H16: =IF(OR(A16="",N(D16)<=0),"",ROUNDUP(MAX(G16,0)/D16,0)) | I16: =IF(A16="","",IF(G16<=0,"Kapandı","Devam ediyor"))
F17: =IF(A17="","",SUMIFS(Ödemeler!$C:$C,Ödemeler!$B:$B,A17)) | G17: =IF(A17="","",C17-F17) | H17: =IF(OR(A17="",N(D17)<=0),"",ROUNDUP(MAX(G17,0)/D17,0)) | I17: =IF(A17="","",IF(G17<=0,"Kapandı","Devam ediyor"))
F18: =IF(A18="","",SUMIFS(Ödemeler!$C:$C,Ödemeler!$B:$B,A18)) | G18: =IF(A18="","",C18-F18) | H18: =IF(OR(A18="",N(D18)<=0),"",ROUNDUP(MAX(G18,0)/D18,0)) | I18: =IF(A18="","",IF(G18<=0,"Kapandı","Devam ediyor"))
... F31: =IF(A31="","",SUMIFS(Ödemeler!$C:$C,Ödemeler!$B:$B,A31)) | G31: =IF(A31="","",C31-F31) | H31: =IF(OR(A31="",N(D31)<=0),"",ROUNDUP(MAX(G31,0)/D31,0)) | I31: =IF(A31="","",IF(G31<=0,"Kapandı","Devam ediyor"))

Sheet Ödemeler
A1: Tarih | B1: Borç | C1: Tutar | D1: Ödeme yöntemi | E1: Not
A2: 46204 | B2: Aile içi borç | C2: 2000 | D2: Havale/EFT
A3: 46208 | B3: Banka ihtiyaç kredisi | C3: 3000 | D3: Otomatik ödeme
A4: 46215 | B4: Taşıt kredisi | C4: 7500 | D4: Otomatik ödeme
A5: 46218 | B5: Telefon taksiti | C5: 1200 | D5: Banka kartı
A6: 46223 | B6: Kredi kartı A | C6: 4000 | D6: Havale/EFT | E6: Ekstre ödemesi
A7: 46235 | B7: Aile içi borç | C7: 2000 | D7: Havale/EFT
A8: 46239 | B8: Banka ihtiyaç kredisi | C8: 3000 | D8: Otomatik ödeme
A9: 46246 | B9: Taşıt kredisi | C9: 7500 | D9: Otomatik ödeme
A10: 46249 | B10: Telefon taksiti | C10: 1200 | D10: Banka kartı
A11: 46254 | B11: Kredi kartı A | C11: 4000 | D11: Havale/EFT | E11: Ekstre ödemesi
A12: 46266 | B12: Aile içi borç | C12: 2000 | D12: Havale/EFT
A13: 46270 | B13: Banka ihtiyaç kredisi | C13: 3000 | D13: Otomatik ödeme
A14: 46277 | B14: Taşıt kredisi | C14: 7500 | D14: Otomatik ödeme
A15: 46280 | B15: Telefon taksiti | C15: 1200 | D15: Banka kartı
A16: 46285 | B16: Kredi kartı A | C16: 4500 | D16: Havale/EFT | E16: Ekstre ödemesi

Sheet Özet
A1: Borç türü | B1: Toplam borç | C1: Ödenen | D1: Kalan
A2: Kredi kartı | B2: =SUMIFS(Borçlar!$C:$C,Borçlar!$B:$B,A2) | C2: =SUMIFS(Borçlar!$F:$F,Borçlar!$B:$B,A2) | D2: =B2-C2 | F2: Kalan toplam borç | G2: =D8
A3: İhtiyaç kredisi | B3: =SUMIFS(Borçlar!$C:$C,Borçlar!$B:$B,A3) | C3: =SUMIFS(Borçlar!$F:$F,Borçlar!$B:$B,A3) | D3: =B3-C3 | F3: Aylık taksit yükü | G3: =SUMIFS(Borçlar!$D:$D,Borçlar!$I:$I,"Devam ediyor")
A4: Taşıt kredisi | B4: =SUMIFS(Borçlar!$C:$C,Borçlar!$B:$B,A4) | C4: =SUMIFS(Borçlar!$F:$F,Borçlar!$B:$B,A4) | D4: =B4-C4 | F4: Ödenen oran | G4: =IF(B8=0,0,C8/B8)
A5: Konut kredisi | B5: =SUMIFS(Borçlar!$C:$C,Borçlar!$B:$B,A5) | C5: =SUMIFS(Borçlar!$F:$F,Borçlar!$B:$B,A5) | D5: =B5-C5 | F5: Açık borç sayısı | G5: =COUNTIF(Borçlar!$I:$I,"Devam ediyor")
A6: Kişisel borç | B6: =SUMIFS(Borçlar!$C:$C,Borçlar!$B:$B,A6) | C6: =SUMIFS(Borçlar!$F:$F,Borçlar!$B:$B,A6) | D6: =B6-C6 | F6: En uzun kalan taksit | G6: =MAX(Borçlar!$H$2:$H$31)
A7: Diğer | B7: =SUMIFS(Borçlar!$C:$C,Borçlar!$B:$B,A7) | C7: =SUMIFS(Borçlar!$F:$F,Borçlar!$B:$B,A7) | D7: =B7-C7
A8: Toplam | B8: =SUM(B2:B7) | C8: =SUM(C2:C7) | D8: =SUM(D2:D7)
