Workbook

Sheet Hedefler
A1: Hedef | B1: Kategori | C1: Hedef tutar | D1: Başlangıç | E1: Hedef tarih | F1: Biriken | G1: Kalan | H1: İlerleme | I1: Planlanan aylık | J1: Bugünden aylık gereken
A2: Acil durum fonu | B2: Acil durum fonu | C2: 90000 | D2: 46023 | E2: 46388 | F2: =IF(A2="","",SUMIFS(Katkılar!$C:$C,Katkılar!$B:$B,A2)) | G2: =IF(A2="","",MAX(C2-F2,0)) | H2: =IF(OR(A2="",N(C2)<=0),"",F2/C2) | I2: =IF(OR(A2="",D2="",E2=""),"",C2/MAX(1,DATEDIF(D2,E2,"m"))) | J2: =IF(OR(A2="",E2=""),"",IF(G2=0,0,IF(E2<=TODAY(),"Süre doldu",G2/MAX(1,DATEDIF(TODAY(),E2,"m")))))
A3: Yaz tatili | B3: Tatil | C3: 45000 | D3: 46082 | E3: 46539 | F3: =IF(A3="","",SUMIFS(Katkılar!$C:$C,Katkılar!$B:$B,A3)) | G3: =IF(A3="","",MAX(C3-F3,0)) | H3: =IF(OR(A3="",N(C3)<=0),"",F3/C3) | I3: =IF(OR(A3="",D3="",E3=""),"",C3/MAX(1,DATEDIF(D3,E3,"m"))) | J3: =IF(OR(A3="",E3=""),"",IF(G3=0,0,IF(E3<=TODAY(),"Süre doldu",G3/MAX(1,DATEDIF(TODAY(),E3,"m")))))
A4: İngilizce kursu | B4: Eğitim | C4: 24000 | D4: 46143 | E4: 46388 | F4: =IF(A4="","",SUMIFS(Katkılar!$C:$C,Katkılar!$B:$B,A4)) | G4: =IF(A4="","",MAX(C4-F4,0)) | H4: =IF(OR(A4="",N(C4)<=0),"",F4/C4) | I4: =IF(OR(A4="",D4="",E4=""),"",C4/MAX(1,DATEDIF(D4,E4,"m"))) | J4: =IF(OR(A4="",E4=""),"",IF(G4=0,0,IF(E4<=TODAY(),"Süre doldu",G4/MAX(1,DATEDIF(TODAY(),E4,"m")))))
A5: Ev peşinatı | B5: Ev | C5: 600000 | D5: 46023 | E5: 47119 | F5: =IF(A5="","",SUMIFS(Katkılar!$C:$C,Katkılar!$B:$B,A5)) | G5: =IF(A5="","",MAX(C5-F5,0)) | H5: =IF(OR(A5="",N(C5)<=0),"",F5/C5) | I5: =IF(OR(A5="",D5="",E5=""),"",C5/MAX(1,DATEDIF(D5,E5,"m"))) | J5: =IF(OR(A5="",E5=""),"",IF(G5=0,0,IF(E5<=TODAY(),"Süre doldu",G5/MAX(1,DATEDIF(TODAY(),E5,"m")))))
F6: =IF(A6="","",SUMIFS(Katkılar!$C:$C,Katkılar!$B:$B,A6)) | G6: =IF(A6="","",MAX(C6-F6,0)) | H6: =IF(OR(A6="",N(C6)<=0),"",F6/C6) | I6: =IF(OR(A6="",D6="",E6=""),"",C6/MAX(1,DATEDIF(D6,E6,"m"))) | J6: =IF(OR(A6="",E6=""),"",IF(G6=0,0,IF(E6<=TODAY(),"Süre doldu",G6/MAX(1,DATEDIF(TODAY(),E6,"m")))))
F7: =IF(A7="","",SUMIFS(Katkılar!$C:$C,Katkılar!$B:$B,A7)) | G7: =IF(A7="","",MAX(C7-F7,0)) | H7: =IF(OR(A7="",N(C7)<=0),"",F7/C7) | I7: =IF(OR(A7="",D7="",E7=""),"",C7/MAX(1,DATEDIF(D7,E7,"m"))) | J7: =IF(OR(A7="",E7=""),"",IF(G7=0,0,IF(E7<=TODAY(),"Süre doldu",G7/MAX(1,DATEDIF(TODAY(),E7,"m")))))
F8: =IF(A8="","",SUMIFS(Katkılar!$C:$C,Katkılar!$B:$B,A8)) | G8: =IF(A8="","",MAX(C8-F8,0)) | H8: =IF(OR(A8="",N(C8)<=0),"",F8/C8) | I8: =IF(OR(A8="",D8="",E8=""),"",C8/MAX(1,DATEDIF(D8,E8,"m"))) | J8: =IF(OR(A8="",E8=""),"",IF(G8=0,0,IF(E8<=TODAY(),"Süre doldu",G8/MAX(1,DATEDIF(TODAY(),E8,"m")))))
F9: =IF(A9="","",SUMIFS(Katkılar!$C:$C,Katkılar!$B:$B,A9)) | G9: =IF(A9="","",MAX(C9-F9,0)) | H9: =IF(OR(A9="",N(C9)<=0),"",F9/C9) | I9: =IF(OR(A9="",D9="",E9=""),"",C9/MAX(1,DATEDIF(D9,E9,"m"))) | J9: =IF(OR(A9="",E9=""),"",IF(G9=0,0,IF(E9<=TODAY(),"Süre doldu",G9/MAX(1,DATEDIF(TODAY(),E9,"m")))))
F10: =IF(A10="","",SUMIFS(Katkılar!$C:$C,Katkılar!$B:$B,A10)) | G10: =IF(A10="","",MAX(C10-F10,0)) | H10: =IF(OR(A10="",N(C10)<=0),"",F10/C10) | I10: =IF(OR(A10="",D10="",E10=""),"",C10/MAX(1,DATEDIF(D10,E10,"m"))) | J10: =IF(OR(A10="",E10=""),"",IF(G10=0,0,IF(E10<=TODAY(),"Süre doldu",G10/MAX(1,DATEDIF(TODAY(),E10,"m")))))
F11: =IF(A11="","",SUMIFS(Katkılar!$C:$C,Katkılar!$B:$B,A11)) | G11: =IF(A11="","",MAX(C11-F11,0)) | H11: =IF(OR(A11="",N(C11)<=0),"",F11/C11) | I11: =IF(OR(A11="",D11="",E11=""),"",C11/MAX(1,DATEDIF(D11,E11,"m"))) | J11: =IF(OR(A11="",E11=""),"",IF(G11=0,0,IF(E11<=TODAY(),"Süre doldu",G11/MAX(1,DATEDIF(TODAY(),E11,"m")))))
F12: =IF(A12="","",SUMIFS(Katkılar!$C:$C,Katkılar!$B:$B,A12)) | G12: =IF(A12="","",MAX(C12-F12,0)) | H12: =IF(OR(A12="",N(C12)<=0),"",F12/C12) | I12: =IF(OR(A12="",D12="",E12=""),"",C12/MAX(1,DATEDIF(D12,E12,"m"))) | J12: =IF(OR(A12="",E12=""),"",IF(G12=0,0,IF(E12<=TODAY(),"Süre doldu",G12/MAX(1,DATEDIF(TODAY(),E12,"m")))))
F13: =IF(A13="","",SUMIFS(Katkılar!$C:$C,Katkılar!$B:$B,A13)) | G13: =IF(A13="","",MAX(C13-F13,0)) | H13: =IF(OR(A13="",N(C13)<=0),"",F13/C13) | I13: =IF(OR(A13="",D13="",E13=""),"",C13/MAX(1,DATEDIF(D13,E13,"m"))) | J13: =IF(OR(A13="",E13=""),"",IF(G13=0,0,IF(E13<=TODAY(),"Süre doldu",G13/MAX(1,DATEDIF(TODAY(),E13,"m")))))

Sheet Katkılar
A1: Tarih | B1: Hedef | C1: Tutar | D1: Kaynak | E1: Not
A2: 46053 | B2: Acil durum fonu | C2: 7500 | D2: Maaş
A3: 46053 | B3: Ev peşinatı | C3: 10000 | D3: Maaş
A4: 46081 | B4: Acil durum fonu | C4: 7500 | D4: Maaş
A5: 46112 | B5: Acil durum fonu | C5: 7500 | D5: Maaş
A6: 46112 | B6: Yaz tatili | C6: 3000 | D6: Maaş
A7: 46127 | B7: Acil durum fonu | C7: 15000 | D7: Prim
A8: 46142 | B8: Ev peşinatı | C8: 10000 | D8: Maaş
A9: 46173 | B9: Yaz tatili | C9: 3000 | D9: Maaş
A10: 46173 | B10: İngilizce kursu | C10: 3000 | D10: Maaş
A11: 46203 | B11: Acil durum fonu | C11: 7500 | D11: Maaş
A12: 46203 | B12: İngilizce kursu | C12: 3000 | D12: Maaş
A13: 46234 | B13: Yaz tatili | C13: 3000 | D13: Maaş
A14: 46234 | B14: İngilizce kursu | C14: 3000 | D14: Maaş
A15: 46234 | B15: Ev peşinatı | C15: 20000 | D15: Hediye | E15: Bayram hediyesi
A16: 46265 | B16: Acil durum fonu | C16: 7500 | D16: Maaş
A17: 46265 | B17: İngilizce kursu | C17: 3000 | D17: Maaş
A18: 46295 | B18: Yaz tatili | C18: 6000 | D18: Ek gelir
A19: 46295 | B19: İngilizce kursu | C19: 3000 | D19: Maaş
A20: 46295 | B20: Ev peşinatı | C20: 10000 | D20: Maaş

Sheet Özet
A1: Kategori | B1: Hedef tutar | C1: Biriken | D1: İlerleme
A2: Acil durum fonu | B2: =SUMIFS(Hedefler!$C:$C,Hedefler!$B:$B,A2) | C2: =SUMIFS(Hedefler!$F:$F,Hedefler!$B:$B,A2) | D2: =IF(B2=0,"",C2/B2) | F2: Kalan toplam | G2: =B9-C9
A3: Tatil | B3: =SUMIFS(Hedefler!$C:$C,Hedefler!$B:$B,A3) | C3: =SUMIFS(Hedefler!$F:$F,Hedefler!$B:$B,A3) | D3: =IF(B3=0,"",C3/B3) | F3: Tamamlanan hedef | G3: =COUNTIF(Hedefler!$H$2:$H$13,">=1")
A4: Eğitim | B4: =SUMIFS(Hedefler!$C:$C,Hedefler!$B:$B,A4) | C4: =SUMIFS(Hedefler!$F:$F,Hedefler!$B:$B,A4) | D4: =IF(B4=0,"",C4/B4) | F4: Planlanan aylık toplam | G4: =SUM(Hedefler!$I$2:$I$13)
A5: Ev | B5: =SUMIFS(Hedefler!$C:$C,Hedefler!$B:$B,A5) | C5: =SUMIFS(Hedefler!$F:$F,Hedefler!$B:$B,A5) | D5: =IF(B5=0,"",C5/B5) | F5: Maaştan ayrılan | G5: =SUMIFS(Katkılar!$C:$C,Katkılar!$D:$D,"Maaş")
A6: Araç | B6: =SUMIFS(Hedefler!$C:$C,Hedefler!$B:$B,A6) | C6: =SUMIFS(Hedefler!$F:$F,Hedefler!$B:$B,A6) | D6: =IF(B6=0,"",C6/B6)
A7: Düğün | B7: =SUMIFS(Hedefler!$C:$C,Hedefler!$B:$B,A7) | C7: =SUMIFS(Hedefler!$F:$F,Hedefler!$B:$B,A7) | D7: =IF(B7=0,"",C7/B7)
A8: Diğer | B8: =SUMIFS(Hedefler!$C:$C,Hedefler!$B:$B,A8) | C8: =SUMIFS(Hedefler!$F:$F,Hedefler!$B:$B,A8) | D8: =IF(B8=0,"",C8/B8)
A9: Toplam | B9: =SUM(B2:B8) | C9: =SUM(C2:C8) | D9: =IF(B9=0,"",C9/B9)
