Workbook

Sheet Yakıt
A1: Tarih | B1: Araç | C1: Kilometre | D1: Litre | E1: Litre fiyatı | F1: Tutar | G1: Depo doldu mu? | H1: Gidilen km | I1: 100 km'de litre | J1: Km başı maliyet
A2: 46237 | B2: Aile aracı (benzin) | C2: 45200 | D2: 38 | E2: 50 | F2: =IF(OR(D2="",E2=""),"",D2*E2) | G2: Evet | I2: =IF(OR(H2="",G2<>"Evet"),"",IF(H2<=0,"",ROUND(D2/H2*100,2))) | J2: =IF(OR(H2="",F2=""),"",IF(H2<=0,"",F2/H2))
A3: 46239 | B3: Hafif ticari (dizel) | C3: 120400 | D3: 55 | E3: 51 | F3: =IF(OR(D3="",E3=""),"",D3*E3) | G3: Evet | H3: =IF(OR(B3="",C3=""),"",IF(SUMPRODUCT(MAX(($B$2:B2=B3)*$C$2:C2))=0,"",C3-SUMPRODUCT(MAX(($B$2:B2=B3)*$C$2:C2)))) | I3: =IF(OR(H3="",G3<>"Evet"),"",IF(H3<=0,"",ROUND(D3/H3*100,2))) | J3: =IF(OR(H3="",F3=""),"",IF(H3<=0,"",F3/H3))
A4: 46251 | B4: Aile aracı (benzin) | C4: 45760 | D4: 39.2 | E4: 50 | F4: =IF(OR(D4="",E4=""),"",D4*E4) | G4: Evet | H4: =IF(OR(B4="",C4=""),"",IF(SUMPRODUCT(MAX(($B$2:B3=B4)*$C$2:C3))=0,"",C4-SUMPRODUCT(MAX(($B$2:B3=B4)*$C$2:C3)))) | I4: =IF(OR(H4="",G4<>"Evet"),"",IF(H4<=0,"",ROUND(D4/H4*100,2))) | J4: =IF(OR(H4="",F4=""),"",IF(H4<=0,"",F4/H4))
A5: 46253 | B5: Hafif ticari (dizel) | C5: 121350 | D5: 61.8 | E5: 51 | F5: =IF(OR(D5="",E5=""),"",D5*E5) | G5: Evet | H5: =IF(OR(B5="",C5=""),"",IF(SUMPRODUCT(MAX(($B$2:B4=B5)*$C$2:C4))=0,"",C5-SUMPRODUCT(MAX(($B$2:B4=B5)*$C$2:C4)))) | I5: =IF(OR(H5="",G5<>"Evet"),"",IF(H5<=0,"",ROUND(D5/H5*100,2))) | J5: =IF(OR(H5="",F5=""),"",IF(H5<=0,"",F5/H5))
A6: 46265 | B6: Aile aracı (benzin) | C6: 46310 | D6: 37.4 | E6: 50 | F6: =IF(OR(D6="",E6=""),"",D6*E6) | G6: Evet | H6: =IF(OR(B6="",C6=""),"",IF(SUMPRODUCT(MAX(($B$2:B5=B6)*$C$2:C5))=0,"",C6-SUMPRODUCT(MAX(($B$2:B5=B6)*$C$2:C5)))) | I6: =IF(OR(H6="",G6<>"Evet"),"",IF(H6<=0,"",ROUND(D6/H6*100,2))) | J6: =IF(OR(H6="",F6=""),"",IF(H6<=0,"",F6/H6))
A7: 46267 | B7: Hafif ticari (dizel) | C7: 122300 | D7: 60.8 | E7: 52.3 | F7: =IF(OR(D7="",E7=""),"",D7*E7) | G7: Evet | H7: =IF(OR(B7="",C7=""),"",IF(SUMPRODUCT(MAX(($B$2:B6=B7)*$C$2:C6))=0,"",C7-SUMPRODUCT(MAX(($B$2:B6=B7)*$C$2:C6)))) | I7: =IF(OR(H7="",G7<>"Evet"),"",IF(H7<=0,"",ROUND(D7/H7*100,2))) | J7: =IF(OR(H7="",F7=""),"",IF(H7<=0,"",F7/H7))
A8: 46279 | B8: Aile aracı (benzin) | C8: 46820 | D8: 20 | E8: 51.5 | F8: =IF(OR(D8="",E8=""),"",D8*E8) | G8: Hayır | H8: =IF(OR(B8="",C8=""),"",IF(SUMPRODUCT(MAX(($B$2:B7=B8)*$C$2:C7))=0,"",C8-SUMPRODUCT(MAX(($B$2:B7=B8)*$C$2:C7)))) | I8: =IF(OR(H8="",G8<>"Evet"),"",IF(H8<=0,"",ROUND(D8/H8*100,2))) | J8: =IF(OR(H8="",F8=""),"",IF(H8<=0,"",F8/H8))
A9: 46281 | B9: Hafif ticari (dizel) | C9: 123180 | D9: 57.2 | E9: 52.3 | F9: =IF(OR(D9="",E9=""),"",D9*E9) | G9: Evet | H9: =IF(OR(B9="",C9=""),"",IF(SUMPRODUCT(MAX(($B$2:B8=B9)*$C$2:C8))=0,"",C9-SUMPRODUCT(MAX(($B$2:B8=B9)*$C$2:C8)))) | I9: =IF(OR(H9="",G9<>"Evet"),"",IF(H9<=0,"",ROUND(D9/H9*100,2))) | J9: =IF(OR(H9="",F9=""),"",IF(H9<=0,"",F9/H9))
A10: 46286 | B10: Aile aracı (benzin) | C10: 47100 | D10: 41.3 | E10: 51.5 | F10: =IF(OR(D10="",E10=""),"",D10*E10) | G10: Evet | H10: =IF(OR(B10="",C10=""),"",IF(SUMPRODUCT(MAX(($B$2:B9=B10)*$C$2:C9))=0,"",C10-SUMPRODUCT(MAX(($B$2:B9=B10)*$C$2:C9)))) | I10: =IF(OR(H10="",G10<>"Evet"),"",IF(H10<=0,"",ROUND(D10/H10*100,2))) | J10: =IF(OR(H10="",F10=""),"",IF(H10<=0,"",F10/H10))
A11: 46295 | B11: Hafif ticari (dizel) | C11: 124100 | D11: 59.8 | E11: 52.3 | F11: =IF(OR(D11="",E11=""),"",D11*E11) | G11: Evet | H11: =IF(OR(B11="",C11=""),"",IF(SUMPRODUCT(MAX(($B$2:B10=B11)*$C$2:C10))=0,"",C11-SUMPRODUCT(MAX(($B$2:B10=B11)*$C$2:C10)))) | I11: =IF(OR(H11="",G11<>"Evet"),"",IF(H11<=0,"",ROUND(D11/H11*100,2))) | J11: =IF(OR(H11="",F11=""),"",IF(H11<=0,"",F11/H11))
A12: 46300 | B12: Aile aracı (benzin) | C12: 47680 | D12: 40.6 | E12: 52.4 | F12: =IF(OR(D12="",E12=""),"",D12*E12) | G12: Evet | H12: =IF(OR(B12="",C12=""),"",IF(SUMPRODUCT(MAX(($B$2:B11=B12)*$C$2:C11))=0,"",C12-SUMPRODUCT(MAX(($B$2:B11=B12)*$C$2:C11)))) | I12: =IF(OR(H12="",G12<>"Evet"),"",IF(H12<=0,"",ROUND(D12/H12*100,2))) | J12: =IF(OR(H12="",F12=""),"",IF(H12<=0,"",F12/H12))
A13: 46309 | B13: Hafif ticari (dizel) | C13: 125050 | D13: 62.7 | E13: 53.1 | F13: =IF(OR(D13="",E13=""),"",D13*E13) | G13: Evet | H13: =IF(OR(B13="",C13=""),"",IF(SUMPRODUCT(MAX(($B$2:B12=B13)*$C$2:C12))=0,"",C13-SUMPRODUCT(MAX(($B$2:B12=B13)*$C$2:C12)))) | I13: =IF(OR(H13="",G13<>"Evet"),"",IF(H13<=0,"",ROUND(D13/H13*100,2))) | J13: =IF(OR(H13="",F13=""),"",IF(H13<=0,"",F13/H13))
A14: 46314 | B14: Aile aracı (benzin) | C14: 48230 | D14: 38.5 | E14: 52.4 | F14: =IF(OR(D14="",E14=""),"",D14*E14) | G14: Evet | H14: =IF(OR(B14="",C14=""),"",IF(SUMPRODUCT(MAX(($B$2:B13=B14)*$C$2:C13))=0,"",C14-SUMPRODUCT(MAX(($B$2:B13=B14)*$C$2:C13)))) | I14: =IF(OR(H14="",G14<>"Evet"),"",IF(H14<=0,"",ROUND(D14/H14*100,2))) | J14: =IF(OR(H14="",F14=""),"",IF(H14<=0,"",F14/H14))
F15: =IF(OR(D15="",E15=""),"",D15*E15) | H15: =IF(OR(B15="",C15=""),"",IF(SUMPRODUCT(MAX(($B$2:B14=B15)*$C$2:C14))=0,"",C15-SUMPRODUCT(MAX(($B$2:B14=B15)*$C$2:C14)))) | I15: =IF(OR(H15="",G15<>"Evet"),"",IF(H15<=0,"",ROUND(D15/H15*100,2))) | J15: =IF(OR(H15="",F15=""),"",IF(H15<=0,"",F15/H15))
F16: =IF(OR(D16="",E16=""),"",D16*E16) | H16: =IF(OR(B16="",C16=""),"",IF(SUMPRODUCT(MAX(($B$2:B15=B16)*$C$2:C15))=0,"",C16-SUMPRODUCT(MAX(($B$2:B15=B16)*$C$2:C15)))) | I16: =IF(OR(H16="",G16<>"Evet"),"",IF(H16<=0,"",ROUND(D16/H16*100,2))) | J16: =IF(OR(H16="",F16=""),"",IF(H16<=0,"",F16/H16))
F17: =IF(OR(D17="",E17=""),"",D17*E17) | H17: =IF(OR(B17="",C17=""),"",IF(SUMPRODUCT(MAX(($B$2:B16=B17)*$C$2:C16))=0,"",C17-SUMPRODUCT(MAX(($B$2:B16=B17)*$C$2:C16)))) | I17: =IF(OR(H17="",G17<>"Evet"),"",IF(H17<=0,"",ROUND(D17/H17*100,2))) | J17: =IF(OR(H17="",F17=""),"",IF(H17<=0,"",F17/H17))
F18: =IF(OR(D18="",E18=""),"",D18*E18) | H18: =IF(OR(B18="",C18=""),"",IF(SUMPRODUCT(MAX(($B$2:B17=B18)*$C$2:C17))=0,"",C18-SUMPRODUCT(MAX(($B$2:B17=B18)*$C$2:C17)))) | I18: =IF(OR(H18="",G18<>"Evet"),"",IF(H18<=0,"",ROUND(D18/H18*100,2))) | J18: =IF(OR(H18="",F18=""),"",IF(H18<=0,"",F18/H18))
F19: =IF(OR(D19="",E19=""),"",D19*E19) | H19: =IF(OR(B19="",C19=""),"",IF(SUMPRODUCT(MAX(($B$2:B18=B19)*$C$2:C18))=0,"",C19-SUMPRODUCT(MAX(($B$2:B18=B19)*$C$2:C18)))) | I19: =IF(OR(H19="",G19<>"Evet"),"",IF(H19<=0,"",ROUND(D19/H19*100,2))) | J19: =IF(OR(H19="",F19=""),"",IF(H19<=0,"",F19/H19))
F20: =IF(OR(D20="",E20=""),"",D20*E20) | H20: =IF(OR(B20="",C20=""),"",IF(SUMPRODUCT(MAX(($B$2:B19=B20)*$C$2:C19))=0,"",C20-SUMPRODUCT(MAX(($B$2:B19=B20)*$C$2:C19)))) | I20: =IF(OR(H20="",G20<>"Evet"),"",IF(H20<=0,"",ROUND(D20/H20*100,2))) | J20: =IF(OR(H20="",F20=""),"",IF(H20<=0,"",F20/H20))
F21: =IF(OR(D21="",E21=""),"",D21*E21) | H21: =IF(OR(B21="",C21=""),"",IF(SUMPRODUCT(MAX(($B$2:B20=B21)*$C$2:C20))=0,"",C21-SUMPRODUCT(MAX(($B$2:B20=B21)*$C$2:C20)))) | I21: =IF(OR(H21="",G21<>"Evet"),"",IF(H21<=0,"",ROUND(D21/H21*100,2))) | J21: =IF(OR(H21="",F21=""),"",IF(H21<=0,"",F21/H21))
F22: =IF(OR(D22="",E22=""),"",D22*E22) | H22: =IF(OR(B22="",C22=""),"",IF(SUMPRODUCT(MAX(($B$2:B21=B22)*$C$2:C21))=0,"",C22-SUMPRODUCT(MAX(($B$2:B21=B22)*$C$2:C21)))) | I22: =IF(OR(H22="",G22<>"Evet"),"",IF(H22<=0,"",ROUND(D22/H22*100,2))) | J22: =IF(OR(H22="",F22=""),"",IF(H22<=0,"",F22/H22))
F23: =IF(OR(D23="",E23=""),"",D23*E23) | H23: =IF(OR(B23="",C23=""),"",IF(SUMPRODUCT(MAX(($B$2:B22=B23)*$C$2:C22))=0,"",C23-SUMPRODUCT(MAX(($B$2:B22=B23)*$C$2:C22)))) | I23: =IF(OR(H23="",G23<>"Evet"),"",IF(H23<=0,"",ROUND(D23/H23*100,2))) | J23: =IF(OR(H23="",F23=""),"",IF(H23<=0,"",F23/H23))
F24: =IF(OR(D24="",E24=""),"",D24*E24) | H24: =IF(OR(B24="",C24=""),"",IF(SUMPRODUCT(MAX(($B$2:B23=B24)*$C$2:C23))=0,"",C24-SUMPRODUCT(MAX(($B$2:B23=B24)*$C$2:C23)))) | I24: =IF(OR(H24="",G24<>"Evet"),"",IF(H24<=0,"",ROUND(D24/H24*100,2))) | J24: =IF(OR(H24="",F24=""),"",IF(H24<=0,"",F24/H24))
F25: =IF(OR(D25="",E25=""),"",D25*E25) | H25: =IF(OR(B25="",C25=""),"",IF(SUMPRODUCT(MAX(($B$2:B24=B25)*$C$2:C24))=0,"",C25-SUMPRODUCT(MAX(($B$2:B24=B25)*$C$2:C24)))) | I25: =IF(OR(H25="",G25<>"Evet"),"",IF(H25<=0,"",ROUND(D25/H25*100,2))) | J25: =IF(OR(H25="",F25=""),"",IF(H25<=0,"",F25/H25))
F26: =IF(OR(D26="",E26=""),"",D26*E26) | H26: =IF(OR(B26="",C26=""),"",IF(SUMPRODUCT(MAX(($B$2:B25=B26)*$C$2:C25))=0,"",C26-SUMPRODUCT(MAX(($B$2:B25=B26)*$C$2:C25)))) | I26: =IF(OR(H26="",G26<>"Evet"),"",IF(H26<=0,"",ROUND(D26/H26*100,2))) | J26: =IF(OR(H26="",F26=""),"",IF(H26<=0,"",F26/H26))
... F301: =IF(OR(D301="",E301=""),"",D301*E301) | H301: =IF(OR(B301="",C301=""),"",IF(SUMPRODUCT(MAX(($B$2:B300=B301)*$C$2:C300))=0,"",C301-SUMPRODUCT(MAX(($B$2:B300=B301)*$C$2:C300)))) | I301: =IF(OR(H301="",G301<>"Evet"),"",IF(H301<=0,"",ROUND(D301/H301*100,2))) | J301: =IF(OR(H301="",F301=""),"",IF(H301<=0,"",F301/H301))

Sheet Özet
A1: Araç | B1: Toplam km | C1: Yakıt (litre) | D1: 100 km'de litre | E1: Toplam yakıt gideri | F1: Km başı maliyet | G1: Dolum sayısı
A2: Aile aracı (benzin) | B2: =IF(A2="","",SUMIFS(Yakıt!$H$2:$H$301,Yakıt!$B$2:$B$301,A2)) | C2: =IF(A2="","",SUMIFS(Yakıt!$D$2:$D$301,Yakıt!$B$2:$B$301,A2,Yakıt!$H$2:$H$301,">0")) | D2: =IF(OR(A2="",N(B2)=0),"",ROUND(C2/B2*100,2)) | E2: =IF(A2="","",SUMIFS(Yakıt!$F$2:$F$301,Yakıt!$B$2:$B$301,A2)) | F2: =IF(OR(A2="",N(B2)=0),"",SUMIFS(Yakıt!$F$2:$F$301,Yakıt!$B$2:$B$301,A2,Yakıt!$H$2:$H$301,">0")/B2) | G2: =IF(A2="","",COUNTIF(Yakıt!$B$2:$B$301,A2))
A3: Hafif ticari (dizel) | B3: =IF(A3="","",SUMIFS(Yakıt!$H$2:$H$301,Yakıt!$B$2:$B$301,A3)) | C3: =IF(A3="","",SUMIFS(Yakıt!$D$2:$D$301,Yakıt!$B$2:$B$301,A3,Yakıt!$H$2:$H$301,">0")) | D3: =IF(OR(A3="",N(B3)=0),"",ROUND(C3/B3*100,2)) | E3: =IF(A3="","",SUMIFS(Yakıt!$F$2:$F$301,Yakıt!$B$2:$B$301,A3)) | F3: =IF(OR(A3="",N(B3)=0),"",SUMIFS(Yakıt!$F$2:$F$301,Yakıt!$B$2:$B$301,A3,Yakıt!$H$2:$H$301,">0")/B3) | G3: =IF(A3="","",COUNTIF(Yakıt!$B$2:$B$301,A3))
B4: =IF(A4="","",SUMIFS(Yakıt!$H$2:$H$301,Yakıt!$B$2:$B$301,A4)) | C4: =IF(A4="","",SUMIFS(Yakıt!$D$2:$D$301,Yakıt!$B$2:$B$301,A4,Yakıt!$H$2:$H$301,">0")) | D4: =IF(OR(A4="",N(B4)=0),"",ROUND(C4/B4*100,2)) | E4: =IF(A4="","",SUMIFS(Yakıt!$F$2:$F$301,Yakıt!$B$2:$B$301,A4)) | F4: =IF(OR(A4="",N(B4)=0),"",SUMIFS(Yakıt!$F$2:$F$301,Yakıt!$B$2:$B$301,A4,Yakıt!$H$2:$H$301,">0")/B4) | G4: =IF(A4="","",COUNTIF(Yakıt!$B$2:$B$301,A4))
B5: =IF(A5="","",SUMIFS(Yakıt!$H$2:$H$301,Yakıt!$B$2:$B$301,A5)) | C5: =IF(A5="","",SUMIFS(Yakıt!$D$2:$D$301,Yakıt!$B$2:$B$301,A5,Yakıt!$H$2:$H$301,">0")) | D5: =IF(OR(A5="",N(B5)=0),"",ROUND(C5/B5*100,2)) | E5: =IF(A5="","",SUMIFS(Yakıt!$F$2:$F$301,Yakıt!$B$2:$B$301,A5)) | F5: =IF(OR(A5="",N(B5)=0),"",SUMIFS(Yakıt!$F$2:$F$301,Yakıt!$B$2:$B$301,A5,Yakıt!$H$2:$H$301,">0")/B5) | G5: =IF(A5="","",COUNTIF(Yakıt!$B$2:$B$301,A5))

Sheet Aylık
A1: Ay | B1: Yakıt gideri | C1: Litre | D1: Gidilen km | E1: Ortalama litre fiyatı
A2: 46023 | B2: =SUMIFS(Yakıt!$F$2:$F$301,Yakıt!$A$2:$A$301,">="&A2,Yakıt!$A$2:$A$301,"<"&EDATE(A2,1)) | C2: =SUMIFS(Yakıt!$D$2:$D$301,Yakıt!$A$2:$A$301,">="&A2,Yakıt!$A$2:$A$301,"<"&EDATE(A2,1)) | D2: =SUMIFS(Yakıt!$H$2:$H$301,Yakıt!$A$2:$A$301,">="&A2,Yakıt!$A$2:$A$301,"<"&EDATE(A2,1)) | E2: =IF(C2=0,"",B2/C2)
A3: =EDATE(A2,1) | B3: =SUMIFS(Yakıt!$F$2:$F$301,Yakıt!$A$2:$A$301,">="&A3,Yakıt!$A$2:$A$301,"<"&EDATE(A3,1)) | C3: =SUMIFS(Yakıt!$D$2:$D$301,Yakıt!$A$2:$A$301,">="&A3,Yakıt!$A$2:$A$301,"<"&EDATE(A3,1)) | D3: =SUMIFS(Yakıt!$H$2:$H$301,Yakıt!$A$2:$A$301,">="&A3,Yakıt!$A$2:$A$301,"<"&EDATE(A3,1)) | E3: =IF(C3=0,"",B3/C3)
A4: =EDATE(A3,1) | B4: =SUMIFS(Yakıt!$F$2:$F$301,Yakıt!$A$2:$A$301,">="&A4,Yakıt!$A$2:$A$301,"<"&EDATE(A4,1)) | C4: =SUMIFS(Yakıt!$D$2:$D$301,Yakıt!$A$2:$A$301,">="&A4,Yakıt!$A$2:$A$301,"<"&EDATE(A4,1)) | D4: =SUMIFS(Yakıt!$H$2:$H$301,Yakıt!$A$2:$A$301,">="&A4,Yakıt!$A$2:$A$301,"<"&EDATE(A4,1)) | E4: =IF(C4=0,"",B4/C4)
A5: =EDATE(A4,1) | B5: =SUMIFS(Yakıt!$F$2:$F$301,Yakıt!$A$2:$A$301,">="&A5,Yakıt!$A$2:$A$301,"<"&EDATE(A5,1)) | C5: =SUMIFS(Yakıt!$D$2:$D$301,Yakıt!$A$2:$A$301,">="&A5,Yakıt!$A$2:$A$301,"<"&EDATE(A5,1)) | D5: =SUMIFS(Yakıt!$H$2:$H$301,Yakıt!$A$2:$A$301,">="&A5,Yakıt!$A$2:$A$301,"<"&EDATE(A5,1)) | E5: =IF(C5=0,"",B5/C5)
A6: =EDATE(A5,1) | B6: =SUMIFS(Yakıt!$F$2:$F$301,Yakıt!$A$2:$A$301,">="&A6,Yakıt!$A$2:$A$301,"<"&EDATE(A6,1)) | C6: =SUMIFS(Yakıt!$D$2:$D$301,Yakıt!$A$2:$A$301,">="&A6,Yakıt!$A$2:$A$301,"<"&EDATE(A6,1)) | D6: =SUMIFS(Yakıt!$H$2:$H$301,Yakıt!$A$2:$A$301,">="&A6,Yakıt!$A$2:$A$301,"<"&EDATE(A6,1)) | E6: =IF(C6=0,"",B6/C6)
A7: =EDATE(A6,1) | B7: =SUMIFS(Yakıt!$F$2:$F$301,Yakıt!$A$2:$A$301,">="&A7,Yakıt!$A$2:$A$301,"<"&EDATE(A7,1)) | C7: =SUMIFS(Yakıt!$D$2:$D$301,Yakıt!$A$2:$A$301,">="&A7,Yakıt!$A$2:$A$301,"<"&EDATE(A7,1)) | D7: =SUMIFS(Yakıt!$H$2:$H$301,Yakıt!$A$2:$A$301,">="&A7,Yakıt!$A$2:$A$301,"<"&EDATE(A7,1)) | E7: =IF(C7=0,"",B7/C7)
A8: =EDATE(A7,1) | B8: =SUMIFS(Yakıt!$F$2:$F$301,Yakıt!$A$2:$A$301,">="&A8,Yakıt!$A$2:$A$301,"<"&EDATE(A8,1)) | C8: =SUMIFS(Yakıt!$D$2:$D$301,Yakıt!$A$2:$A$301,">="&A8,Yakıt!$A$2:$A$301,"<"&EDATE(A8,1)) | D8: =SUMIFS(Yakıt!$H$2:$H$301,Yakıt!$A$2:$A$301,">="&A8,Yakıt!$A$2:$A$301,"<"&EDATE(A8,1)) | E8: =IF(C8=0,"",B8/C8)
A9: =EDATE(A8,1) | B9: =SUMIFS(Yakıt!$F$2:$F$301,Yakıt!$A$2:$A$301,">="&A9,Yakıt!$A$2:$A$301,"<"&EDATE(A9,1)) | C9: =SUMIFS(Yakıt!$D$2:$D$301,Yakıt!$A$2:$A$301,">="&A9,Yakıt!$A$2:$A$301,"<"&EDATE(A9,1)) | D9: =SUMIFS(Yakıt!$H$2:$H$301,Yakıt!$A$2:$A$301,">="&A9,Yakıt!$A$2:$A$301,"<"&EDATE(A9,1)) | E9: =IF(C9=0,"",B9/C9)
A10: =EDATE(A9,1) | B10: =SUMIFS(Yakıt!$F$2:$F$301,Yakıt!$A$2:$A$301,">="&A10,Yakıt!$A$2:$A$301,"<"&EDATE(A10,1)) | C10: =SUMIFS(Yakıt!$D$2:$D$301,Yakıt!$A$2:$A$301,">="&A10,Yakıt!$A$2:$A$301,"<"&EDATE(A10,1)) | D10: =SUMIFS(Yakıt!$H$2:$H$301,Yakıt!$A$2:$A$301,">="&A10,Yakıt!$A$2:$A$301,"<"&EDATE(A10,1)) | E10: =IF(C10=0,"",B10/C10)
A11: =EDATE(A10,1) | B11: =SUMIFS(Yakıt!$F$2:$F$301,Yakıt!$A$2:$A$301,">="&A11,Yakıt!$A$2:$A$301,"<"&EDATE(A11,1)) | C11: =SUMIFS(Yakıt!$D$2:$D$301,Yakıt!$A$2:$A$301,">="&A11,Yakıt!$A$2:$A$301,"<"&EDATE(A11,1)) | D11: =SUMIFS(Yakıt!$H$2:$H$301,Yakıt!$A$2:$A$301,">="&A11,Yakıt!$A$2:$A$301,"<"&EDATE(A11,1)) | E11: =IF(C11=0,"",B11/C11)
A12: =EDATE(A11,1) | B12: =SUMIFS(Yakıt!$F$2:$F$301,Yakıt!$A$2:$A$301,">="&A12,Yakıt!$A$2:$A$301,"<"&EDATE(A12,1)) | C12: =SUMIFS(Yakıt!$D$2:$D$301,Yakıt!$A$2:$A$301,">="&A12,Yakıt!$A$2:$A$301,"<"&EDATE(A12,1)) | D12: =SUMIFS(Yakıt!$H$2:$H$301,Yakıt!$A$2:$A$301,">="&A12,Yakıt!$A$2:$A$301,"<"&EDATE(A12,1)) | E12: =IF(C12=0,"",B12/C12)
A13: =EDATE(A12,1) | B13: =SUMIFS(Yakıt!$F$2:$F$301,Yakıt!$A$2:$A$301,">="&A13,Yakıt!$A$2:$A$301,"<"&EDATE(A13,1)) | C13: =SUMIFS(Yakıt!$D$2:$D$301,Yakıt!$A$2:$A$301,">="&A13,Yakıt!$A$2:$A$301,"<"&EDATE(A13,1)) | D13: =SUMIFS(Yakıt!$H$2:$H$301,Yakıt!$A$2:$A$301,">="&A13,Yakıt!$A$2:$A$301,"<"&EDATE(A13,1)) | E13: =IF(C13=0,"",B13/C13)
A14: Toplam | B14: =SUM(B2:B13) | C14: =SUM(C2:C13) | D14: =SUM(D2:D13) | E14: =IF(C14=0,"",B14/C14)
