Workbook

Sheet Abonelikler
A1: Hizmet | B1: Kategori | C1: Ödeme dönemi | D1: Ücret | E1: Aylık karşılığı | F1: Yıllık karşılığı | G1: Yenileme tarihi | H1: Ödeme yöntemi | I1: Durum | J1: Kalan gün
A2: Dizi ve film platformu | B2: Dijital yayın | C2: Aylık | D2: 229.99 | E2: =IF(D2="","",IF(C2="Yıllık",D2/12,IF(C2="Üç aylık",D2/3,D2))) | F2: =IF(E2="","",E2*12) | G2: 46316 | H2: Kredi kartı | I2: Aktif | J2: =IF(OR(G2="",I2="İptal edildi"),"",G2-TODAY())
A3: İkinci dizi platformu | B3: Dijital yayın | C3: Aylık | D3: 149.9 | E3: =IF(D3="","",IF(C3="Yıllık",D3/12,IF(C3="Üç aylık",D3/3,D3))) | F3: =IF(E3="","",E3*12) | G3: 46323 | H3: Kredi kartı | I3: Deneme | J3: =IF(OR(G3="",I3="İptal edildi"),"",G3-TODAY())
A4: Müzik uygulaması (aile) | B4: Müzik | C4: Aylık | D4: 99.99 | E4: =IF(D4="","",IF(C4="Yıllık",D4/12,IF(C4="Üç aylık",D4/3,D4))) | F4: =IF(E4="","",E4*12) | G4: 46329 | H4: Banka kartı | I4: Aktif | J4: =IF(OR(G4="",I4="İptal edildi"),"",G4-TODAY())
A5: Bulut depolama 200 GB | B5: Bulut depolama | C5: Aylık | D5: 64.99 | E5: =IF(D5="","",IF(C5="Yıllık",D5/12,IF(C5="Üç aylık",D5/3,D5))) | F5: =IF(E5="","",E5*12) | G5: 46314 | H5: Kredi kartı | I5: Aktif | J5: =IF(OR(G5="",I5="İptal edildi"),"",G5-TODAY())
A6: Ofis yazılımı paketi | B6: Yazılım | C6: Yıllık | D6: 1899 | E6: =IF(D6="","",IF(C6="Yıllık",D6/12,IF(C6="Üç aylık",D6/3,D6))) | F6: =IF(E6="","",E6*12) | G6: 46432 | H6: Kredi kartı | I6: Aktif | J6: =IF(OR(G6="",I6="İptal edildi"),"",G6-TODAY())
A7: Spor salonu üyeliği | B7: Spor | C7: Üç aylık | D7: 4500 | E7: =IF(D7="","",IF(C7="Yıllık",D7/12,IF(C7="Üç aylık",D7/3,D7))) | F7: =IF(E7="","",E7*12) | G7: 46357 | H7: Banka kartı | I7: Aktif | J7: =IF(OR(G7="",I7="İptal edildi"),"",G7-TODAY())
A8: Haber sitesi aboneliği | B8: Haber ve dergi | C8: Yıllık | D8: 960 | E8: =IF(D8="","",IF(C8="Yıllık",D8/12,IF(C8="Üç aylık",D8/3,D8))) | F8: =IF(E8="","",E8*12) | G8: 46517 | H8: Kredi kartı | I8: Aktif | J8: =IF(OR(G8="",I8="İptal edildi"),"",G8-TODAY())
A9: Oyun aboneliği | B9: Oyun | C9: Aylık | D9: 189 | E9: =IF(D9="","",IF(C9="Yıllık",D9/12,IF(C9="Üç aylık",D9/3,D9))) | F9: =IF(E9="","",E9*12) | G9: 46320 | H9: Mobil hat | I9: İptal edildi | J9: =IF(OR(G9="",I9="İptal edildi"),"",G9-TODAY())
A10: Dil öğrenme uygulaması | B10: Diğer | C10: Yıllık | D10: 1440 | E10: =IF(D10="","",IF(C10="Yıllık",D10/12,IF(C10="Üç aylık",D10/3,D10))) | F10: =IF(E10="","",E10*12) | G10: 46395 | H10: Kredi kartı | I10: Aktif | J10: =IF(OR(G10="",I10="İptal edildi"),"",G10-TODAY())
E11: =IF(D11="","",IF(C11="Yıllık",D11/12,IF(C11="Üç aylık",D11/3,D11))) | F11: =IF(E11="","",E11*12) | J11: =IF(OR(G11="",I11="İptal edildi"),"",G11-TODAY())
E12: =IF(D12="","",IF(C12="Yıllık",D12/12,IF(C12="Üç aylık",D12/3,D12))) | F12: =IF(E12="","",E12*12) | J12: =IF(OR(G12="",I12="İptal edildi"),"",G12-TODAY())
E13: =IF(D13="","",IF(C13="Yıllık",D13/12,IF(C13="Üç aylık",D13/3,D13))) | F13: =IF(E13="","",E13*12) | J13: =IF(OR(G13="",I13="İptal edildi"),"",G13-TODAY())
E14: =IF(D14="","",IF(C14="Yıllık",D14/12,IF(C14="Üç aylık",D14/3,D14))) | F14: =IF(E14="","",E14*12) | J14: =IF(OR(G14="",I14="İptal edildi"),"",G14-TODAY())
E15: =IF(D15="","",IF(C15="Yıllık",D15/12,IF(C15="Üç aylık",D15/3,D15))) | F15: =IF(E15="","",E15*12) | J15: =IF(OR(G15="",I15="İptal edildi"),"",G15-TODAY())
E16: =IF(D16="","",IF(C16="Yıllık",D16/12,IF(C16="Üç aylık",D16/3,D16))) | F16: =IF(E16="","",E16*12) | J16: =IF(OR(G16="",I16="İptal edildi"),"",G16-TODAY())
E17: =IF(D17="","",IF(C17="Yıllık",D17/12,IF(C17="Üç aylık",D17/3,D17))) | F17: =IF(E17="","",E17*12) | J17: =IF(OR(G17="",I17="İptal edildi"),"",G17-TODAY())
E18: =IF(D18="","",IF(C18="Yıllık",D18/12,IF(C18="Üç aylık",D18/3,D18))) | F18: =IF(E18="","",E18*12) | J18: =IF(OR(G18="",I18="İptal edildi"),"",G18-TODAY())
E19: =IF(D19="","",IF(C19="Yıllık",D19/12,IF(C19="Üç aylık",D19/3,D19))) | F19: =IF(E19="","",E19*12) | J19: =IF(OR(G19="",I19="İptal edildi"),"",G19-TODAY())
E20: =IF(D20="","",IF(C20="Yıllık",D20/12,IF(C20="Üç aylık",D20/3,D20))) | F20: =IF(E20="","",E20*12) | J20: =IF(OR(G20="",I20="İptal edildi"),"",G20-TODAY())
E21: =IF(D21="","",IF(C21="Yıllık",D21/12,IF(C21="Üç aylık",D21/3,D21))) | F21: =IF(E21="","",E21*12) | J21: =IF(OR(G21="",I21="İptal edildi"),"",G21-TODAY())
E22: =IF(D22="","",IF(C22="Yıllık",D22/12,IF(C22="Üç aylık",D22/3,D22))) | F22: =IF(E22="","",E22*12) | J22: =IF(OR(G22="",I22="İptal edildi"),"",G22-TODAY())
... E61: =IF(D61="","",IF(C61="Yıllık",D61/12,IF(C61="Üç aylık",D61/3,D61))) | F61: =IF(E61="","",E61*12) | J61: =IF(OR(G61="",I61="İptal edildi"),"",G61-TODAY())

Sheet Özet
A1: Kategori | B1: Aylık tutar | C1: Yıllık tutar
A2: Dijital yayın | B2: =SUMIFS(Abonelikler!$E:$E,Abonelikler!$B:$B,$A2,Abonelikler!$I:$I,"Aktif") | C2: =B2*12 | E2: Aktif abonelik | F2: =COUNTIF(Abonelikler!$I:$I,"Aktif")
A3: Müzik | B3: =SUMIFS(Abonelikler!$E:$E,Abonelikler!$B:$B,$A3,Abonelikler!$I:$I,"Aktif") | C3: =B3*12 | E3: Aylık toplam | F3: =SUMIFS(Abonelikler!$E:$E,Abonelikler!$I:$I,"Aktif")
A4: Bulut depolama | B4: =SUMIFS(Abonelikler!$E:$E,Abonelikler!$B:$B,$A4,Abonelikler!$I:$I,"Aktif") | C4: =B4*12 | E4: Yıllık toplam | F4: =F3*12
A5: Yazılım | B5: =SUMIFS(Abonelikler!$E:$E,Abonelikler!$B:$B,$A5,Abonelikler!$I:$I,"Aktif") | C5: =B5*12 | E5: Deneme sürümünde | F5: =COUNTIF(Abonelikler!$I:$I,"Deneme")
A6: Spor | B6: =SUMIFS(Abonelikler!$E:$E,Abonelikler!$B:$B,$A6,Abonelikler!$I:$I,"Aktif") | C6: =B6*12 | E6: Deneme bitince eklenecek | F6: =SUMIFS(Abonelikler!$E:$E,Abonelikler!$I:$I,"Deneme")
A7: Haber ve dergi | B7: =SUMIFS(Abonelikler!$E:$E,Abonelikler!$B:$B,$A7,Abonelikler!$I:$I,"Aktif") | C7: =B7*12 | E7: 7 gün içinde yenilenecek | F7: =COUNTIFS(Abonelikler!$J:$J,">=0",Abonelikler!$J:$J,"<=7")
A8: Oyun | B8: =SUMIFS(Abonelikler!$E:$E,Abonelikler!$B:$B,$A8,Abonelikler!$I:$I,"Aktif") | C8: =B8*12
A9: Diğer | B9: =SUMIFS(Abonelikler!$E:$E,Abonelikler!$B:$B,$A9,Abonelikler!$I:$I,"Aktif") | C9: =B9*12
A10: Toplam | B10: =SUM(B2:B9) | C10: =SUM(C2:C9)
